{"text_format":"1","workbook":"xlsx","n_sheets":16,"sheets":["Interactive Sawing","Batch Sawing","BatchProcess","InteractiveProcess","Grade Yield Lookup","Batch Summaries","LogScale","Master","Patterns","Costs","USFS-TCF-Converter","Cost Lookup","Width_Distribution","Operation Costs","About","Disclaimer"],"not_rendered":{"charts":3,"images":12,"macros":1,"external_links":0,"defined_names":5,"comments":4,"pivot_tables":0},"unopened":[],"bounds":{"document_bytes":16777216,"sheet_cells":100000,"rows_first":2000,"rows_last":500,"rows_between":2000,"halvings":0,"cell_chars":16384,"cell_head_chars":4096},"cells_cut":0,"cells_raw":0,"read":"whole","date_system":"1904"}

{"sheet":"Interactive Sawing","index":0,"n_rows":55,"n_cols":31,"rows_kept":55,"cut":false,"hidden":false,"merged":[[16,1,16,2],[17,1,17,2],[28,1,41,3],[11,1,11,2],[5,5,5,10],[11,5,11,7],[13,1,13,2],[14,1,14,2],[22,9,22,10],[23,9,23,10],[1,6,1,7],[3,6,3,7],[27,1,27,3],[24,1,24,2],[25,1,25,2],[18,1,18,2],[6,1,6,2],[5,1,5,3],[7,1,7,2],[8,1,8,2],[9,1,9,2],[10,1,10,2],[19,1,19,2],[12,1,12,2],[26,2,26,3],[15,1,15,2],[46,12,46,14],[47,24,47,30],[41,5,42,10],[38,5,40,10],[2,0,2,7],[20,5,20,10],[28,5,28,6],[33,5,33,10],[34,5,36,10],[37,5,37,10],[16,0,19,0],[20,0,23,0],[20,1,20,2],[21,1,21,2],[22,1,22,2],[23,1,23,2]]}
[]
[]
["LORCAT: LOg ReCovery Analysis Tool: version 3.00"]
[]
[]
[null,"Input Variables",null,null,null,"Projected Sawing Results"]
[null,"Species",null,"ROAK"]
[null,"Log Grade",null,"Factory-2",null,"Boards Sawn",null,{"$f":"InteractiveProcess!G3","v":26},"Cant",{"$f":"IF(K8>0,InteractiveProcess!G5, 0)","v":0},{"$f":"InteractiveProcess!G6","v":0}]
[null,"Small End Diameter",null,20,{"$f":"D9/2","v":10},"Board Feet",null,{"$f":"InteractiveProcess!G4","v":300.8557230334365},"Volume",null,{"$f":"IF(K8>1,J8/12*D11*K8,0)","v":0}]
[null,"Large End Diameter",null,23.5," "]
[null,"Log Length",null,16]
[null,"Opening Face Width",null,6,{"$f":"D12/2","v":3},"Grade Recovery",null,null,"Total BDFT",null,{"$f":"H9+K9","v":300.8557230334365}]
[null,"Opening Face Length",null,8," ","FAS",null,{"$f":"'Grade Yield Lookup'!L10","v":40.6462475853642}]
[null,"Cant Height",null,6,null,{"$f":"IF(D7=\"YPOP\",\"SAP\",\"F1F\")","v":"F1F"},null,{"$f":"'Grade Yield Lookup'!M10","v":30.612661547296483}," ","LRF",{"$f":"$K$12/(((3.145926*POWER(($D$9/24),2) + 3.145926*POWER(($D$10/24),2))/2)*$D$11)","v":7.2308822542693978}]
[null,"Cant Width",null,0,null,"Selects",null,{"$f":"'Grade Yield Lookup'!N10","v":5.0250016469786924}]
[null,"Green Allowance",null,0.125,null,"1 Com.",null,{"$f":"'Grade Yield Lookup'!O10","v":114.72141297669883},null,"Int 1/4",{"$f":"LogScale!J5","v":290}]
["Headrig","Thickness",null,1,null,"2 Com.",null,{"$f":"'Grade Yield Lookup'!P10","v":62.876823014519253},null,"Doyle",{"$f":"LogScale!K5","v":256}]
[null,"Sawing Variation",null,0.03,null,"3A Com.",null,{"$f":"'Grade Yield Lookup'!Q10","v":29.054811181685327},null,"Scribner",{"$f":"LogScale!L5","v":270}]
[null,"Saw Kerf",null,0.125,99,"3B Com.",null,{"$f":"'Grade Yield Lookup'!R10","v":17.91876508089376}]
[null,"Target Thickness",null,{"$f":"D17+(D17*D16)+1.97*D18","v":1.1840999999999999},{"$f":"D20+D19","v":1.3090999999999999}]
["Resaw","Thickness",null,1,null,"Processing Cost / Product Value Analysis"]
[null,"Sawing Variation",null,0.03]
[null,"Saw Kerf",null,0.125,null,"Log Cost",null,{"$f":"(IF(Costs!D4=\"International 1/4\",K16*'Cost Lookup'!C6,IF(Costs!D4=\"Doyle\",'Interactive Sawing'!K17*'Cost Lookup'!C6,IF(Costs!D4=\"Scribner\",'Interactive Sawing'!K18*'Cost Lookup'!C6,0))))","v":58.580000000000005},null,"Lumber Value "]
[null,"Target Thickness",null,{"$f":"D21+D21*D16+1.97*D22","v":1.1840999999999999},{"$f":"D24+D23","v":1.3090999999999999},"Cost to Process",null,{"$f":"IF(Costs!N1=1,InteractiveProcess!I14,InteractiveProcess!I15)","v":61.976278944887916},null,"by NHLA Grade"]
[null,"Full / Split Taper",null,"SPLIT",null,"Total Costs",null,{"$f":"SUM(H23:H24)","v":120.55627894488792},null,"FAS",{"$f":"H13*'Cost Lookup'!C8","v":38.004241492315529}]
[null,"Sawing Method",null,"GRADE",null,null,null,null,null,"F1F",{"$f":"H14*'Cost Lookup'!C9","v":28.163648623512767}]
[null," ",{"$f":"IF(OR(D14=0,D26=\"LIVE\"),\"Livesaw\", IF(D26=\"Grade\",(IF($D$15=0,\"Grade_Saw_With_Cant_Resaw\", \"Grade_saw_With_Cant\")), IF(D26=\"Slab\",IF($D$15=0,\"Slab_Saw_With_Cant_Resaw\", \"Slab_Saw_With_Cant\"), \"Livesaw\")))","v":"Grade_Saw_With_Cant_Resaw"},null,null,"Lumber Value",null,{"$f":"SUM(K25:K31)","v":195.86392695171799},null,"Selects",{"$f":"H15*'Cost Lookup'!C10","v":4.4521514592231215}]
[null,"Sawing Pattern",null,null,null,"Cant Value",null,{"$f":"K9*'Cost Lookup'!C7","v":0},null,"1 Com.",{"$f":"H16*'Cost Lookup'!C11","v":73.765868544017351}]
[null,null,null,null,null,"Total Product Value",null,{"$f":"SUM(H27:H28)","v":195.86392695171799},null,"2 Com.",{"$f":"H17*'Cost Lookup'!C12","v":30.809643277114432}]
[null,null,null,null,null,null,null,null,null,"3A Com.",{"$f":"H18*'Cost Lookup'!C13","v":12.784116919941544}]
[null,null,null,null,null,"Profit/Loss",null,{"$f":"H29-(H23+H24)","v":75.307648006830064},null,"3B Com.",{"$f":"H19*'Cost Lookup'!C14","v":7.8842566355932542}]
[]
[]
[null,null,null,null,null,"LORCAT Status"]
[null,null,null,null,null,{"$f":"IF(H27=0,\"Warning: No lumber values by NHLA grade. The log species/diameter/length combination is not included in the Forest Service log recovery prediction data\",\" \")","v":" "}]
[]
[]
[null,null,null,null,null,{"$f":"IF(D10<D9,\"Warning: Log LED is less than the SED.\",IF(D10-D9>6,\"Warning: Current log has excessive taper!\",\" \"))","v":" "}]
[null,null,null,null,null,{"$f":"IF(AND(D26<>\"LIVE\",D14=0),\"Warning: Zero inch cant height. Set sawing method to LIVE to perform live or flitch sawing.\",IF(AND(D26=\"LIVE\",D14<>0),\"WARNING: To use live sawing method, also set the cant height to 0. \", \" \"))","v":" "}]
[]
[]
[null,null,null,null,null,{"$f":"IF(ROUND(D17*4,0)/4 <> D17,\"Warning: Non-standard thickness. Market values will be estimated using prices of nearest standard 1/4 thickness.\", \" \")","v":" "}]
[]
[null,null,null,null," ",null,null,null,null," ",null,null,null,null," "]
[null,"Saved Interactive Sawing Results"]
[null,null,null,null,null,null,null,null,null,null,null,null,null,null,null,null,"Total"]
[null,null,null,null,null,"Small","Large",null,"Opening","Opening",null,null,"------- Headrig -------",null,null,null,"Number",null,null,"Total"]
[null,null,"Log","Sawing","Taper","End","End","Log","Face","Face","Cant","Cant",null,"Sawing","Saw","Green","Boards",null,"Total","Recovery","Profit /",null,null,"Total","------------------- Lumber Recovery by NHLA Grade -------------------"]
[null,"Species","Grade","Method","Method","Diameter","Diameter","Length","Width","Length","Height","Width","Thickness","Variation","Kerf","Allowance","Sawn","LRF","Costs","Value","Loss","Lumber","Cant","Recovery","FAS","F1F","Selects","1 Com.","2 Com.","3A Com","3B Com"]
[null,null,null,null,null,"(inch)","(inch)","(feet)","(inch)","(feet)","(inch)","(inch)","(inch)","(inch)","(inch)","(inch)",null,null,"($)","($)","($)","(bdft)","(bdft)","(bdft)","(bdft)","(bdft)","(bdft)","(bdft)","(bdft)","(bdft)","(bdft)"]
[null,"ROAK","Factory-2","SPLIT","GRADE",20,23.5,16,6,8,6,0,1,0.03,0.125,0.125,26,7.2308822542693978,169.3235,234.46440000000001,65.140900000000002,300.8557230334365,0,300.8557230334365,32.191562364577706,35.200119594912074,3.6102686764012382,97.778109985866863,65.28569189825572,34.899263871878638,31.89070664154427]
[null,"WOAK","2-Clear-Face","SPLIT","GRADE",22,26,16,6,8,6,0,1,0.03,0.125,0.125,30,7.3440342533061926,205.4171,252.35740000000001,46.940300000000001,372.22770042701643,0,372.22770042701643,30.522671435015347,23.450345126902036,6.7000986076862956,150.00776327208763,62.534253671738767,16.378018818788721,20.100295823058886]
[null,"WOAK","3-Clear-Face","SPLIT","GRADE",22,26,16,6,8,6,0,1,0.03,0.125,0.125,30,7.3440342533061926,249.7921,328.14659999999998,78.354600000000005,372.22770042701643,0,372.22770042701643,52.856333460636328,72.212173882841185,11.911286413664525,150.00776327208763,62.534253671738767,16.378018818788721,6.32787090725928]
[null,"ROAK","Factory-2","SPLIT","GRADE",20,23.5,16,6,8,6,0,1,0.03,0.125,0.125,26,7.2308822542693978,132.69990000000001,146.99420000000001,14.2943,300.8557230334365,0,300.8557230334365,40.6462475853642,30.612661547296483,5.0250016469786924,114.72141297669883,62.876823014519253,29.054811181685327,17.91876508089376]
[null,"ROAK","Factory-2","SPLIT","GRADE",20,23.5,16,6,8,6,0,1,0.03,0.125,0.125,26,7.2308822542693978,132.69990000000001,143.01480000000001,10.3149,300.8557230334365,0,300.8557230334365,32.191562364577706,35.200119594912074,3.6102686764012382,97.778109985866863,65.28569189825572,34.899263871878638,31.89070664154427]

{"sheet":"Batch Sawing","index":1,"n_rows":149,"n_cols":59,"rows_kept":149,"cut":false,"hidden":false,"merged":[[21,12,21,14],[21,15,21,17],[12,0,12,2],[13,0,13,2],[14,0,14,2],[15,0,15,2],[13,5,13,8],[19,0,19,9],[3,5,3,9],[8,4,11,4],[12,4,15,4],[18,0,18,2],[11,0,11,2],[7,0,7,2],[9,0,9,2],[10,0,10,2],[17,0,17,2],[8,0,8,2],[3,0,3,3],[16,0,16,2]]}
["Batch Sawing Input Variables",null,null,null,null,null,null,null,null,null,null,null,null,null,null,null,null,null,"Batch Sawing Output"]
[]
[]
["Processing Setup",null,null,null,null,"Log Size Distribution Setup"]
["Opening Face Width",null,null,6,null,"Number of Samples",null,null,null,125]
["Opening Face Length",null,null,8,null,"Mean Small End Diameter",null,null,null,17]
["Cant Height",null,null,6,null,"Small End Diameter Std Deviation",null,null,null,2.5]
["Cant Width",null,null,0,null,"Mean Taper",null,null,null,2]
["Lumber Thickness",null,null,1,"   Headrig","Taper Std Deviation",null,null,null,1]
["Kerf Thickness",null,null,0.13,null,"Log Length",null,null,null,16]
["Sawing Variation",null,null,3.5000000000000003E-2,null,"Log Grade",null,null,null,"Factory-2"]
["Target Thickness",null,null,{"$f":"D9+(D10*D9)+1.97*D11","v":1.19895},null,"Species",null,null,null,"ROAK"]
["Lumber Thickness",null,null,1,"    Resaw","SED Under 8\" Protection",null,null,null,"YES"]
["Kerf Thickness",null,null,0.13,null,"Profit Loss Analysis uses",null,null,null,"Clear Face Grades"]
["Sawing Variation",null,null,3.5000000000000003E-2]
["Target Thickness",null,null,{"$f":"D13+(D14*D9)+1.97*D15","v":1.19895},null,"SED Range",null,{"$f":"J6-2*J7","v":12},"to",{"$f":"J6+2*J7","v":22}]
["Green Allowance",null,null,0.125,null,"LED Range",null,{"$f":"H16+J8-2*J9","v":12},"to",{"$f":"J16+J8+2*J9","v":26}]
["Sawing Method",null,null,"GRADE",null,"Taper Range",null,{"$f":"J8-2*J9","v":0},"to",{"$f":"J8+2*J9","v":4}]
["Split or Full Taper?",null,null,"SPLIT"]
[{"$f":"IF(AND(OR(D18=\"GRADE\",D18=\"SLAB\"),D7=0),\"Warning!: A cant height of 0 will override the sawing method and force live-sawing to be performed.\",\"No warnings or errors.                                                                                                                                       Check out the 'About' tab for more information about LORCAT and how to contact the authors.\")","v":"No warnings or errors.                                                                                                                                       Check out the 'About' tab for more information about LORCAT and how to contact the authors."}]
[null,null,null,null,null,null,null,null,null,null,null,null,null,null,null,null,null,null,null,null,null,null,null,null,null,null,null,null,"Revenue Cost Analysis",null,null,null,null,null,null,"Over-run Analysis",null,null,null,null,null,"LRF Statistics",null,"Board Width Distribution Summary"]
["Small","Large"," "," ",null,"Opening","Opening",null,"Split or",null,null,null,"--------- Headrig ---------",null,null,"--------- Resaw --------",null,null,null,"Total",null,null,null,null,null,null,null,null,"Total",null,"Total"," "," ",null,null,null,null,null,null,null,null,null,"Log"]
["End","End","Log","Log",null,"Face","Face","Sawing","Full","Cant","Cant","Green","Lumber","Kerf","Sawing","Lumber","Kerf","Sawing","Board ","Recovery","Cant","FAS","F1F","Selects","1C","2AC","3AC","3BC","Product","Cant","Lumber","Total","Log","Processing","Profit","Int 1/4","Int 1/4","Scribner","Scriber","Doyle","Doyle","Log","Recovery",{"$f":"SUM(AR25:AR1997)","v":0},{"$f":"SUM(AS25:AS1997)","v":0},8,1003,339,362,282,202,78,49,110,89,31,0,0,0]
["Diameter","Diameter","Length","Grade","Species","Width","Length","Method","Taper","Height","Width","Allowance","Thickness","Thickness","Variation","Thickness","Thickness","Variation","Count","BDFT","BDFT","BDFT","BDFT","BDFT","BDFT","BDFT","BDFT","BDFT","Value","Value","Value","Costs","Cost","Cost","Loss","Volume","Over-run","Volume","Over-run","Volume","Over-run","Cubic Feet","Factor",{"$f":"BatchProcess!S68","v":"< 4"},{"$f":"BatchProcess!S69","v":"4<= wid <5"},{"$f":"BatchProcess!S70","v":"5<= wid <6"},{"$f":"BatchProcess!S71","v":"6<= wid <7"},{"$f":"BatchProcess!S72","v":"7<= wid <8"},{"$f":"BatchProcess!S73","v":"8<= wid <9"},{"$f":"BatchProcess!S74","v":"9<= wid <10"},{"$f":"BatchProcess!S75","v":"10<= wid <11"},{"$f":"BatchProcess!S76","v":"11<= wid <12"},{"$f":"BatchProcess!S77","v":"12<= wid <13"},{"$f":"BatchProcess!S78","v":"13<= wid <14"},{"$f":"BatchProcess!S79","v":"14<= wid <15"},{"$f":"BatchProcess!S80","v":"15<= wid <16"},{"$f":"BatchProcess!S81","v":"16<= wid <17"},{"$f":"BatchProcess!S82","v":"17<= wid <18"},{"$f":"BatchProcess!S83","v":"18<= wid <30"}]
[21.34788884046932,24.025282547639893,16,"Factory-2","ROAK",6,8,"GRADE","SPLIT",6,0,0.125,1,0.13,3.5000000000000003E-2,1,0.13,3.5000000000000003E-2,27,335.57551885957253,0,48.157710100343316,35.087634819506661,5.4255837651235019,130.77601326095908,67.450317587427634,29.442322087150675,19.23593723906167,220.67321644183622,0,220.67321644183622,133.76855688507192,64.64,69.12855688507193,86.904659556764301,320,4.8673496436164143E-2,300,0.11858506286524176,289,0.16116096491201565,45.132964415966441,7.4352642952222707,0,0,0,4,6,2,6,0,2,2,1,4,0,0,0,0]
[15.731893084508725,15.929473649704207,16,"Factory-2","ROAK",6,8,"GRADE","SPLIT",6,0,0.125,1,0.13,3.5000000000000003E-2,1,0.13,3.5000000000000003E-2,17,157.7777858839701,0,14.067324752217891,13.071202797947201,4.1773443484854162,51.26428201731914,41.521314314990505,24.172029693857894,9.5042879591520428,97.005539428999157,0,97.005539428999157,63.81222389209784,31.310000000000002,32.502223892097838,33.193315536901316,155,1.7921199251419981E-2,140,0.1269841848855007,121,0.30394864366917435,21.900913983154496,7.2041644474439686,0,0,0,10,0,2,1,4,0,0,0,0,0,0,0,0]
[13.783570786547317,16.7722993022997,16,"Factory-2","ROAK",6,8,"GRADE","SPLIT",6,0,0.125,1,0.13,3.5000000000000003E-2,1,0.13,3.5000000000000003E-2,16,129.500786331038,0,8.97173562251613,9.472016078957294,4.3557626683993718,38.332223579694606,37.695225147146445,23.474194600824774,7.1996286334993682,77.576795630843165,0,77.576795630843165,49.907161984193827,23.23,26.677161984193827,27.669633646649338,115,0.12609379418293915,100,0.29500786331037998,81,0.59877513988935804,20.592569532101841,6.2887142922673487,0,0,0,9,6,1,0,0,0,0,0,0,0,0,0,0]
[18.837104031874759,21.41958958076069,16,"Factory-2","ROAK",6,8,"GRADE","SPLIT",6,0,0.125,1,0.13,3.5000000000000003E-2,1,0.13,3.5000000000000003E-2,23,261.3050851965657,0,30.692705278214071,24.862285822568055,5.0157896550977359,94.487270920911598,59.543230495533557,30.51746227444972,16.186340749790958,166.49614350193283,0,166.49614350193283,100.28884755049253,46.46,53.828847550492533,66.207295951440301,230,0.13610906607202478,220,0.18775038725711682,196,0.33318921018655967,35.550506444833083,7.3502493024130695,0,0,0,4,6,6,2,0,1,0,4,0,0,0,0,0]
[13.473328565322788,13.83849319482886,16,"Factory-2","ROAK",6,8,"GRADE","SPLIT",6,0,0.125,1,0.13,3.5000000000000003E-2,1,0.13,3.5000000000000003E-2,13,112.79045242788152,0,7.8140538648173665,8.2497798601683456,3.7937101075307718,33.385965928179303,32.831163571849991,20.445165658214869,6.2706134371208595,67.566554034204884,0,67.566554034204884,46.464833200143588,23.23,23.234833200143591,21.101720834061297,115,-1.9213457148856358E-2,100,0.12790452427881518,81,0.39247472133187061,16.299150814164996,6.920020172453369,0,0,0,9,0,0,4,0,0,0,0,0,0,0,0,0]
[20.576002535714203,21.442111715583035,16,"Factory-2","ROAK",6,8,"GRADE","SPLIT",6,0,0.125,1,0.13,3.5000000000000003E-2,1,0.13,3.5000000000000003E-2,25,299.94664856870173,0,40.523429693138048,30.520161432525118,5.0098179548206714,114.37476739507625,62.686832564446298,28.967018313207884,17.864621215487514,195.27209877321698,0,195.27209877321698,120.36900960515256,58.580000000000005,61.78900960515255,74.903089168064426,290,3.4298788167937008E-2,270,0.11091351321741383,256,0.17166659597149114,38.587230758173263,7.7732100146929888,0,0,0,10,0,2,2,6,0,1,0,4,0,0,0,0]
[16.897689124290647,18.045808432622728,16,"Factory-2","ROAK",6,8,"GRADE","SPLIT",6,0,0.125,1,0.13,3.5000000000000003E-2,1,0.13,3.5000000000000003E-2,19,188.92907558696231,0,18.668833057778656,16.485114723515927,4.4552384374323104,63.86959080719997,47.325697022613539,26.503139563274527,11.62146197514739,117.60156881723859,0,117.60156881723859,75.279389570914233,36.36,38.919389570914234,42.322179246324353,180,4.9605975483123961E-2,170,0.11134750345271949,144,0.31200746935390494,26.704677836044233,7.0747558441599381,0,0,0,4,6,2,6,0,1,0,0,0,0,0,0,0]
[18.007639916256021,20.437771627602164,16,"Factory-2","ROAK",6,8,"GRADE","SPLIT",6,0,0.125,1,0.13,3.5000000000000003E-2,1,0.13,3.5000000000000003E-2,22,237.12405988613614,0,27.852419630425214,22.561543905133092,4.551631307354632,85.743472123680959,54.033133504523448,27.693393515460844,14.688465899557936,151.08868422083785,0,151.08868422083785,95.307556336544053,46.46,48.847556336544045,55.781127884293795,230,3.0974173417983208E-2,220,7.7836635846073352E-2,196,0.20981663207212314,32.419536628811841,7.3142334698084364,0,0,0,9,2,6,0,1,0,0,4,0,0,0,0,0]
[20.349911580990952,20.68243783867397,16,"Factory-2","ROAK",6,8,"GRADE","SPLIT",6,0,0.125,1,0.13,3.5000000000000003E-2,1,0.13,3.5000000000000003E-2,24,275.53882354542486,0,37.225880658958296,28.036617230641451,4.6021495890521962,105.06764786905961,57.585761264608095,26.609859405753401,16.410907527351849,179.38204885424602,0,179.38204885424602,115.34099765035752,58.580000000000005,56.760997650357517,64.0410512038885,290,-4.9866125705431509E-2,270,2.051416127935134E-2,256,7.6323529474315865E-2,36.784706965787443,7.4905809036808906,0,0,0,9,2,0,2,2,6,2,0,1,0,0,0,0]
[21.609210491376849,23.346240321603101,16,"Factory-2","ROAK",6,8,"GRADE","SPLIT",6,0,0.125,1,0.13,3.5000000000000003E-2,1,0.13,3.5000000000000003E-2,27,337.17918132286388,0,48.387848199416943,35.255313090785037,5.4515117739816583,131.40097119674121,67.772652014025979,29.58302229950155,19.327862748411537,221.7277789291839,0,221.7277789291839,134.09891135250996,64.64,69.458911352509958,87.62886757667394,320,5.3684941633949636E-2,300,0.12393060440954627,289,0.16670996997530754,44.217952429189587,7.6253911092518578,0,0,0,4,6,2,2,4,2,2,1,0,4,0,0,0]
[22.31816008249476,23.760691686307609,16,"Factory-2","ROAK",6,8,"GRADE","SPLIT",6,0,0.125,1,0.13,3.5000000000000003E-2,1,0.13,3.5000000000000003E-2,28,353.8487103246689,0,53.649591873002016,37.873395226650153,5.6989923688868194,140.51441688368234,68.639281315206034,28.223625787201208,19.249406870040318,234.92735151845372,0,234.92735151845372,144.6028343268818,71.710000000000008,72.892834326881783,90.324517191571914,355,-3.2430695079749289E-3,330,7.2268819165663328E-2,324,9.2125649150212652E-2,46.431715373342207,7.6208407869381389,0,0,0,9,2,0,2,6,2,2,0,1,4,0,0,0]
[13.949040162975294,16.242981770422169,16,"Factory-2","ROAK",6,8,"GRADE","SPLIT",6,0,0.125,1,0.13,3.5000000000000003E-2,1,0.13,3.5000000000000003E-2,15,129.58324020453446,0,8.9774479766648643,9.4780469644650811,4.3585360068030692,38.356629920408238,37.71922590740251,23.489140751553929,7.2042126772367601,77.62618920963466,0,77.62618920963466,49.924147482134103,23.23,26.694147482134099,27.702041727500557,115,0.12681078438725618,100,0.29583240204534461,81,0.59979308894486993,20.029506923067181,6.469617085545857,0,0,0,4,6,5,0,0,0,0,0,0,0,0,0,0]
[17.786456932559389,20.380735449728569,16,"Factory-2","ROAK",6,8,"GRADE","SPLIT",6,0,0.125,1,0.13,3.5000000000000003E-2,1,0.13,3.5000000000000003E-2,22,233.65078890529202,0,25.293497648165872,21.3459960499654,4.9424011012674329,81.847125340988924,55.777587038392156,29.938824139247778,14.505357587264495,147.18086324545965,0,147.18086324545965,89.542062514490155,41.410000000000004,48.132062514490151,57.638800730969493,205,0.13975994587947327,190,0.22974099423837904,169,0.38254904677687585,31.971889851379011,7.3080068144678094,0,0,0,9,2,6,0,1,0,0,4,0,0,0,0,0]
[22.668815239325816,25.152037291736033,16,"Factory-2","ROAK",6,8,"GRADE","SPLIT",6,0,0.125,1,0.13,3.5000000000000003E-2,1,0.13,3.5000000000000003E-2,29,377.98504986178887,0,57.309078901474066,40.456773659131159,6.0877257761915917,150.09903193753729,73.321228574212938,30.148784746643123,20.562426266598713,250.9519579600119,0,250.9519579600119,149.57492027152853,71.710000000000008,77.864920271528504,101.37703768848337,355,6.4746619328982721E-2,330,0.1454092420054208,324,0.16662052426478044,50.094509386269053,7.5454387016193616,0,0,0,4,6,2,6,0,2,2,2,0,5,0,0,0]
[17.37372218292343,19.982654534159327,16,"Factory-2","ROAK",6,8,"GRADE","SPLIT",6,0,0.125,1,0.13,3.5000000000000003E-2,1,0.13,3.5000000000000003E-2,21,225.9394710494532,0,24.458721095667354,20.64150127268697,4.7792840579161719,79.145875317190047,53.936725704689998,28.950735075866191,14.026628525436507,142.3233644794592,0,142.3233644794592,87.953531036187371,41.410000000000004,46.54353103618736,54.36983344327183,205,0.10214376121684489,190,0.1891551107865958,169,0.33691994703818462,30.635757274333372,7.3750248451911196,0,0,0,4,6,6,1,0,0,0,4,0,0,0,0,0]
[18.976863207173363,19.744089140791278,16,"Factory-2","ROAK",6,8,"GRADE","SPLIT",6,0,0.125,1,0.13,3.5000000000000003E-2,1,0.13,3.5000000000000003E-2,22,237.69366520296802,0,27.919325056706043,22.615739904351692,4.5625649654329079,85.94943999395413,54.162928684919912,27.759916938664286,14.723749658939038,151.451620474066,0,151.451620474066,95.424895031811417,46.46,48.964895031811409,56.026725442254588,230,3.3450718273774001E-2,220,8.0425750922581904E-2,196,0.21272278164779601,32.767895008687638,7.2538582395954672,0,0,0,9,2,0,2,6,2,0,1,0,0,0,0,0]
[13.729858206486764,17.404093416858519,16,"Factory-2","ROAK",6,8,"GRADE","SPLIT",6,0,0.125,1,0.13,3.5000000000000003E-2,1,0.13,3.5000000000000003E-2,16,129.72256620552929,0,8.9871003971766044,9.4882376216728783,4.3632222408489332,38.397870406832361,37.75978106637217,23.514395931487329,7.2119585411390004,77.709651750762475,0,77.709651750762475,49.952848638339034,23.23,26.722848638339034,27.756803112423441,115,0.12802231483068949,100,0.29722566205529288,81,0.60151316303122582,21.471446289703405,6.0416314977225136,0,0,0,9,6,0,1,0,0,0,0,0,0,0,0,0]
[19.76804502771606,22.839284451137416,16,"Factory-2","ROAK",6,8,"GRADE","SPLIT",6,0,0.125,1,0.13,3.5000000000000003E-2,1,0.13,3.5000000000000003E-2,25,291.47082390410276,0,36.846064044432097,28.742781847157417,5.1623013604407237,108.41056251169999,63.52717466500858,30.972426221839683,17.809513253524312,187.76858883631678,0,187.76858883631678,112.56298972424517,52.52,60.042989724245167,75.20559911207161,260,0.12104163040039523,240,0.21446176626709482,225,0.2954258840182345,39.866245567191669,7.3112182940038783,0,0,0,4,6,6,2,0,2,1,0,4,0,0,0,0]
[14.143162032486289,15.54186993129731,16,"Factory-2","ROAK",6,8,"GRADE","SPLIT",6,0,0.125,1,0.13,3.5000000000000003E-2,1,0.13,3.5000000000000003E-2,15,130.57249893262542,0,10.355403184155355,10.202658235072098,3.8949870268075784,40.592883113013194,36.129663065768881,21.789248254866148,7.6076560529421569,79.259102698532985,0,79.259102698532985,54.167934780120838,27.270000000000003,26.897934780120835,25.091167918412147,135,-3.2796304202774657E-2,120,8.8104157771878508E-2,100,0.30572498932625419,19.294084456398064,6.7674887205817429,0,0,0,10,0,5,0,0,0,0,0,0,0,0,0,0]
[20.35783165553595,24.035283074474613,16,"Factory-2","ROAK",6,8,"GRADE","SPLIT",6,0,0.125,1,0.13,3.5000000000000003E-2,1,0.13,3.5000000000000003E-2,27,316.52114485951188,0,42.762679367521329,32.206649029143321,5.2866512166892079,120.69490521624533,66.150790834291982,30.567682097514595,18.851787098106154,206.06247330235288,0,206.06247330235288,123.78335584105946,58.580000000000005,65.203355841059448,82.279117461293424,290,9.1452223653489234E-2,270,0.17230053651671065,256,0.23641072210746827,43.349817850560129,7.3015565128936766,0,0,0,10,4,2,2,2,0,2,1,4,0,0,0,0]
[16.394958558528479,21.562931509064029,16,"Factory-2","ROAK",6,8,"GRADE","SPLIT",6,0,0.125,1,0.13,3.5000000000000003E-2,1,0.13,3.5000000000000003E-2,22,214.88460380595279,0,21.233601988878192,18.749879207596429,5.0673097484565268,72.644147933366597,53.827414456722479,30.144204257468616,13.218046213463955,133.75795357988139,0,133.75795357988139,80.626228384026263,36.36,44.26622838402627,53.131725195855125,180,0.19380335447751551,170,0.26402708121148699,144,0.49225419309689439,32.060249025547222,6.7025244761736538,0,0,0,13,2,2,0,1,0,4,0,0,0,0,0,0]
[15.743640882951423,17.193299509649151,16,"Factory-2","ROAK",6,8,"GRADE","SPLIT",6,0,0.125,1,0.13,3.5000000000000003E-2,1,0.13,3.5000000000000003E-2,18,162.51230548446338,0,14.489450239609756,13.463437138809448,4.3026960802587251,52.802595834162169,42.767265862359366,24.897372287101263,9.7894880421626471,99.916434807647533,0,99.916434807647533,64.787534929799449,31.310000000000002,33.477534929799454,35.128899877848085,155,4.8466486996537952E-2,140,0.16080218203188132,121,0.34307690483027586,23.746138767568549,6.8437360311570181,0,0,0,9,2,2,4,1,0,0,0,0,0,0,0,0]
[12.946160099704905,14.480972260446789,16,"Factory-2","ROAK",6,8,"GRADE","SPLIT",6,0,0.125,1,0.13,3.5000000000000003E-2,1,0.13,3.5000000000000003E-2,13,108.73119480228763,0,6.4253998708024147,7.3796810636005414,4.1188472687402458,30.476923723685715,33.300907167698917,21.349101487834435,5.6803342199253706,64.253412315733314,0,64.253412315733314,41.588626129271248,19.190000000000001,22.39862612927125,22.664786186462067,95,0.14453889265565928,90,0.2081243866920848,64,0.69892491878574425,16.485596845135746,6.5955267391104471,0,0,0,4,5,4,0,0,0,0,0,0,0,0,0,0]
[19.060060976911323,21.647904027458306,16,"Factory-2","ROAK",6,8,"GRADE","SPLIT",6,0,0.125,1,0.13,3.5000000000000003E-2,1,0.13,3.5000000000000003E-2,24,266.63196828322532,0,33.706078872885847,26.293350377890313,4.7223751391952176,99.171921491176491,58.113451609058487,28.332986661996568,16.291804131022438,171.76713522332784,0,171.76713522332784,107.44618546634442,52.52,54.926185466344414,64.320949756983424,260,2.5507570320097383E-2,240,0.11096653451343882,225,0.18503097014766809,36.349325528611004,7.335265906745807,0,0,0,9,2,6,0,2,1,0,0,4,0,0,0,0]
[15.914481501257418,15.804877040953073,16,"Factory-2","ROAK",6,8,"GRADE","SPLIT",6,0,0.125,1,0.13,3.5000000000000003E-2,1,0.13,3.5000000000000003E-2,17,159.00800112553117,0,14.177009630993503,13.173120775927929,4.2099156807421316,51.663996721971984,41.845061751511849,24.360502356104018,9.5783942082797413,97.76190505076778,0,97.76190505076778,64.065648231859427,31.310000000000002,32.755648231859418,33.696256818908353,155,2.5858071777620426E-2,140,0.13577143661093691,121,0.31411571178124931,21.980622526694479,7.2340080874608121,0,0,0,10,0,2,1,4,0,0,0,0,0,0,0,0]
[16.031247946903484,17.720031206571928,16,"Factory-2","ROAK",6,8,"GRADE","SPLIT",6,0,0.125,1,0.13,3.5000000000000003E-2,1,0.13,3.5000000000000003E-2,18,167.71885977476853,0,16.572967310872794,14.634405191972149,3.9550688978358259,56.699239707727891,42.012654314954197,23.527751534241389,10.316772817164289,104.39897071677807,0,104.39897071677807,70.910085113602321,36.36,34.550085113602314,33.488885603175746,180,-6.8228556806841492E-2,170,-1.3418471913126281E-2,144,0.16471430399144815,24.948959123581439,6.7224792402759119,0,0,0,9,2,0,6,1,0,0,0,0,0,0,0,0]
[18.016493318372941,19.782616388027684,16,"Factory-2","ROAK",6,8,"GRADE","SPLIT",6,0,0.125,1,0.13,3.5000000000000003E-2,1,0.13,3.5000000000000003E-2,22,223.21008453400211,0,26.21809420422797,21.237676702653292,4.2845504980392679,80.712213134997285,50.862575071349184,26.068399430187089,13.826575492548001,142.22309618542474,0,142.22309618542474,92.441277414004432,46.46,45.981277414004431,49.781818771420305,230,-2.9521371591295188E-2,220,1.4591293336373212E-2,196,0.13882696190817401,31.28212438287774,7.1353876674749133,0,0,0,9,2,2,6,0,2,1,0,0,0,0,0,0]
[15.876805888427311,17.209955452627597,16,"Factory-2","ROAK",6,8,"GRADE","SPLIT",6,0,0.125,1,0.13,3.5000000000000003E-2,1,0.13,3.5000000000000003E-2,18,164.1997262607033,0,14.639899150525915,13.603232605250598,4.347372443307238,53.350863222187648,43.211332991577592,25.155890207610678,9.8911356402436237,100.95390127813806,0,100.95390127813806,65.135143609704883,31.310000000000002,33.825143609704881,35.818757668433179,155,5.9353072649698718E-2,140,0.17285518757645216,121,0.35702253108019255,23.955157395121553,6.8544624254542548,0,0,0,9,2,2,4,1,0,0,0,0,0,0,0,0]
[19.738692021426665,21.871959842069796,16,"Factory-2","ROAK",6,8,"GRADE","SPLIT",6,0,0.125,1,0.13,3.5000000000000003E-2,1,0.13,3.5000000000000003E-2,25,287.51329755486489,0,36.345776340268877,28.352518715544814,5.0922087749016223,106.93858788340269,62.664616744933106,30.551889472291517,17.567699623522316,185.21910848721873,0,185.21910848721873,111.74773929630217,52.52,59.227739296302161,73.471369190916562,260,0.10582037521101881,240,0.19797207314527038,225,0.27783687802162171,37.925824061127123,7.580937386923063,0,0,0,10,0,2,6,2,1,0,0,4,0,0,0,0]
[19.637858951282134,19.710804467436596,16,"Factory-2","ROAK",6,8,"GRADE","SPLIT",6,0,0.125,1,0.13,3.5000000000000003E-2,1,0.13,3.5000000000000003E-2,23,256.61508156578736,0,32.439801704650392,25.305556176568349,4.5449639416140011,95.446209568769092,55.930233050251211,27.268566969237035,15.679750154697325,165.31415081043374,0,165.31415081043374,105.38270680255221,52.52,52.862706802552196,59.931444007881538,260,-1.3018917054663987E-2,240,6.9229506524114012E-2,225,0.14051147362572161,33.825752988448279,7.5863819396252063,0,0,0,10,0,2,2,2,4,2,1,0,0,0,0,0]
[18.432593407671387,20.991744648135359,16,"Factory-2","ROAK",6,8,"GRADE","SPLIT",6,0,0.125,1,0.13,3.5000000000000003E-2,1,0.13,3.5000000000000003E-2,23,253.79424286360981,0,29.810487199897167,24.147654843573822,4.8716179286027428,91.77136895587941,57.831745179775602,29.640281306567303,15.721087449313755,161.71044910204199,0,161.71044910204199,98.741614029903616,46.46,52.281614029903615,62.968835072138376,230,0.10345322984178178,220,0.15361019483459004,196,0.29486858603882554,34.098947219223582,7.442876204709659,0,0,0,10,0,6,2,1,0,0,4,0,0,0,0,0]
[16.814672932191709,17.776242104943073,16,"Factory-2","ROAK",6,8,"GRADE","SPLIT",6,0,0.125,1,0.13,3.5000000000000003E-2,1,0.13,3.5000000000000003E-2,19,186.80554160864401,0,18.45899822314254,16.299824549713389,4.405162237281516,63.15170635326399,46.793763410156629,26.205248319060924,11.490838516025027,116.27974513016933,0,116.27974513016933,74.841941571380659,36.36,38.481941571380666,41.437803558788673,180,3.7808564492466702E-2,170,9.8856127109670622E-2,144,0.29726070561558338,26.160472375548238,7.1407556762334332,0,0,0,10,0,2,6,1,0,0,0,0,0,0,0,0]
[18.212793604084379,18.484375025738565,16,"Factory-2","ROAK",6,8,"GRADE","SPLIT",6,0,0.125,1,0.13,3.5000000000000003E-2,1,0.13,3.5000000000000003E-2,21,218.61919169318259,0,25.678851269781671,20.800868938642981,4.1964276327635206,79.052157666528018,49.81645463172751,25.532235356034612,13.54219619770427,139.29791027619501,0,139.29791027619501,91.495553488795608,46.46,45.035553488795607,47.802356787399404,230,-4.9481775247032234E-2,220,-6.2764013946246099E-3,196,0.11540403925093157,29.422184259184203,7.4304201811576958,0,0,0,10,0,2,2,6,0,1,0,0,0,0,0,0]
[11.569440967084887,12.586687954213248,16,"Factory-2","ROAK",6,8,"GRADE","SPLIT",6,0,0.125,1,0.13,3.5000000000000003E-2,1,0.13,3.5000000000000003E-2,10,69.849258879517052,0,3.4067675445586914,4.3540589722503116,2.9725363448758104,18.426837456061154,22.507389921234669,14.813824906655547,3.3678437338808638,40.70174085768096,0,40.70174085768096,30.548947329180514,16.16,14.388947329180512,10.152793528500446,80,-0.12688426400603686,70,-2.1534445783278297E-3,49,0.4254950791738174,12.770566671513587,5.4695504652369831,0,0,0,9,1,0,0,0,0,0,0,0,0,0,0,0]
[21.265879483559424,23.399219056476728,16,"Factory-2","ROAK",6,8,"GRADE","SPLIT",6,0,0.125,1,0.13,3.5000000000000003E-2,1,0.13,3.5000000000000003E-2,27,331.05563081282776,0,47.509070834341827,34.615037230301709,5.3525062316671459,129.01458280516206,66.541824961837364,29.045761574863096,18.976847174654587,217.70095482805155,0,217.70095482805155,132.83745994744251,64.64,68.19745994744251,84.863494880609039,320,3.454884629008674E-2,300,0.10351876937609253,289,0.14552121388521716,43.682977551879773,7.5785958138877305,0,0,0,10,0,2,6,2,0,2,1,4,0,0,0,0]
[18.847170947519981,20.272073982481444,16,"Factory-2","ROAK",6,8,"GRADE","SPLIT",6,0,0.125,1,0.13,3.5000000000000003E-2,1,0.13,3.5000000000000003E-2,23,247.5440145303325,0,29.076339925225817,23.552966978386053,4.7516438737829967,89.511301887534074,56.407514242906963,28.910325717589757,15.333921904906838,157.72798196898037,0,157.72798196898037,97.454066993248489,46.46,50.994066993248495,60.273914975731884,230,7.6278324044923934E-2,220,0.12520006604696593,196,0.26297966597108419,33.476708974099637,7.39451463767998,0,0,0,10,0,2,2,6,2,0,1,0,0,0,0,0]
[18.25207305558963,19.758909605950404,16,"Factory-2","ROAK",6,8,"GRADE","SPLIT",6,0,0.125,1,0.13,3.5000000000000003E-2,1,0.13,3.5000000000000003E-2,22,226.70422003505493,0,26.62851281914044,21.570131754052728,4.3516209443970446,81.975683868733668,51.658778923889251,26.476474719862303,14.043017004979486,144.44945961559247,0,144.44945961559247,93.161069327221313,46.46,46.701069327221312,51.288390288371161,230,-1.4329478108456823E-2,220,3.0473727432067867E-2,196,0.15665418385232108,31.61448871191168,7.1708962969765668,0,0,0,9,2,2,4,2,2,1,0,0,0,0,0,0]
[19.601937043814207,20.847833728149066,16,"Factory-2","ROAK",6,8,"GRADE","SPLIT",6,0,0.125,1,0.13,3.5000000000000003E-2,1,0.13,3.5000000000000003E-2,24,272.79571288650044,0,34.485263991189555,26.901175079246425,4.8315425224848916,101.46448378152553,59.456863188845261,28.987961737779838,16.668422585428988,175.73788471585755,0,175.73788471585755,108.71591685461908,52.52,56.195916854619085,67.021967861238466,260,4.9214280332693996E-2,240,0.13664880369375182,225,0.21242539060666862,35.779145395340585,7.6244334478158287,0,0,0,9,2,2,0,6,1,0,0,4,0,0,0,0]
[17.352335860566495,20.579999822511915,16,"Factory-2","ROAK",6,8,"GRADE","SPLIT",6,0,0.125,1,0.13,3.5000000000000003E-2,1,0.13,3.5000000000000003E-2,22,227.3362048441783,0,24.609922309742061,20.769104839551623,4.8088290839679555,79.63514670591708,54.270156810014967,29.129705442906417,14.113339652078226,143.20319239099717,0,143.20319239099717,88.24125819790072,41.410000000000004,46.831258197900723,54.961934193096454,205,0.10895709680086975,190,0.19650634128514893,169,0.34518464404839228,31.661995378441876,7.1800972151921831,0,0,0,9,2,6,0,1,0,0,4,0,0,0,0,0]
[19.557625087556435,20.995225903993958,16,"Factory-2","ROAK",6,8,"GRADE","SPLIT",6,0,0.125,1,0.13,3.5000000000000003E-2,1,0.13,3.5000000000000003E-2,24,272.62267149092133,0,34.463389093872408,26.884110966217758,4.8284777497579148,101.40012222800443,59.419148158524258,28.969573921853321,16.657849372691278,175.62640961785991,0,175.62640961785991,108.68027032712979,52.52,56.160270327129794,66.946139290730116,260,4.8548736503543591E-2,240,0.13592779787883888,225,0.21165631773742816,35.972799109644619,7.5785782101629353,0,0,0,9,2,2,0,6,1,0,0,4,0,0,0,0]
[16.838441742442686,17.414766209676188,16,"Factory-2","ROAK",6,8,"GRADE","SPLIT",6,0,0.125,1,0.13,3.5000000000000003E-2,1,0.13,3.5000000000000003E-2,19,185.66235064849184,0,18.346034979544712,16.200074767577178,4.3782040346270454,62.765237840608826,46.507400345863488,26.044880469537198,11.420518210733396,115.56814978702852,0,115.56814978702852,74.606444233589315,36.36,38.246444233589315,40.961705553439202,180,3.1457503602732431E-2,170,9.2131474402893168E-2,144,0.28932187950341554,25.639611599706363,7.2412310118854579,0,0,0,10,0,2,2,5,0,0,0,0,0,0,0,0]
[18.388843221832936,20.829143243849678,16,"Factory-2","ROAK",6,8,"GRADE","SPLIT",6,0,0.125,1,0.13,3.5000000000000003E-2,1,0.13,3.5000000000000003E-2,23,252.68045567343302,0,29.67966256651879,24.041681798897482,4.8502386191940996,91.368626269462453,57.57794802409537,29.510203629233096,15.652094766031713,161.00077568827436,0,161.00077568827436,98.512173868727203,46.46,52.052173868727202,62.488601819547156,230,9.8610676841013115E-2,220,0.14854752578833189,196,0.2891859983338419,33.731438405120123,7.4909481368300748,0,0,0,10,0,2,6,1,0,0,4,0,0,0,0,0]
[17.963451467133176,20.892607715086029,16,"Factory-2","ROAK",6,8,"GRADE","SPLIT",6,0,0.125,1,0.13,3.5000000000000003E-2,1,0.13,3.5000000000000003E-2,22,237.28677685831343,0,25.687105789483915,21.678174618017987,5.0193129360076627,83.120800311758643,56.645577407568283,30.40472114908863,14.731084646388355,149.47123790322595,0,149.47123790322595,90.291076032812569,41.410000000000004,48.881076032812565,59.180161870413386,205,0.15749647247957771,190,0.24887777293849175,169,0.40406376839238717,33.171458440459205,7.1533416983829365,0,0,0,9,2,4,2,1,0,0,4,0,0,0,0,0]
[20.214080570959009,20.686764361543645,16,"Factory-2","ROAK",6,8,"GRADE","SPLIT",6,0,0.125,1,0.13,3.5000000000000003E-2,1,0.13,3.5000000000000003E-2,24,273.31166441314787,0,36.924986726844281,27.80999940851417,4.5649507676539018,104.21839414703426,57.120299982457958,26.394773957461354,16.278259423181986,177.93211754100432,0,177.93211754100432,114.88220286910845,58.580000000000005,56.302202869108456,63.049914671895863,290,-5.7545984782248739E-2,270,1.2265423752399505E-2,256,6.7623689113858854E-2,36.551783337682323,7.477382481948089,0,0,0,9,2,2,0,2,6,2,0,1,0,0,0,0]
[19.395456281929128,21.266842769930111,16,"Factory-2","ROAK",6,8,"GRADE","SPLIT",6,0,0.125,1,0.13,3.5000000000000003E-2,1,0.13,3.5000000000000003E-2,24,270.94018719873895,0,34.250699112922895,26.718196318831378,4.7986789148895896,100.77433380057472,59.052444307795895,28.7907888897495,16.555045853975017,174.54253543432827,0,174.54253543432827,108.33367856294022,52.52,55.813678562940218,66.208856871388051,260,4.2077643072072901E-2,240,0.1289174466614123,225,0.20417860977217314,36.198349593166419,7.4848768036067437,0,0,0,9,2,2,4,2,1,0,0,4,0,0,0,0]
[18.85015010411032,20.77059460651455,16,"Factory-2","ROAK",6,8,"GRADE","SPLIT",6,0,0.125,1,0.13,3.5000000000000003E-2,1,0.13,3.5000000000000003E-2,23,259.80527988816806,0,30.516539237393541,24.719584473195013,4.9870006709688486,93.944945040048665,59.201471921990425,30.342302070875366,16.093436473696187,165.54051035891885,0,165.54051035891885,99.979887656962617,46.46,53.519887656962617,65.560622701956234,230,0.12958817342681764,220,0.18093309040076391,196,0.32553714228657171,34.375610269890643,7.5578376019619258,0,0,0,10,0,2,6,1,0,0,4,0,0,0,0,0]
[19.330699242095502,20.013630391250722,16,"Factory-2","ROAK",6,8,"GRADE","SPLIT",6,0,0.125,1,0.13,3.5000000000000003E-2,1,0.13,3.5000000000000003E-2,23,253.68276140786327,0,32.069114666783449,25.016391595783535,4.4930289995922239,94.355553311902923,55.291122718894478,26.956971220017216,15.50057889488949,163.42511913757292,0,163.42511913757292,104.77864885001983,52.52,52.258648850019831,58.646470287553086,260,-2.42970715082182E-2,240,5.7011505866096948E-2,225,0.12747893959050341,33.828375366034223,7.4991115790495932,0,0,0,10,0,2,2,6,0,2,1,0,0,0,0,0]
[14.978804603003237,16.391126698886101,16,"Factory-2","ROAK",6,8,"GRADE","SPLIT",6,0,0.125,1,0.13,3.5000000000000003E-2,1,0.13,3.5000000000000003E-2,16,141.81423679851133,0,11.246959438676477,11.081063797893448,4.2303288752391586,44.087758028538147,39.240273682003846,23.665210032256265,8.2626429439039768,86.082974978728785,0,86.082974978728785,56.483732780493341,27.270000000000003,29.213732780493334,29.599242198235444,135,5.0475828137120968E-2,120,0.1817853066542611,100,0.41814236798511328,21.542323467716081,6.583052056155319,0,0,0,9,2,0,5,0,0,0,0,0,0,0,0,0]
[15.411437443966488,17.220196181550723,16,"Factory-2","ROAK",6,8,"GRADE","SPLIT",6,0,0.125,1,0.13,3.5000000000000003E-2,1,0.13,3.5000000000000003E-2,17,157.70206883610786,0,14.060573888681622,13.064929970106931,4.1753396544773258,51.239680454599885,41.501388370880711,24.160429615183933,9.4997268821774377,96.958986785160903,0,96.958986785160903,63.796626180238221,31.310000000000002,32.486626180238218,33.162360604922682,155,1.7432702168437779E-2,140,0.12644334882934183,121,0.30332288294304011,23.334362586003465,6.7583619760284988,0,0,0,4,6,6,1,0,0,0,0,0,0,0,0,0]
[17.215208685118384,19.485874392319179,16,"Factory-2","ROAK",6,8,"GRADE","SPLIT",6,0,0.125,1,0.13,3.5000000000000003E-2,1,0.13,3.5000000000000003E-2,21,209.08637684497995,0,22.634315962595249,19.101827111928198,4.422791568649572,73.242290226809146,49.913521104095821,26.791265270718561,12.980365600183433,131.70729523786613,0,131.70729523786613,84.48179363006588,41.410000000000004,43.071793630065869,47.225501607800254,205,1.993354558526806E-2,190,0.1004546149735787,169,0.23719749612414173,29.539489720386541,7.0781986697854151,0,0,0,10,0,6,2,2,0,1,0,0,0,0,0,0]
[17.755400804295853,19.963685304793998,16,"Factory-2","ROAK",6,8,"GRADE","SPLIT",6,0,0.125,1,0.13,3.5000000000000003E-2,1,0.13,3.5000000000000003E-2,21,231.41987524065144,0,25.05199360790894,21.142183024140206,4.8952107185402367,81.065643407243883,55.245018833989185,29.652966204898615,14.366859443930414,145.7755703272278,0,145.7755703272278,89.082494299574194,41.410000000000004,47.67249429957419,56.693076027653603,205,0.12887744019829969,190,0.21799934337184967,169,0.36934837420503808,31.1884914018719,7.4200406893281752,0,0,0,4,6,2,5,0,0,0,4,0,0,0,0,0]
[17.8223214452806,20.921477997649397,16,"Factory-2","ROAK",6,8,"GRADE","SPLIT",6,0,0.125,1,0.13,3.5000000000000003E-2,1,0.13,3.5000000000000003E-2,22,235.1551490512295,0,25.456349783147054,21.483432203651674,4.9742227410608173,82.374097896910584,56.136710923101688,30.131585199727535,14.598750303630188,148.12848694469264,0,148.12848694469264,89.851960704553278,41.410000000000004,48.441960704553274,58.276526240139361,205,0.14709828805477804,190,0.23765867921699738,169,0.39145058610194972,33.003533173156669,7.1251507472688491,0,0,0,9,2,4,2,1,0,0,4,0,0,0,0,0]
[16.827741311182724,18.554776209596429,16,"Factory-2","ROAK",6,8,"GRADE","SPLIT",6,0,0.125,1,0.13,3.5000000000000003E-2,1,0.13,3.5000000000000003E-2,20,190.89913150944719,0,18.863502115556528,16.657013081632631,4.5016953887643236,64.535590284757845,47.819185224021744,26.779500768657332,11.742644646056791,118.82785792293673,0,118.82785792293673,75.685221090946115,36.36,39.325221090946116,43.142636831990615,180,6.0550730608039928E-2,170,0.12293606770263052,144,0.32568841326004994,27.415547795319185,6.9631704219326416,0,0,0,9,2,2,4,2,1,0,0,0,0,0,0,0]
[15.934981170740215,18.156672927877175,16,"Factory-2","ROAK",6,8,"GRADE","SPLIT",6,0,0.125,1,0.13,3.5000000000000003E-2,1,0.13,3.5000000000000003E-2,19,176.72075740365869,0,15.756262967737289,14.640545534900543,4.6788808263739101,57.419127129326903,46.506408193208088,27.074149707131181,10.645383044980775,108.65212934886857,0,108.65212934886857,67.714476025153687,31.310000000000002,36.404476025153691,40.937653323714883,155,0.1401339187332819,140,0.26229112431184781,121,0.46050212730296441,25.498970979795523,6.9305054523057397,0,0,0,10,0,6,2,1,0,0,0,0,0,0,0,0]
[12.129322425367725,15.012149063600981,16,"Factory-2","ROAK",6,8,"GRADE","SPLIT",6,0,0.125,1,0.13,3.5000000000000003E-2,1,0.13,3.5000000000000003E-2,13,101.89885652155505,0,6.0216472440964868,6.9159643029954747,3.8600314071296387,28.561846334763985,31.208379229983251,20.007588745149963,5.3233992574362539,60.21592289578588,0,60.21592289578588,40.181164443440338,19.190000000000001,20.99116444344034,20.034758452345542,95,7.2619542332158379E-2,90,0.1322095169061672,64,0.5921696331492976,16.275145890218951,6.261010328810281,0,0,0,9,4,0,0,0,0,0,0,0,0,0,0,0]
[13.697620805966894,15.743815999268465,16,"Factory-2","ROAK",6,8,"GRADE","SPLIT",6,0,0.125,1,0.13,3.5000000000000003E-2,1,0.13,3.5000000000000003E-2,15,126.41570259591701,0,8.7580028998894388,9.2463652271601742,4.2519957883437147,37.419039012657009,36.797215727374194,22.914971309524091,7.0281126309683728,75.728691714225008,0,75.728691714225008,49.271634734758905,23.23,26.041634734758905,26.457056979466103,115,9.9266979094930527E-2,100,0.26415702595917012,81,0.56068768636934585,19.028157790304547,6.6436122713008947,0,0,0,10,0,5,0,0,0,0,0,0,0,0,0,0]
[19.788094257524627,22.129051435137004,16,"Factory-2","ROAK",6,8,"GRADE","SPLIT",6,0,0.125,1,0.13,3.5000000000000003E-2,1,0.13,3.5000000000000003E-2,25,289.35066307541155,0,36.578045514714162,28.533706649291268,5.1247507439374855,107.6219833154189,63.065077548466689,30.747132575067415,17.67996672851568,186.40275879687394,0,186.40275879687394,112.12623659353477,52.52,59.606236593534774,74.276522203339169,260,0.1128871656746598,240,0.20562776281421477,225,0.2860029470018291,38.505417308091005,7.5145442720500348,0,0,0,10,0,2,6,2,0,1,0,4,0,0,0,0]
[19.417884043778262,22.889985523775263,16,"Factory-2","ROAK",6,8,"GRADE","SPLIT",6,0,0.125,1,0.13,3.5000000000000003E-2,1,0.13,3.5000000000000003E-2,25,285.38012723313227,0,36.0761132253147,28.142160613903176,5.0544277445177537,106.14516989591868,62.199684159901864,30.325213403916937,17.437358189659207,183.84489759470404,0,183.84489759470404,111.30830621002525,52.52,58.788306210025247,72.536591384678786,260,9.7615873973585662E-2,240,0.18908386347138445,225,0.26835612103614342,39.3680156347286,7.2490351020228569,0,0,0,4,6,6,2,0,2,1,0,4,0,0,0,0]
[22.921618746338133,24.778303888404462,16,"Factory-2","ROAK",6,8,"GRADE","SPLIT",6,0,0.125,1,0.13,3.5000000000000003E-2,1,0.13,3.5000000000000003E-2,29,380.85186863488525,0,57.743738270472079,40.763617113038443,6.1338979900054191,151.23745453583706,73.877331718027492,30.37744749965233,20.718381507852435,252.85529721771036,0,252.85529721771036,150.16548493878636,71.710000000000008,78.455484938786356,102.68981227892399,355,7.2822165168690847E-2,330,0.1540965716208644,324,0.1754687303545841,49.782747475585666,7.6502782178035007,0,0,0,4,6,2,2,4,2,2,2,0,5,0,0,0]
[13.995305564433815,15.169900498422081,16,"Factory-2","ROAK",6,8,"GRADE","SPLIT",6,0,0.125,1,0.13,3.5000000000000003E-2,1,0.13,3.5000000000000003E-2,15,128.50015794844344,0,8.902412697463955,9.3988275802807806,4.3221065040058626,38.036037649334666,37.403961184670514,23.292813884602023,7.1439984480856351,76.977374223929615,0,76.977374223929615,49.701032537379348,23.23,26.471032537379347,27.276341686550268,115,0.11739267781255169,100,0.28500157948443444,81,0.58642170306720298,18.613153393637788,6.9037285209483326,0,0,0,10,1,0,4,0,0,0,0,0,0,0,0,0]
[13.064408266610556,15.970493586834165,16,"Factory-2","ROAK",6,8,"GRADE","SPLIT",6,0,0.125,1,0.13,3.5000000000000003E-2,1,0.13,3.5000000000000003E-2,14,111.5016367928398,0,7.7247655023961403,8.1555126146651364,3.7503607566224777,33.004476591511207,32.45601376069849,20.211546157679809,6.1989614092665377,66.79449550114019,0,66.79449550114019,46.199337179324999,23.23,22.969337179324999,20.595158321815191,115,-3.0420549627479965E-2,100,0.11501636792839803,81,0.37656341719555314,18.601835478738408,5.9941201458471314,0,0,0,9,5,0,0,0,0,0,0,0,0,0,0,0]
[17.111049412352536,19.539141293397755,16,"Factory-2","ROAK",6,8,"GRADE","SPLIT",6,0,0.125,1,0.13,3.5000000000000003E-2,1,0.13,3.5000000000000003E-2,21,207.78439475493977,0,22.493371944872568,18.982879922914474,4.3952508197148301,72.786210057705006,49.602709316599224,26.624435905370415,12.899536787763278,130.88715314102129,0,130.88715314102129,84.213585319517591,41.410000000000004,42.803585319517587,46.673567821503696,205,1.3582413438730578E-2,190,9.3602077657577734E-2,169,0.22949346008840099,29.474095687380014,7.0497292591713761,0,0,0,10,0,6,2,2,0,1,0,0,0,0,0,0]
[20.411445243965211,23.186263402451715,16,"Factory-2","ROAK",6,8,"GRADE","SPLIT",6,0,0.125,1,0.13,3.5000000000000003E-2,1,0.13,3.5000000000000003E-2,26,305.41371421715803,0,41.262041881306054,31.076446114982172,5.1011308725562605,116.45945267113986,63.829412521778671,29.494994176629042,18.190235978766005,198.83128300947791,0,198.83128300947791,121.49522512873455,58.580000000000005,62.915225128734548,77.336057880743368,290,5.3150738679855279E-2,270,0.1311619045079927,256,0.19302232116077356,41.693564944859133,7.3252002946036381,0,0,0,9,2,0,6,2,2,0,1,4,0,0,0,0]
[15.569308569126461,17.958948293010604,16,"Factory-2","ROAK",6,8,"GRADE","SPLIT",6,0,0.125,1,0.13,3.5000000000000003E-2,1,0.13,3.5000000000000003E-2,18,162.68111634250585,0,14.504501263101302,13.477422383611852,4.3071655376025193,52.85744492071634,42.811690675759387,24.923234616518464,9.7996569451959736,100.02022374253551,0,100.02022374253551,64.822309966556205,31.310000000000002,33.512309966556202,35.197913775979302,155,4.9555589306489324E-2,140,0.16200797387504176,121,0.34447203588847808,24.683599234960106,6.5906562002552613,0,0,0,9,2,4,2,1,0,0,0,0,0,0,0,0]
[16.075685989654048,18.090332402683092,16,"Factory-2","ROAK",6,8,"GRADE","SPLIT",6,0,0.125,1,0.13,3.5000000000000003E-2,1,0.13,3.5000000000000003E-2,19,178.33989066519734,0,17.622473597710357,15.561149326863836,4.2055291561162607,60.289798200722132,44.673164289009989,25.017679239229906,10.970096855544869,111.01018125327306,0,111.01018125327306,73.098017477030652,36.36,36.738017477030652,37.912163776242409,180,-9.222829637792529E-3,170,4.905818038351379E-2,144,0.23847146295275934,25.590701365008542,6.9689332903181187,0,0,0,10,0,6,2,1,0,0,0,0,0,0,0,0]
[14.942832956733088,17.960800691552684,16,"Factory-2","ROAK",6,8,"GRADE","SPLIT",6,0,0.125,1,0.13,3.5000000000000003E-2,1,0.13,3.5000000000000003E-2,18,154.81229130141639,0,12.277805107462067,12.096704219100433,4.6180617751714514,48.128643448103048,42.836860509546902,25.834256643979749,9.0199595980527327,93.972952923153869,0,93.972952923153869,59.161332008091776,27.270000000000003,31.891332008091776,34.811620915062093,135,0.14675771334382515,120,0.29010242751180326,100,0.54812291301416394,23.851301916818482,6.4907270823758356,0,0,0,9,6,2,0,1,0,0,0,0,0,0,0,0]
[14.365021237717626,15.747512845309686,16,"Factory-2","ROAK",6,8,"GRADE","SPLIT",6,0,0.125,1,0.13,3.5000000000000003E-2,1,0.13,3.5000000000000003E-2,15,133.09684502075845,0,10.555603239547196,10.399905286440488,3.9702884520297763,41.377661581144146,36.828154512062625,22.210497783252002,7.7547341662822058,80.791411626381688,0,80.791411626381688,54.687950074276245,27.270000000000003,27.417950074276238,26.103461552105443,135,-1.409744429067814E-2,120,0.10914037517298709,100,0.33096845020758453,19.851579365558493,6.7045972801375635,0,0,0,4,6,1,4,0,0,0,0,0,0,0,0,0]
[18.833160668103595,21.887493064512242,16,"Factory-2","ROAK",6,8,"GRADE","SPLIT",6,0,0.125,1,0.13,3.5000000000000003E-2,1,0.13,3.5000000000000003E-2,24,263.51237211310195,0,30.951971594224499,25.072301629072765,5.0581588530544721,95.28542039713038,60.046201930407193,30.775248284062236,16.323069425150393,167.90256373646105,0,167.90256373646105,100.74354865529901,46.46,54.283548655299001,67.159015081162039,230,0.14570596570913891,220,0.19778350960500884,196,0.34445087812807118,36.429398965467612,7.2335086385282468,0,0,0,9,2,6,0,2,1,0,4,0,0,0,0,0]
[15.527795725656205,17.912999785073971,16,"Factory-2","ROAK",6,8,"GRADE","SPLIT",6,0,0.125,1,0.13,3.5000000000000003E-2,1,0.13,3.5000000000000003E-2,18,162.03327776274691,0,14.446740561001029,13.423751777138831,4.2900132825196842,52.646952806960314,42.641203372081989,24.823983804377676,9.7606321586673737,99.621917158751614,0,99.621917158751614,64.688855219125855,31.310000000000002,33.37885521912586,34.933061939625759,155,4.537598556610907E-2,140,0.15738055544819218,121,0.33911799803923065,24.55517590673989,6.5987422927918065,0,0,0,9,2,6,0,1,0,0,0,0,0,0,0,0]
[17.257485551332604,17.436191366933745,16,"Factory-2","ROAK",6,8,"GRADE","SPLIT",6,0,0.125,1,0.13,3.5000000000000003E-2,1,0.13,3.5000000000000003E-2,19,191.14444572888587,0,20.692040506926109,17.462678395472821,4.0432669776027517,66.957289042783273,45.63038716239781,24.492277439691076,11.866506204012065,120.40534790728091,0,120.40534790728091,80.785755820150484,41.410000000000004,39.375755820150488,39.619592087130428,205,-6.7588069615190871E-2,190,6.0233985730835269E-3,169,0.13103222324784539,26.296514788510208,7.2688128927413231,0,0,0,4,6,2,2,5,0,0,0,0,0,0,0,0]
[16.953987612871114,21.300039425356303,16,"Factory-2","ROAK",6,8,"GRADE","SPLIT",6,0,0.125,1,0.13,3.5000000000000003E-2,1,0.13,3.5000000000000003E-2,22,221.80905189945975,0,21.917834233562164,19.354075892854389,5.2305988939115204,74.985035194493406,55.561950718565804,31.11557202418588,13.643984941886583,138.06817399704065,0,138.06817399704065,82.052664691288697,36.36,45.692664691288705,56.015509305751948,180,0.23227251055255416,170,0.30475912882035144,144,0.54034063819069267,32.382474607589508,6.8496634240384511,0,0,0,13,2,2,0,1,0,0,4,0,0,0,0,0]
[19.245773134410364,21.42834508942093,16,"Factory-2","ROAK",6,8,"GRADE","SPLIT",6,0,0.125,1,0.13,3.5000000000000003E-2,1,0.13,3.5000000000000003E-2,24,269.02000774271806,0,34.00796107737726,26.528841863134772,4.7646702107409764,100.06013629647352,58.633933892046926,28.586745768940034,16.437718634004622,173.30553551117936,0,173.30553551117936,107.93812159499993,52.52,55.418121594999917,65.36741391617943,260,3.4692337471992553E-2,240,0.12091669892799194,225,0.19564447885652472,36.246911812140652,7.421873872648419,0,0,0,9,2,2,4,2,1,0,0,4,0,0,0,0]
[12.720998928453394,13.393560584616996,16,"Factory-2","ROAK",6,8,"GRADE","SPLIT",6,0,0.125,1,0.13,3.5000000000000003E-2,1,0.13,3.5000000000000003E-2,12,90.274853419271011,0,5.3347342733760428,6.1270330700301701,3.4197024517021806,25.303684253896801,27.648316738900785,17.725244452173033,4.7161381791920043,53.346855877360134,0,53.346855877360134,37.786619804369828,19.190000000000001,18.596619804369826,15.560236072990307,95,-4.9738385060305146E-2,90,3.0539268807890114E-3,64,0.41054458467610955,14.908686579099445,6.0551848709347569,0,0,0,9,2,1,0,0,0,0,0,0,0,0,0,0]
[16.987671657181714,19.873546273696384,16,"Factory-2","ROAK",6,8,"GRADE","SPLIT",6,0,0.125,1,0.13,3.5000000000000003E-2,1,0.13,3.5000000000000003E-2,21,220.17969680901598,0,21.756831179475153,19.211905581017202,5.1921761926697005,74.434213450497893,55.153806206594687,30.887004635995353,13.543759562765997,137.05395893140701,0,137.05395893140701,81.717017542657288,36.36,45.357017542657289,55.336941388749722,180,0.22322053782786655,170,0.29517468711185868,144,0.52902567228483321,29.866146899388013,7.3722163609102074,0,0,0,10,0,6,1,0,0,0,4,0,0,0,0,0]
[18.399935079852579,19.453897547350699,16,"Factory-2","ROAK",6,8,"GRADE","SPLIT",6,0,0.125,1,0.13,3.5000000000000003E-2,1,0.13,3.5000000000000003E-2,22,227.27727616985203,0,26.695823575989923,21.624656086807232,4.3626208414351888,82.18289954622702,51.789360437430922,26.543401159359863,14.078514522601871,144.81459463155309,0,144.81459463155309,93.279118890989508,46.46,46.819118890989515,51.535475740563584,230,-1.1837929696295522E-2,220,3.3078528044781952E-2,196,0.15957793964210221,31.328692742415917,7.2546045262252941,0,0,0,9,2,2,0,6,2,1,0,0,0,0,0,0]
[15.312510263845894,18.27609422736468,16,"Factory-2","ROAK",6,8,"GRADE","SPLIT",6,0,0.125,1,0.13,3.5000000000000003E-2,1,0.13,3.5000000000000003E-2,18,160.29177380048799,0,14.291469642112698,13.279475754144977,4.243905006288978,52.081113010468471,42.182903536064963,24.557180177670357,9.6557266737375436,98.551199057783336,0,98.551199057783336,64.330105402900529,31.310000000000002,33.020105402900526,34.221093654882807,155,3.4140476132180568E-2,140,0.14494124143205706,121,0.32472540330981808,24.839208867541807,6.4531754878049439,0,0,0,9,2,4,2,1,0,0,0,0,0,0,0,0]
[13.395888134427775,13.885152885832079,16,"Factory-2","ROAK",6,8,"GRADE","SPLIT",6,0,0.125,1,0.13,3.5000000000000003E-2,1,0.13,3.5000000000000003E-2,13,112.17869635031386,0,7.771671776268696,8.2050344685202337,3.7731336742879336,33.204886172558233,32.653092969096271,20.334274584732494,6.2366027048499788,67.200084628497365,0,67.200084628497365,46.338811448164655,23.23,23.108811448164655,20.861273180332709,115,-2.4533075214662116E-2,100,0.12178696350313857,81,0.38492217716436861,16.264755926351881,6.8970414839465155,0,0,0,9,0,0,4,0,0,0,0,0,0,0,0,0]
[19.90781493789726,21.311474445362574,16,"Factory-2","ROAK",6,8,"GRADE","SPLIT",6,0,0.125,1,0.13,3.5000000000000003E-2,1,0.13,3.5000000000000003E-2,24,279.46283557744806,0,35.328083270225065,27.558639351269719,4.9496253414672395,103.94427407950046,60.909987937414336,29.696427041069569,17.075798556501724,180.03291569875174,0,180.03291569875174,110.08934412895431,52.52,57.569344128954299,69.943571569797427,260,7.4857059913261775E-2,240,0.16442848157270026,225,0.24205704701088027,37.161252563178486,7.5202749181376083,0,0,0,9,2,0,2,6,1,0,0,4,0,0,0,0]
[11.648289657159708,14.11271016302943,16,"Factory-2","ROAK",6,8,"GRADE","SPLIT",6,0,0.125,1,0.13,3.5000000000000003E-2,1,0.13,3.5000000000000003E-2,12,89.55249240892536,0,4.3677560731074561,5.582261563190337,3.8110359756130068,23.624720546438354,28.856324281733411,18.992541421072165,4.3178525477706282,52.182977996583766,0,52.182977996583766,34.607813436238622,16.16,18.447813436238622,17.575164560345144,80,0.11940615511156701,70,0.27932132012750516,49,0.82760188589643591,14.630794754286416,6.1208221366572699,0,0,0,8,4,0,0,0,0,0,0,0,0,0,0,0]
[21.865390475797845,23.677439490454116,16,"Factory-2","ROAK",6,8,"GRADE","SPLIT",6,0,0.125,1,0.13,3.5000000000000003E-2,1,0.13,3.5000000000000003E-2,28,344.66779999232915,0,49.462523515905218,36.038319902693424,5.5725877333196037,134.3193357358245,69.277856294907807,30.240049735839989,19.757127073838625,226.65226678846909,0,226.65226678846909,135.6415667984198,64.64,71.001566798419802,91.010699990049289,320,7.7086874976028591E-2,300,0.14889266664109718,289,0.192622145302177,45.385070276243923,7.594299136135521,0,0,0,9,2,2,0,6,2,2,0,1,4,0,0,0]
[16.981870833600201,19.486898594148244,16,"Factory-2","ROAK",6,8,"GRADE","SPLIT",6,0,0.125,1,0.13,3.5000000000000003E-2,1,0.13,3.5000000000000003E-2,21,205.63431904168911,0,20.319544576251602,17.942740311212599,4.8491737939407678,69.516985526478877,51.510268867742255,28.846566044050974,12.649039922012042,127.99998331032972,0,127.99998331032972,78.720669722587957,36.36,42.360669722587957,49.279313587741768,180,0.1424128835649395,170,0.20961364142170064,144,0.42801610445617438,29.192583344841033,7.0440603564476651,0,0,0,10,2,4,2,2,1,0,0,0,0,0,0,0]
[19.186875615596747,21.277354851010038,16,"Factory-2","ROAK",6,8,"GRADE","SPLIT",6,0,0.125,1,0.13,3.5000000000000003E-2,1,0.13,3.5000000000000003E-2,24,267.54681666218073,0,33.821728739690442,26.383566225320013,4.738578212175284,99.512193035501298,58.312846292833157,28.430200762337154,16.347703394323428,172.35649022913853,0,172.35649022913853,107.63464423240923,52.52,55.114644232409226,64.7218459967293,260,2.902621793146435E-2,240,0.11477840275908638,225,0.18909696294302547,35.866266499207207,7.4595669629593209,0,0,0,9,2,2,4,2,1,0,0,4,0,0,0,0]
[17.433959289076419,19.476953697969229,16,"Factory-2","ROAK",6,8,"GRADE","SPLIT",6,0,0.125,1,0.13,3.5000000000000003E-2,1,0.13,3.5000000000000003E-2,21,212.27346884316881,0,22.979329580303826,19.392995198811018,4.4902079342244132,74.35871837785966,50.674350126592294,27.199643035229585,13.178224590148057,133.7149022043732,0,133.7149022043732,85.138334581692774,41.410000000000004,43.728334581692771,48.576567622680429,205,3.5480335820335676E-2,190,0.11722878338509903,169,0.25605602865780364,29.855478366146869,7.1100340862019387,0,0,0,10,0,2,6,2,0,1,0,0,0,0,0,0]
[16.808526840828975,18.577936142282081,16,"Factory-2","ROAK",6,8,"GRADE","SPLIT",6,0,0.125,1,0.13,3.5000000000000003E-2,1,0.13,3.5000000000000003E-2,20,190.73108483597508,0,18.846896755670979,16.642350072868698,4.4977325895148716,64.478780223956832,47.777090454173894,26.755927031124671,11.732307708665134,118.72325489995872,0,118.72325489995872,75.650603476210861,36.36,39.290603476210862,43.072651423747857,180,5.9617137977639345E-2,170,0.12194755785867695,144,0.32452142247204918,27.424884555943848,6.954672295772256,0,0,0,9,2,2,4,2,1,0,0,0,0,0,0,0]
[17.891575086623231,19.865877146894309,16,"Factory-2","ROAK",6,8,"GRADE","SPLIT",6,0,0.125,1,0.13,3.5000000000000003E-2,1,0.13,3.5000000000000003E-2,21,220.80591365156386,0,23.902995936002387,20.172506939515539,4.6706942266743336,77.347606551401626,52.711232540644147,28.292947131454664,13.707930325871192,139.08964370804026,0,139.08964370804026,86.896018212222145,41.410000000000004,45.486018212222149,52.193625495818111,205,7.7102017812506612E-2,190,0.16213638763980975,169,0.30654386776073289,31.23037351781387,7.0702296764275232,0,0,0,4,6,2,6,0,2,1,0,0,0,0,0,0]
[15.314995552156114,16.547244632927683,16,"Factory-2","ROAK",6,8,"GRADE","SPLIT",6,0,0.125,1,0.13,3.5000000000000003E-2,1,0.13,3.5000000000000003E-2,17,154.83413822237475,0,13.804871787880941,12.827334402058368,4.0994079656530404,50.307848365787095,40.746654440630429,23.721054049310158,9.3269672110547077,95.195714758801529,0,95.195714758801529,63.205832473809195,31.310000000000002,31.895832473809197,31.989882284992333,155,-1.0700759846790494E-3,140,0.10595813015981963,121,0.27962097704441941,22.212002498962107,6.9707419774335806,0,0,0,10,0,2,5,0,0,0,0,0,0,0,0,0]
[22.658053852834861,24.229154247362199,16,"Factory-2","ROAK",6,8,"GRADE","SPLIT",6,0,0.125,1,0.13,3.5000000000000003E-2,1,0.13,3.5000000000000003E-2,29,372.12223208243881,0,56.420174203194087,39.829260237659526,5.9933008063957907,147.77088887095726,72.183964011379388,29.681155586963268,20.24348836588949,247.05951406195655,0,247.05951406195655,148.3671798089824,71.710000000000008,76.657179808982391,98.692334252974149,355,4.8231639668841725E-2,330,0.12764312752254187,324,0.14852540766184819,48.081953722540703,7.7393326034501131,0,0,0,10,0,2,2,6,0,2,2,1,4,0,0,0]
[15.651465200228676,17.918303612623539,16,"Factory-2","ROAK",6,8,"GRADE","SPLIT",6,0,0.125,1,0.13,3.5000000000000003E-2,1,0.13,3.5000000000000003E-2,18,163.59221318074771,0,14.585733833532304,13.55290279091067,4.3312878511894999,53.153473445892033,43.051457877333981,25.062817382904591,9.8545399989846221,100.58038777177789,0,100.58038777177789,65.009995915234029,31.310000000000002,33.699995915234027,35.570391856543864,155,5.5433633424178744E-2,140,0.16851580843391217,121,0.35200176182436121,24.731957979332634,6.6146082456332103,0,0,0,9,2,4,2,1,0,0,0,0,0,0,0,0]
[17.207443965138701,20.286728390484821,16,"Factory-2","ROAK",6,8,"GRADE","SPLIT",6,0,0.125,1,0.13,3.5000000000000003E-2,1,0.13,3.5000000000000003E-2,21,223.87430693763872,0,24.235160011837976,20.452830884798015,4.7355997655225899,78.422454922586098,53.443725567455338,28.68611544649545,13.8984203389433,141.02248020620473,0,141.02248020620473,87.528107229153576,41.410000000000004,46.118107229153573,53.494372977051157,205,9.206978993970108E-2,190,0.17828582598757223,169,0.32470004105111672,30.919536048316637,7.2405454786837655,0,0,0,4,6,6,1,0,0,0,4,0,0,0,0,0]
[16.914039108529032,20.863045307681258,16,"Factory-2","ROAK",6,8,"GRADE","SPLIT",6,0,0.125,1,0.13,3.5000000000000003E-2,1,0.13,3.5000000000000003E-2,21,219.88929534939939,0,21.728135456741771,19.186566435293958,5.1853280792115122,74.336039983349437,55.081062234021694,30.846266859717744,13.525896301063284,136.87319444541333,0,136.87319444541333,81.657194841976263,36.36,45.297194841976271,55.215999603437069,180,0.22160719638555218,170,0.29346644323176113,144,0.52700899548194025,31.518306342791735,6.9765580979476791,0,0,0,4,10,2,1,0,0,0,4,0,0,0,0,0]
[19.536025105130925,22.921051637907926,16,"Factory-2","ROAK",6,8,"GRADE","SPLIT",6,0,0.125,1,0.13,3.5000000000000003E-2,1,0.13,3.5000000000000003E-2,25,287.58951844445926,0,36.355411746454308,28.360035078151753,5.0935587391854451,106.96693771754865,62.681229377722651,30.559988896610918,17.572356888785588,185.26821079079502,0,185.26821079079502,111.76344079955861,52.52,59.243440799558606,73.504769991236415,260,0.10611353247868946,240,0.19828966018524691,225,0.27817563753093005,39.631278392032684,7.2566298669354845,0,0,0,4,6,6,2,0,2,1,0,4,0,0,0,0]
[17.551933154631808,18.287274651691128,16,"Factory-2","ROAK",6,8,"GRADE","SPLIT",6,0,0.125,1,0.13,3.5000000000000003E-2,1,0.13,3.5000000000000003E-2,20,199.6889497652086,0,21.617012315324647,18.24329184969141,4.2240083581765759,69.950401525364981,47.670148379634981,25.587126744070055,12.396960592945989,125.78768573700697,0,125.78768573700697,82.545923651632975,41.410000000000004,41.135923651632972,43.241762085373992,205,-2.5907562120933633E-2,190,5.0994472448466339E-2,169,0.181591418729045,28.0727917639041,7.1132558330720776,0,0,0,9,2,2,0,6,1,0,0,0,0,0,0,0]
[16.451822348974588,18.701810271922056,16,"Factory-2","ROAK",6,8,"GRADE","SPLIT",6,0,0.125,1,0.13,3.5000000000000003E-2,1,0.13,3.5000000000000003E-2,19,185.43300303180632,0,18.323372229754614,16.180062909895245,4.3727956647707051,62.687704309124584,46.449950026020467,26.012707380907848,11.406410511332863,115.42538912701409,0,115.42538912701409,74.559198624552096,36.36,38.199198624552103,40.86619050246199,180,3.018335017670179E-2,170,9.0782370775331314E-2,144,0.28772918772087724,27.108276823589733,6.8404570396906141,0,0,0,4,6,6,2,0,1,0,0,0,0,0,0,0]
[17.838281380173051,21.521601330041264,16,"Factory-2","ROAK",6,8,"GRADE","SPLIT",6,0,0.125,1,0.13,3.5000000000000003E-2,1,0.13,3.5000000000000003E-2,23,245.29177894492204,0,26.553674665197274,22.409499959230399,5.1886422642494754,85.924926983905706,58.55654763249359,31.430441416621864,15.228046023223778,154.51373368468177,0,154.51373368468177,91.940106462653944,41.410000000000004,50.53010646265394,62.573627222027824,205,0.19654526314596119,190,0.29100936286801077,169,0.45143064464450916,34.141319491263928,7.1846016088419562,0,0,0,10,4,2,2,1,0,0,4,0,0,0,0,0]
[14.541261285793771,17.049362157961429,16,"Factory-2","ROAK",6,8,"GRADE","SPLIT",6,0,0.125,1,0.13,3.5000000000000003E-2,1,0.13,3.5000000000000003E-2,17,147.15740470429577,0,11.67071373914052,11.498567609806043,4.3897159578577094,45.748862717701115,40.718738578654346,24.556849641808689,8.5739564593273272,89.32634320130218,0,89.32634320130218,57.584425369084926,27.270000000000003,30.314425369084926,31.741917832217254,135,9.0054849661450165E-2,120,0.22631170586913144,100,0.47157404704295769,21.939732918390416,6.7073471336993746,0,0,0,10,2,4,1,0,0,0,0,0,0,0,0,0]
[17.393288056541714,20.087423382985797,16,"Factory-2","ROAK",6,8,"GRADE","SPLIT",6,0,0.125,1,0.13,3.5000000000000003E-2,1,0.13,3.5000000000000003E-2,21,226.36091175476858,0,24.504343494541672,20.680003482215582,4.7881987678378826,79.293504650663962,54.0373328788938,29.004736345113656,14.052792135502067,142.58883761184495,0,142.58883761184495,88.040347821482328,41.410000000000004,46.630347821482324,54.548489790362623,205,0.10419956953545649,190,0.19137321976193988,169,0.3394136790222993,30.84890874174161,7.3377283342434731,0,0,0,4,6,6,1,0,0,0,4,0,0,0,0,0]
[15.050601762625698,16.778002626406355,16,"Factory-2","ROAK",6,8,"GRADE","SPLIT",6,0,0.125,1,0.13,3.5000000000000003E-2,1,0.13,3.5000000000000003E-2,17,152.40890303525848,0,13.588640011103697,12.626414223175725,4.0351971361887555,49.519854416613001,40.108421675936398,23.349500749654432,9.1808748225864587,93.704622421243855,0,93.704622421243855,62.706234025263242,31.310000000000002,31.396234025263244,30.998388395980612,155,-1.6716754611235642E-2,140,8.8635021680417689E-2,121,0.259577711035194,22.197216290413223,6.8661268620913738,0,0,0,10,0,6,1,0,0,0,0,0,0,0,0,0]
[14.149597868643397,15.72099537842408,16,"Factory-2","ROAK",6,8,"GRADE","SPLIT",6,0,0.125,1,0.13,3.5000000000000003E-2,1,0.13,3.5000000000000003E-2,15,130.90774452676391,0,10.381990737594206,10.228853615031653,3.9049874269732943,40.697105558997308,36.222426170247388,21.845192267094962,7.6271887508250842,79.462600871519328,0,79.462600871519328,54.236995372513363,27.270000000000003,26.966995372513363,25.225605499005965,135,-3.0313003505452546E-2,120,9.0897871056365889E-2,100,0.30907744526763908,19.546722513412206,6.6971710698271831,0,0,0,4,6,5,0,0,0,0,0,0,0,0,0,0]
[20.493709276246875,21.770704341150186,16,"Factory-2","ROAK",6,8,"GRADE","SPLIT",6,0,0.125,1,0.13,3.5000000000000003E-2,1,0.13,3.5000000000000003E-2,25,299.98756719519463,0,40.528957886540894,30.524324983250285,5.0105013925942519,114.39037036450291,62.695384282226669,28.97096998464221,17.867058301437435,195.29873773088599,0,195.29873773088599,120.3774388422101,58.580000000000005,61.797438842210092,74.921298888675892,290,3.4439886879981479E-2,270,0.11106506368590603,256,0.17182643435622902,39.05997833150235,7.6801775118561952,0,0,0,4,6,2,2,6,0,1,0,4,0,0,0,0]
[11.48317833057278,13.963344671601661,16,"Factory-2","ROAK",6,8,"GRADE","SPLIT",6,0,0.125,1,0.13,3.5000000000000003E-2,1,0.13,3.5000000000000003E-2,12,88.347100720382286,0,4.3089653379030546,5.5071233787519054,3.759738787046039,23.306727813630935,28.467913278137061,18.73689860245879,4.2597335224544945,51.480586290127604,0,51.480586290127604,34.359502748398754,16.16,18.19950274839875,17.121083541728851,80,0.10433875900477858,70,0.26210143886260412,49,0.80300205551800585,14.280685475854121,6.1864747928074015,0,0,4,4,4,0,0,0,0,0,0,0,0,0,0,0]
[13.614230501172857,15.141118887587115,16,"Factory-2","ROAK",6,8,"GRADE","SPLIT",6,0,0.125,1,0.13,3.5000000000000003E-2,1,0.13,3.5000000000000003E-2,14,116.07726281603266,0,8.0417620871323372,8.4901855111847659,3.9042620693560774,34.3588615702228,33.787891798044875,21.040955296667281,6.4533444834245097,69.535501289143838,0,69.535501289143838,47.141916140102722,23.23,23.911916140102726,22.393585149041115,115,9.3675027481100667E-3,100,0.16077262816032659,81,0.43305262735842787,18.115323464561548,6.4076836962426338,0,0,0,9,1,4,0,0,0,0,0,0,0,0,0,0]
[15.264016690139361,18.123933753893244,16,"Factory-2","ROAK",6,8,"GRADE","SPLIT",6,0,0.125,1,0.13,3.5000000000000003E-2,1,0.13,3.5000000000000003E-2,18,159.29108367418232,0,14.202249015113711,13.196572932904578,4.2174106096266861,51.75597433166481,41.91955867396377,24.403871451021097,9.5954466598876618,97.935950941835344,0,97.935950941835344,64.123963236881565,31.310000000000002,32.813963236881555,33.811987704953779,155,2.7684410801176243E-2,140,0.137793454815588,121,0.31645523697671335,24.532419450551103,6.4930849562253004,0,0,0,9,2,6,0,1,0,0,0,0,0,0,0,0]
[17.273355850023396,19.94168944335734,16,"Factory-2","ROAK",6,8,"GRADE","SPLIT",6,0,0.125,1,0.13,3.5000000000000003E-2,1,0.13,3.5000000000000003E-2,21,224.42816131121748,0,24.295116643532548,20.503430214361845,4.7473154138143956,78.616468341275336,53.575942799306439,28.757083529963161,13.932804368963788,141.37136310618342,0,141.37136310618342,87.6422012301108,41.410000000000004,46.232201230110796,53.729161876072624,205,9.4771518591304782E-2,190,0.18120084900640779,169,0.3279772858651922,30.41235700571039,7.3795056814924811,0,0,0,4,6,6,1,0,0,0,4,0,0,0,0,0]
[19.217325009869704,21.966032161209021,16,"Factory-2","ROAK",6,8,"GRADE","SPLIT",6,0,0.125,1,0.13,3.5000000000000003E-2,1,0.13,3.5000000000000003E-2,24,270.20947190671444,0,34.158326291219687,26.646138368228566,4.7857370619261035,100.50254928786363,58.893182130659063,28.713141236484397,16.510397530333044,174.07180091144613,0,174.07180091144613,108.18315121278317,52.52,55.66315121278317,65.88864969866296,260,3.9267199641209387E-2,240,0.12587279961131018,225,0.20093098625206418,37.21858316730841,7.2600687321181434,0,0,0,9,2,4,2,2,1,0,0,4,0,0,0,0]
[19.787982956991655,21.382183763105335,16,"Factory-2","ROAK",6,8,"GRADE","SPLIT",6,0,0.125,1,0.13,3.5000000000000003E-2,1,0.13,3.5000000000000003E-2,24,277.76334406590871,0,35.113243334486761,27.391047572741165,4.919525288142645,103.31215993413934,60.539577298540991,29.515834778863891,16.971955858993962,178.93808528455554,0,178.93808528455554,109.7392488775772,52.52,57.219248877577193,69.198836406978344,260,6.8320554099648892E-2,240,0.15734726694128628,225,0.23450375140403873,37.08531398825297,7.4898474407926594,0,0,0,9,2,0,2,6,1,0,0,4,0,0,0,0]
[17.50009325948356,18.041502426620056,16,"Factory-2","ROAK",6,8,"GRADE","SPLIT",6,0,0.125,1,0.13,3.5000000000000003E-2,1,0.13,3.5000000000000003E-2,20,197.84684548544016,0,21.417598221812273,18.074999883446434,4.185042437010063,69.305118277729576,47.230397534880815,25.351088867474235,12.282600263086788,124.62731089147469,0,124.62731089147469,82.166450170000672,41.410000000000004,40.756450170000669,42.46086072147402,205,-3.4893436656389484E-2,190,4.1299186765474505E-2,169,0.17069139340497133,27.603275514709189,7.1675133402197808,0,0,0,9,2,2,0,6,1,0,0,0,0,0,0,0]
[16.495192073242219,18.70735507394323,16,"Factory-2","ROAK",6,8,"GRADE","SPLIT",6,0,0.125,1,0.13,3.5000000000000003E-2,1,0.13,3.5000000000000003E-2,19,186.02711716506474,0,18.382079009198751,16.231902678947197,4.3868057906049165,62.888551248464644,46.598772357258198,26.096050242462336,11.442955838128697,115.79520385198755,0,115.79520385198755,74.681586136003332,36.36,38.321586136003333,41.113617715984219,180,3.3483984250359651E-2,170,9.4277159794498452E-2,144,0.29185498031294954,27.179773643532592,6.8443217962313589,0,0,0,4,6,6,2,0,1,0,0,0,0,0,0,0]
[16.421708383511767,17.478132897955597,16,"Factory-2","ROAK",6,8,"GRADE","SPLIT",6,0,0.125,1,0.13,3.5000000000000003E-2,1,0.13,3.5000000000000003E-2,18,171.75295804141857,0,16.971592598403504,14.986402747271953,4.0501991450046138,58.063011825738258,43.02317380081837,24.093658444233004,10.564919479948873,106.91005210246229,0,106.91005210246229,71.74110935653222,36.36,35.381109356532221,35.168942745930067,180,-4.5816899769896856E-2,170,1.0311517890697447E-2,144,0.19272887528762894,25.130602231409323,6.8344147290968706,0,0,0,9,2,0,6,1,0,0,0,0,0,0,0,0]
[17.662665695437092,20.591936979257049,16,"Factory-2","ROAK",6,8,"GRADE","SPLIT",6,0,0.125,1,0.13,3.5000000000000003E-2,1,0.13,3.5000000000000003E-2,22,232.14777010023639,0,25.130790717926345,21.208682439230081,4.9106078347771422,81.320622652495473,55.418783361280191,29.746234951368844,14.41204814315835,146.23408448113921,0,146.23408448113921,89.23244064064869,41.410000000000004,47.822440640648693,57.001643840490516,205,0.13242814683042139,190,0.22183036894861255,169,0.37365544438009696,32.158251027038645,7.2189177796095514,0,0,0,9,2,6,0,1,0,0,4,0,0,0,0,0]
[17.377731717376353,19.011420560065588,16,"Factory-2","ROAK",6,8,"GRADE","SPLIT",6,0,0.125,1,0.13,3.5000000000000003E-2,1,0.13,3.5000000000000003E-2,20,200.4553506708678,0,21.699977836629607,18.313309121114031,4.2402199904928599,70.218869315612253,47.853105147818788,25.685329459507887,12.444539799692414,126.27045554666829,0,126.27045554666829,82.703802238198762,41.410000000000004,41.293802238198765,43.566653308469526,205,-2.2169021117718041E-2,190,5.5028161425620011E-2,169,0.18612633533057871,28.98707212528063,6.9153362507434393,0,0,0,9,2,0,6,2,1,0,0,0,0,0,0,0]
[16.266795159414119,18.890143824083825,16,"Factory-2","ROAK",6,8,"GRADE","SPLIT",6,0,0.125,1,0.13,3.5000000000000003E-2,1,0.13,3.5000000000000003E-2,19,183.58113029572334,0,18.140381322469562,16.018476693412502,4.3291256549037893,62.061657981881595,45.986066064486124,25.752925018530071,11.292497560039697,114.27266481321206,0,114.27266481321206,74.177712840919014,36.36,37.817712840919008,40.094951972293046,180,1.9895168309574114E-2,170,7.9889001739549062E-2,144,0.27486896038696762,27.153105937182389,6.7609624740694807,0,0,0,4,6,6,2,0,1,0,0,0,0,0,0,0]
[15.898675001017505,18.740581601039349,16,"Factory-2","ROAK",6,8,"GRADE","SPLIT",6,0,0.125,1,0.13,3.5000000000000003E-2,1,0.13,3.5000000000000003E-2,19,178.17755814363275,0,15.886150004709382,14.761235135161533,4.7174512645626887,57.892462735848788,46.889784605038692,27.2973359468632,10.733138451448461,109.54780513003128,0,109.54780513003128,68.014576977588348,31.310000000000002,36.704576977588346,41.533228152442931,155,0.14953263318472743,140,0.27269684388309107,121,0.47254180283994007,26.389830320135793,6.7517508063581939,0,0,0,10,0,6,2,1,0,0,0,0,0,0,0,0]
[12.863953478589597,12.542972516427957,16,"Factory-2","ROAK",6,8,"GRADE","SPLIT",6,0,0.125,1,0.13,3.5000000000000003E-2,1,0.13,3.5000000000000003E-2,11,85.202151858023228,0,5.0349662443800538,5.7827443889308103,3.2275434028784091,23.881826075696065,26.094709569516496,16.729232032319658,4.4511301443017413,50.349202944711031,0,50.349202944711031,36.74164328275279,19.190000000000001,17.551643282752785,13.607559661958241,95,-0.1031352435997555,90,-5.3309423799741906E-2,64,0.33128362278161294,14.104560793779202,6.0407518606039492,0,0,0,4,6,1,0,0,0,0,0,0,0,0,0,0]
[20.89610040365876,24.155637198400594,16,"Factory-2","ROAK",6,8,"GRADE","SPLIT",6,0,0.125,1,0.13,3.5000000000000003E-2,1,0.13,3.5000000000000003E-2,27,327.48277362056763,0,44.243618709702972,33.322016315116521,5.4697363248018176,124.87476101993425,68.441697534056402,31.62628936177066,19.504654355185046,213.19874325021979,0,213.19874325021979,126.04145136583693,58.580000000000005,67.461451365836922,87.157291884382857,290,0.12925094351919872,270,0.21289916155765787,256,0.27922958445534229,44.573481623969812,7.3470315014490737,0,0,0,4,6,6,2,0,2,2,1,4,0,0,0,0]
[15.128756585919735,16.682688377472292,16,"Factory-2","ROAK",6,8,"GRADE","SPLIT",6,0,0.125,1,0.13,3.5000000000000003E-2,1,0.13,3.5000000000000003E-2,17,153.06018442235552,0,13.646707670793804,12.680370051251133,4.0524405434683093,49.73146514821071,40.279814999969005,23.449279010198307,9.220106998464237,94.105045724951992,0,94.105045724951992,62.840397991005233,31.310000000000002,31.530397991005234,31.264647733946759,155,-1.2514939210609555E-2,140,9.3287031588253702E-2,121,0.2649602018376489,22.160923742742071,6.906760124224709,0,0,0,10,0,2,5,0,0,0,0,0,0,0,0,0]
[18.184126445377771,21.167433172890277,16,"Factory-2","ROAK",6,8,"GRADE","SPLIT",6,0,0.125,1,0.13,3.5000000000000003E-2,1,0.13,3.5000000000000003E-2,23,250.22997823228297,0,29.391831268342742,23.808527245101494,4.803201343244706,90.482539702515808,57.019561098740503,29.224015732015438,15.500301842322274,159.43940139131774,0,159.43940139131774,98.007375515850299,46.46,51.547375515850291,61.432025875467446,230,8.7956427096882492E-2,220,0.13740899196492262,196,0.27668356240960701,34.025054599750561,7.3542858689231148,0,0,0,10,0,6,2,1,0,0,4,0,0,0,0,0]
[14.459118945277007,16.562475007328139,16,"Factory-2","ROAK",6,8,"GRADE","SPLIT",6,0,0.125,1,0.13,3.5000000000000003E-2,1,0.13,3.5000000000000003E-2,16,136.53278933575788,0,10.828100043935423,10.668382690543528,4.0727829178717876,42.445841229245708,37.778886951347012,22.783870003906593,7.9549254989078104,82.877071819417438,0,82.877071819417438,55.395754603166125,27.270000000000003,28.125754603166122,27.481317216251313,135,1.1353995079688022E-2,120,0.13777324446464903,100,0.36532789335757881,21.120597985285016,6.4644376750545591,0,0,0,9,2,4,1,0,0,0,0,0,0,0,0,0]
[15.710194085022959,17.563853247846868,16,"Factory-2","ROAK",6,8,"GRADE","SPLIT",6,0,0.125,1,0.13,3.5000000000000003E-2,1,0.13,3.5000000000000003E-2,18,163.27268644143436,0,14.557245118319608,13.52643139136902,4.3228280213650265,53.049654592151242,42.96737018336146,25.013864928746411,9.8352922061215864,100.38393512456003,0,100.38393512456003,64.944173406935477,31.310000000000002,33.634173406935474,35.439761717624549,155,5.3372170589899091E-2,140,0.16623347458167401,121,0.34936104497053189,24.262916659380906,6.7293099479162306,0,0,0,9,2,2,4,1,0,0,0,0,0,0,0,0]
[14.804747965460367,15.719418240803105,16,"Factory-2","ROAK",6,8,"GRADE","SPLIT",6,0,0.125,1,0.13,3.5000000000000003E-2,1,0.13,3.5000000000000003E-2,16,138.48715033957586,0,10.983095899321238,10.821092315869731,4.1310816470666509,43.053420531450456,38.319662422093394,23.110003435064961,8.0687940887094172,84.063392834775698,0,84.063392834775698,55.798352969952631,27.270000000000003,28.528352969952625,28.265039864823066,135,2.5830743256117498E-2,120,0.15405958616313217,100,0.3848715033957586,20.37339569186755,6.7974505788868465,0,0,0,9,2,1,4,0,0,0,0,0,0,0,0,0]
[17.961025993534641,19.228824583443085,16,"Factory-2","ROAK",6,8,"GRADE","SPLIT",6,0,0.125,1,0.13,3.5000000000000003E-2,1,0.13,3.5000000000000003E-2,21,218.80106086614981,0,23.685963759691855,19.989346506637407,4.6282856961449301,76.645313021870564,52.232630044750493,28.0360554888079,13.583466348246697,137.82675063149725,0,137.82675063149725,86.483018538426862,41.410000000000004,45.073018538426858,51.343732093070386,205,6.7322248127560061E-2,190,0.15158453087447268,169,0.29468083352751367,30.250968792089839,7.2328612802431271,0,0,0,4,6,2,6,2,0,1,0,0,0,0,0,0]
[17.494426577198322,21.10587067181693,16,"Factory-2","ROAK",6,8,"GRADE","SPLIT",6,0,0.125,1,0.13,3.5000000000000003E-2,1,0.13,3.5000000000000003E-2,22,230.29138136114261,0,24.929830282798594,21.039085465568853,4.871339755300653,80.670335604366585,54.975622501618531,29.508366736781575,14.296801014707862,145.06471159599255,0,145.06471159599255,88.850024560395383,41.410000000000004,47.440024560395372,56.214687035597166,205,0.12337259200557371,190,0.21205990190075058,169,0.36267089562806282,32.836159195256414,7.0133470845887187,0,0,0,9,6,0,2,1,0,0,4,0,0,0,0,0]
[17.366331950174835,20.080266312522294,16,"Factory-2","ROAK",6,8,"GRADE","SPLIT",6,0,0.125,1,0.13,3.5000000000000003E-2,1,0.13,3.5000000000000003E-2,21,225.95970127027022,0,24.460911086315598,20.643349476220429,4.7797119865617939,79.152961898950139,53.941555103759072,28.953327273505138,14.027884444958092,142.33610786191232,0,142.33610786191232,87.957698461675676,41.410000000000004,46.547698461675665,54.378409400236649,205,0.10224244522083033,190,0.18926158563300113,169,0.33703965248680601,30.795407594929998,7.3374479806356288,0,0,0,4,6,6,1,0,0,0,4,0,0,0,0,0]
[16.80583775142814,17.396796240888968,16,"Factory-2","ROAK",6,8,"GRADE","SPLIT",6,0,0.125,1,0.13,3.5000000000000003E-2,1,0.13,3.5000000000000003E-2,19,185.16841991436857,0,18.297227720054316,16.156976558409557,4.3665563875655309,62.598259021824354,46.383673406531088,25.97559142474412,11.390135395239611,115.26069563239679,0,115.26069563239679,74.504694502359925,36.36,38.144694502359926,40.756001130036864,180,2.8713443968714281E-2,170,8.9225999496285707E-2,144,0.28589180496089284,25.564349668657137,7.2432282578810163,0,0,0,10,0,2,2,5,0,0,0,0,0,0,0,0]
[23.372096612029239,24.522274525739437,16,"Factory-2","ROAK",6,8,"GRADE","SPLIT",6,0,0.125,1,0.13,3.5000000000000003E-2,1,0.13,3.5000000000000003E-2,29,388.18629841962763,0,61.883902759182611,42.378230546495956,6.4095063770857728,156.63368962015392,72.955075209926093,28.204202599022196,19.721691307761084,260.07908643031743,0,260.07908643031743,158.74637747444331,78.78,79.966377474443291,101.33270895587412,390,-4.6505168727496594E-3,370,4.9152157890885492E-2,361,7.530830587154469E-2,50.142427243171625,7.7416734642117007,0,0,4,0,6,2,2,0,6,2,2,0,5,0,0,0]
[14.710208756886001,15.658428639245773,16,"Factory-2","ROAK",6,8,"GRADE","SPLIT",6,0,0.125,1,0.13,3.5000000000000003E-2,1,0.13,3.5000000000000003E-2,16,137.33863084745357,0,10.892009472217438,10.731349437773412,4.0968212280778076,42.696364352868827,38.001864856648481,22.918344574707863,8.0018769251597277,83.36622746594594,0,83.36622746594594,55.561757954575441,27.270000000000003,28.291757954575434,27.804469511370499,135,1.7323191462619056E-2,120,0.14448859039544643,100,0.37338630847453574,20.167859979801946,6.8097770901324095,0,0,0,9,2,1,4,0,0,0,0,0,0,0,0,0]

{"sheet":"BatchProcess","index":2,"n_rows":575,"n_cols":34,"rows_kept":575,"cut":false,"hidden":true,"merged":[[64,13,64,14],[65,18,65,19],[432,9,432,10],[439,9,439,10],[390,9,390,10],[397,9,397,10],[404,9,404,10],[411,9,411,10],[418,9,418,10],[425,9,425,10],[15,3,17,3],[12,3,14,3],[546,9,546,10],[553,9,553,10],[560,9,560,10],[511,9,511,10],[518,9,518,10],[525,9,525,10],[532,9,532,10],[539,9,539,10],[64,9,64,12],[5,8,5,10],[6,8,6,10],[7,8,7,10],[2,8,2,10],[3,8,3,10],[4,8,4,10]]}
[]
[]
["Species","ROAK",null,null,null,null,null,null,"Int 1/4",null,null,{"$f":"LogScale!$G$5","v":135}]
["Log Grade","Factory-2",null,null,null,null,null,null,"Doyle",null,null,{"$f":"LogScale!$H$5","v":100}]
["Small End Diameter",14.710208756886001,{"$f":"B5/2","v":7.3551043784430004},null,"Boards Sawn",null,{"$f":"IF(OR($B$22=\"SLAB\",$B$22=\"LIVE\"), IF($B$19=\"SPLIT\",B248, B331+B289),IF($B$22=\"GRADE\",IF($B$19=\"SPLIT\",B449,B570)))","v":16},null,"Scribner",null,null,{"$f":"LogScale!$I$5","v":120}]
["Large End Diameter",15.658428639245773,{"$f":"IF(B5>B6,\"ERROR\",\" \")","v":" "},null,"Board Feet",null,{"$f":"IF(OR($B$22=\"SLAB\",$B$22=\"LIVE\"), IF($B$19=\"SPLIT\",C248, B330+B288),IF($B$22=\"GRADE\",IF($B$19=\"SPLIT\",B450,B571)))","v":137.33863084745357},null,"Recovery-Based Processing Cost",null,null,{"$f":"Costs!$H$18/1000*G6","v":28.291757954575434}]
["Log Length",16,null,null,"Cant Height",null,{"$f":"IF(OR($B$22=\"SLAB\",$B$22=\"LIVE\"), IF($B$19=\"SPLIT\",D248, B292),IF($B$22=\"GRADE\",IF($B$19=\"SPLIT\",B452,B573)))","v":6},null,"Log-Volume-Based Processing Cost",null,null,{"$f":"IF(Costs!$D$4=\"International 1/4\", L3*(Costs!H23/1000),IF(Costs!$D$4=\"Doyle\",L4*(Costs!H23/1000), IF(Costs!$D$4=\"Scribner\", L5*(Costs!H23/1000), \"ERROR\" ) ) )","v":11.14909793170461}]
["Opening Face Width",6,{"$f":"B8/2","v":3},null,"Cant Width",null,{"$f":"IF(OR($B$22=\"SLAB\",$B$22=\"LIVE\"), IF($B$19=\"SPLIT\",E248, B334),IF($B$22=\"GRADE\",IF($B$19=\"SPLIT\",B451,B572)))","v":0},null,"User Selected Processing Cost",null,null,{"$f":"IF(Costs!N1=1,BatchProcess!L6,BatchProcess!L7)","v":28.291757954575434}]
["Opening Face Length",8,null,null,"Cant Volume",null,{"$f":"IF(G8>1,G7/12*$B$7*G8,0)","v":0}]
["Cant Height",6,null,null,"Total BDFT",null,{"$f":"G9+G6","v":137.33863084745357}]
["Cant Width",0,null,null,"LRF",null,{"$f":"$G$10/(((3.145926*POWER(($B$5/24),2) + 3.145926*POWER(($B$6/24),2))/2)*$B$7)","v":6.8097770901324086}]
["Green Allowance",0.125,null,null,"FAS",null,{"$f":"'Grade Yield Lookup'!T10","v":10.892009472217438}]
["Thickness",1,null,"  Headrig","F1F",null,{"$f":"'Grade Yield Lookup'!U10","v":10.731349437773412}]
["Saw Kerf",0.13,{"$f":"B13+(B13*B12)+(B15*1.97)","v":1.1939500000000001},null,"SEL",null,{"$f":"'Grade Yield Lookup'!V10","v":4.0968212280778076}]
["Sawing Variation",3.5000000000000003E-2,{"$f":"C14+B14","v":1.32395},null,"1C",null,{"$f":"'Grade Yield Lookup'!W10","v":42.696364352868827}]
["Thickness",1,null,"   Resaw","2A",null,{"$f":"'Grade Yield Lookup'!X10","v":38.001864856648481}]
["Saw Kerf",0.13,{"$f":"B16+(B16*B12)+(B18*1.97)","v":1.1939500000000001},null,"3A",null,{"$f":"'Grade Yield Lookup'!Y10","v":22.918344574707863}]
["Sawing Variation",3.5000000000000003E-2,{"$f":"C17+B17","v":1.32395},null,"3B",null,{"$f":"'Grade Yield Lookup'!Z10","v":8.0018769251597277}]
["Split/Full Taper Mode","SPLIT"]
["Fit Min Length Boards","AUTO"]
["Scrap Board Threshold(bdft)",2]
["Sawing Method","GRADE"]
[null,null,null,null,null,null,null,null,null,null,null,null,null,null,null,null,null,null,null,null,"Second Cut Lookup",null,null,null,null,null,"Third Cut Lookup",null,null,null,null,"Fourth Cut Lookup"]
["Split Taper Sawing Method W/ Min Open Face Cuts",null,null,null,"Faces 1 and 3 ",null,null,null,null,"Note, the formulas below perform a half-taper or split-taper sawing solution",null,null,null,null,null,null,null,null,null,null,{"$f":"T27-M29","v":5.6503516554425239}]
[null,null,null,"Saw",null,"Center","Max Next",null,null,"Faces 1 and 3 Half Taper Opening Face Calculations",null,null,null,null,null,null,null,null,"Distance ","Radius","Relative Saw","Width ","Min Scale","Min Scale","Radius","Relative Saw","Width ","Min Scale","Min Scale","Radius","Relative Saw","Width ","Min Scale","Min Scale"]
["Board","Width","Board Feet","Depth","Next ","Remaining","Position",null,null,"Width","Length","Board","Saw",null,"SE Adjusted","SE Adjusted",null,null,"from LE","@ distance","Depth"," @ Depth","Width","Length","@ distance","Depth"," @ Depth","Width","Length","@ distance","Depth"," @ Depth","Width","Length"]
[1,{"$f":"2*SQRT(POWER($C$5,2)-POWER($C$5-D27,2))","v":9.417236662127447},{"$f":"B27/12*$B$13*$B$7","v":12.556315549503262},{"$f":"$Q$35","v":1.7047527230004764},{"$f":"D27+$C$15","v":3.0287027230004764},{"$f":"$B$5-E27","v":11.681506033885524},{"$f":"IF(F27>0,D27+$C$15,0)","v":3.0287027230004764},null,null,"(inches)","(feet)","Feet","Depth","Next","Depth","Next",null,null,{"$f":"B9","v":8},{"$f":"($B$6-2*$K$35*S27)/2","v":7.5921593490329435},{"$f":"IF(T27-$U$24>0, T27-$U$24, 0)","v":1.9418076935904196},{"$f":"IF(U27>0, 2*SQRT(POWER(T27,2)-POWER(T27-U27,2)), 0)","v":10.141875517072029},{"$f":"IF(V27>$B$8, V27, \" \")","v":10.141875517072029},{"$f":"IF(V27>$B$8, S27, \" \")","v":8},{"$f":"($B$6-2*$K$35*$S27)/2","v":7.5921593490329435},{"$f":"$M$30","v":3.2657576935904196},{"$f":"IF(Z27>0, 2*SQRT(POWER(Y27,2)-POWER(Y27-Z27,2)), 0)","v":12.477681242425216},{"$f":"IF(AA27>$B$8, AA27, \" \")","v":12.477681242425216},{"$f":"IF(AA27>$B$8, S27, \" \")","v":8},{"$f":"($B$6-2*$K$35*$S27)/2","v":7.5921593490329435},{"$f":"$M$31","v":4.5897076935904195},{"$f":"IF(AE27>0, 2*SQRT(POWER(AD27,2)-POWER(AD27-AE27,2)), 0)","v":13.946493127354815},{"$f":"IF(AF27>$B$8, AF27, \" \")","v":13.946493127354815},{"$f":"IF(AF27>$B$8, S27, \" \")","v":8}]
[{"$f":"A27+1","v":2},{"$f":"IF((F58-$C$15)>$B$10,(2*SQRT(POWER($C$5,2)-POWER($C$5-D28,2))),0)","v":11.896185797737958},{"$f":"B28/12*$B$13*$B$7","v":15.861581063650611},{"$f":"D27+$C$15","v":3.0287027230004764},4.3526527230004763,{"$f":"IF($B$5-(E28+E58)>$B$10,$B$5-(E28+E58),0)","v":7.328853310885048},4.3526527230004763,null,null,{"$f":"2*SQRT(POWER($L$37,2)-POWER($L$37-$M$28,2))","v":6},{"$f":"B9","v":8},{"$f":"J28/12*$B$13*K28","v":4},{"$f":"$L$37-SQRT(POWER($L$37,2)-POWER($C$8,2))","v":0.61785769359041964},{"$f":"M28+$C$15","v":1.9418076935904196},{"$f":"M28-$K$38","v":0.38080272300047646},{"$f":"O28+$C$15","v":1.7047527230004764},null,null,{"$f":"IF(AND(S27+1<=$B$7, S27 > 0 ), S27+1, 0)","v":9},{"$f":"IF($S28>0,($B$6-2*$K$35*$S28)/2,0)","v":7.5625274777092004},{"$f":"IF(T28-$U$24>0, T28-$U$24, 0)","v":1.9121758222666765},{"$f":"IF(U28>0, 2*SQRT(POWER(T28,2)-POWER(T28-U28,2)), 0)","v":10.052929527445144},{"$f":"IF(V28>$B$8, V28, \" \")","v":10.052929527445144},{"$f":"IF(V28>$B$8, S28, \" \")","v":9},{"$f":"IF($S28>0,($B$6-2*$K$35*$S28)/2,0)","v":7.5625274777092004},{"$f":"IF(Y28>0,$M$30,0)","v":3.2657576935904196},12.446620629454491,{"$f":"IF(AA28>$B$8, AA28, \" \")","v":12.446620629454491},{"$f":"IF(AA28>$B$8, S28, \" \")","v":9},{"$f":"IF($S28>0,($B$6-2*$K$35*$S28)/2,0)","v":7.5625274777092004},{"$f":"IF(AD28>0,$M$31,0)","v":4.5897076935904195},13.907431737349444,{"$f":"IF(AF28>$B$8, AF28, \" \")","v":13.907431737349444},{"$f":"IF(AF28>$B$8, S28, \" \")","v":9}]
[3,{"$f":"IF((F57-$C$15)>$B$10,(2*SQRT(POWER($C$5,2)-POWER($C$5-D29,2))),0)","v":0},0,4.3526527230004763,5.6766027230004763,{"$f":"IF($B$5-(E29+E57)>$B$10,$B$5-(E29+E57),0)","v":0},0,null,null,{"$f":"MIN(IF(W27:W40>0,W27:W40))","v":9.417236662127447},{"$f":"MAX(X27:X40)","v":16},{"$f":"J29/12*$B$13*K29","v":12.556315549503262},{"$f":"M28+C15","v":1.9418076935904196},{"$f":"M29+$C$15","v":3.2657576935904196},{"$f":"M29-$K$38","v":1.7047527230004764},{"$f":"O29+$C$15","v":3.0287027230004764},null,null,{"$f":"IF(AND(S28+1<=$B$7, S28 > 0 ), S28+1, 0)","v":10},{"$f":"IF(S29>0,($B$6-2*$K$35*S29)/2,0)","v":7.5328956063854573},1.8825439509429334,9.9635420180855885,{"$f":"IF(V29>$B$8, V29, \" \")","v":9.9635420180855885},{"$f":"IF(V29>$B$8, S29, \" \")","v":10},7.5328956063854573,{"$f":"IF(Y29>0,$M$30,0)","v":3.2657576935904196},12.415482310387871,{"$f":"IF(AA29>$B$8, AA29, \" \")","v":12.415482310387871},10,7.5328956063854573,{"$f":"IF(AD29>0,$M$31,0)","v":4.5897076935904195},13.868260327334285,{"$f":"IF(AF29>$B$8, AF29, \" \")","v":13.868260327334285},10]
[4,{"$f":"IF((F56-$C$15)>$B$10,(2*SQRT(POWER($C$5,2)-POWER($C$5-D30,2))),0)","v":0},0,5.6766027230004763,7.0005527230004763,{"$f":"IF($B$5-(E30+E56)>$B$10,$B$5-(E30+E56),0)","v":0},0,null,null,{"$f":"MIN(IF(AB27:AB40>0,AB27:AB40))","v":12.226987218260531},{"$f":"MAX(AC27:AC40)","v":16},16.302649624347374,{"$f":"M29+C15","v":3.2657576935904196},{"$f":"M30+$C$15","v":4.5897076935904195},{"$f":"M30-$K$38","v":3.0287027230004764},{"$f":"O30+$C$15","v":4.3526527230004763},null,null,11,7.5032637350617151,1.8529120796191911,9.8737009976462655,{"$f":"IF(V30>$B$8, V30, \" \")","v":9.8737009976462655},{"$f":"IF(V30>$B$8, S30, \" \")","v":11},7.5032637350617151,3.2657576935904196,12.384265699085523,12.384265699085523,11,7.5032637350617151,4.5897076935904195,13.82897796239453,13.82897796239453,11]
[5,{"$f":"IF((F55-$C$15)>$B$10,(2*SQRT(POWER($C$5,2)-POWER($C$5-D31,2))),0)","v":0},0,7.0005527230004763,8.3245027230004762,{"$f":"IF($B$5-(E31+E55)>$B$10,$B$5-(E31+E55),0)","v":0},0,null,null,{"$f":"MIN(IF(AG27:AG40>0,AG27:AG40))","v":13.630868144501692},{"$f":"MAX(AH27:AH40)","v":16},18.174490859335588,{"$f":"M30+C15","v":4.5897076935904195},{"$f":"M31+$C$15","v":5.9136576935904195},{"$f":"M31-$K$38","v":4.3526527230004763},{"$f":"O31+$C$15","v":5.6766027230004763},null,null,12,7.4736318637379719,1.823280208295448,9.783393972342612,{"$f":"IF(V31>$B$8, V31, \" \")","v":9.783393972342612},{"$f":"IF(V31>$B$8, S31, \" \")","v":12},7.4736318637379719,3.2657576935904196,12.352970202001551,12.352970202001551,12,7.4736318637379719,4.5897076935904195,13.789583694298862,13.789583694298862,12]
[6,{"$f":"IF((F54-$C$15)>$B$10,(2*SQRT(POWER($C$5,2)-POWER($C$5-D32,2))),0)","v":0},0,8.3245027230004762,9.6484527230004762,{"$f":"IF($B$5-(E32+E54)>$B$10,$B$5-(E32+E54),0)","v":0},0,null,null,null,null,null,null,null,null,null,null,null,13,7.4439999924142288,1.7936483369717049,9.6926079167375736,{"$f":"IF(V32>$B$8, V32, \" \")","v":9.6926079167375736},13,7.4439999924142288,3.2657576935904196,12.321595218052339,12.321595218052339,13,7.4439999924142288,4.5897076935904195,13.750076561232397,13.750076561232397,13]
[7,{"$f":"IF((F53-$C$15)>$B$10,(2*SQRT(POWER($C$5,2)-POWER($C$5-D33,2))),0)","v":0},0,9.6484527230004762,10.972402723000476,{"$f":"IF($B$5-(E33+E53)>$B$10,$B$5-(E33+E53),0)","v":0},0,null,null,null,null,null,null,null,null,null,null,null,14,7.4143681210904866,1.7640164656479627,9.6013292423248977,9.6013292423248977,14,7.4143681210904866,3.2657576935904196,12.290140138481837,12.290140138481837,14,7.4143681210904866,4.5897076935904195,13.710455587522686,13.710455587522686,14]
[8,{"$f":"IF((F52-$C$15)>$B$10,(2*SQRT(POWER($C$5,2)-POWER($C$5-D34,2))),0)","v":0},0,10.972402723000476,12.296352723000476,{"$f":"IF($B$5-(E34+E52)>$B$10,$B$5-(E34+E52),0)","v":0},0,null,null,"LE SE difference",{"$f":"B6-B5","v":0.94821988235977273},null,null,null,null,"Face 1 & 3 Taper Result Summary",null,null,15,7.3847362497667435,1.7343845943242195,9.5095437637053681,9.5095437637053681,15,7.3847362497667435,3.2657576935904196,12.258604346723748,12.258604346723748,15,7.3847362497667435,4.5897076935904195,13.670719783358575,13.670719783358575,15]
[9,{"$f":"IF((F51-$C$15)>$B$10,(2*SQRT(POWER($C$5,2)-POWER($C$5-D35,2))),0)","v":0},0,12.296352723000476,13.620302723000476,{"$f":"IF($B$5-(E35+E51)>$B$10,$B$5-(E35+E51),0)","v":0},0,null,null,"'1/2 taper per foot",{"$f":"((B6-B5)/2)/B7","v":2.9631871323742898E-2},null,null,null,null,"Full Face Depth",{"$f":"IF(O29>0, O29, O30)","v":1.7047527230004764},null,16,7.3551043784430004,1.7047527230004764,9.417236662127447,9.417236662127447,16,7.3551043784430004,3.2657576935904196,12.226987218260531,12.226987218260531,16,7.3551043784430004,4.5897076935904195,13.630868144501692,13.630868144501692,16]
[10,{"$f":"IF((F50-$C$15)>$B$10,(2*SQRT(POWER($C$5,2)-POWER($C$5-D36,2))),0)","v":0},0,13.620302723000476,14.944252723000476,{"$f":"IF($B$5-(E36+E50)>$B$10,$B$5-(E36+E50),0)","v":0},0,null,null,"tot. taper from LE",{"$f":"B9*K35","v":0.23705497058994318},null,null,null,null,"Board Count",{"$f":"IF(O29<0,4, 2)","v":2},null,0,0,0,0," "," ",0,0,0," "," ",0,0,0," "," "]
[11,{"$f":"IF((F49-$C$15)>$B$10,(2*SQRT(POWER($C$5,2)-POWER($C$5-D37,2))),0)","v":0},0,14.944252723000476,16.268202723000478,{"$f":"IF($B$5-(E37+E49)>$B$10,$B$5-(E37+E49),0)","v":0},0,null,null,"Dia @ min face length",{"$f":"B6-2*K36","v":15.184318698065887},{"$f":"K37/2","v":7.5921593490329435},null,null,null,"Board Feet",{"$f":"IF(O29<0, 2*SUM(L28:L29), 2*L28)","v":8},null,0,0,0,0," "," ",0,0,0," "," ",0,0,0," "," "]
[12,{"$f":"IF((F48-$C$15)>$B$10,(2*SQRT(POWER($C$5,2)-POWER($C$5-D38,2))),0)","v":0},0,16.268202723000478,17.592152723000478,{"$f":"IF($B$5-(E38+E48)>$B$10,$B$5-(E38+E48),0)","v":0},0,null,null,"SE depth adjustment",{"$f":"L37-C5","v":0.23705497058994318},null,null,null,null,null,null,null,0,0,0,0," "," ",0,0,0," "," ",0,0,0," "," "]
[13,{"$f":"IF((F47-$C$15)>$B$10,(2*SQRT(POWER($C$5,2)-POWER($C$5-D39,2))),0)","v":0},0,17.592152723000478,18.916102723000478,{"$f":"IF($B$5-(E39+E47)>$B$10,$B$5-(E39+E47),0)","v":0},0,null,null,null,null,null,null,null,null,null,null,null,0,0,0,0," "," ",0,0,0," "," ",0,0,0," "," "]
[14,{"$f":"IF((F46-$C$15)>$B$10,(2*SQRT(POWER($C$5,2)-POWER($C$5-D40,2))),0)","v":0},0,18.916102723000478,20.240052723000478,{"$f":"IF($B$5-(E40+E46)>$B$10,$B$5-(E40+E46),0)","v":0},0,null,null,null,null,null,null,null,null,null,null,null,0,0,0,0," "," ",0,0,0," "," ",0,0,0," "," "]
[]
[null,null,null,null,null,null,null,null,null,"Faces 2 and 4 Half Taper Opening Face Calculations"]
[null,null,null,null,null,null,null,null,null,null,null,null,null,null,null,null,null,null,null,null,{"$f":"T46-M47","v":5.6503516554425239}]
[null,null,null,null,null,null,null,null,null,"Width","Length","Board","Radial","Lower Cant","Upper Cant",null,"SE Adjusted","SE Adjusted","Distance ","Radius","Relative Saw","Width ","Min Scale","Min Scale"]
[{"$f":"A46+1","v":14},{"$f":"IF((F40-$C$15)>=$B$10,2*SQRT(POWER($C$5,2)-POWER($C$5-D45,2)),0)","v":0},{"$f":"B45/12*$B$13*$B$7","v":0},{"$f":"D46+$C$15","v":18.916102723000478},{"$f":"D45+$C$15","v":20.240052723000478},{"$f":"IF($B$5-(E45+E40)>=$B$10,$B$5-(E45+E40),0)","v":0},{"$f":"IF(F45>0,D45+$C$15,0)","v":0},null,null,"(inches)","(feet)","Feet","Depth","Face Depth","Face Depth","Next","Depth","Next","from LE","@ distance","Depth"," @ Depth","Width","Length"]
[13,{"$f":"IF((F39-$C$15)>=$B$10,2*SQRT(POWER($C$5,2)-POWER($C$5-D46,2)),0)","v":0},0,17.592152723000478,18.916102723000478,{"$f":"IF($B$5-(E46+E39)>=$B$10,$B$5-(E46+E39),0)","v":0},0,null,null,{"$f":"2*SQRT(POWER($L$37,2)-POWER($L$37-$M$28,2))","v":6},{"$f":"B9","v":8},{"$f":"J46/12*$B$13*$B$9","v":4},{"$f":"$L$37-SQRT(POWER($L$37,2)-POWER($C$8,2))","v":0.61785769359041964},{"$f":"($L$37-SQRT(POWER($L$37,2)-POWER(B63,2)))-$K$38","v":0.38185781476559288},{"$f":"($L$37-SQRT(POWER($L$37,2)-POWER($B$62,2)))-$K$38","v":0.38185781476559288},{"$f":"MAX(M46:O46)+$C$15","v":1.9418076935904196},{"$f":"M46-$K$38","v":0.38080272300047646},{"$f":"Q46+$C$15","v":1.7047527230004764},{"$f":"B9","v":8},{"$f":"($B$6-2*$K$35*S46)/2","v":7.5921593490329435},{"$f":"IF(T46-$U$43>0, T46-$U$43, 0)","v":1.9418076935904196},{"$f":"IF(U46>0, 2*SQRT(POWER(T46,2)-POWER(T46-U46,2)), 0)","v":10.141875517072029},{"$f":"IF(V46>$B$8, V46, \" \")","v":10.141875517072029},{"$f":"IF(V46>$B$8, S46, \" \")","v":8}]
[12,{"$f":"IF((F38-$C$15)>=$B$10,2*SQRT(POWER($C$5,2)-POWER($C$5-D47,2)),0)","v":0},0,16.268202723000478,17.592152723000478,{"$f":"IF($B$5-(E47+E38)>=$B$10,$B$5-(E47+E38),0)","v":0},0,null,null,{"$f":"MIN(W46:W59)","v":9.417236662127447},{"$f":"MAX(X46:X59)","v":16},{"$f":"J47/12*$B$13*K47","v":12.556315549503262},{"$f":"M46+C15","v":1.9418076935904196},{"$f":"($L$37-SQRT(POWER($L$37,2)-POWER(B64,2)))-$K$38","v":2.7031280692698409},{"$f":"($L$37-SQRT(POWER($L$37,2)-POWER($B$62,2)))-$K$38","v":0.38185781476559288},{"$f":"MAX(M47:O47)+$C$15","v":4.0270780692698409},{"$f":"M47-$K$38","v":1.7047527230004764},{"$f":"Q47+$C$15","v":3.0287027230004764},{"$f":"IF(AND(S46+1<=$B$7, S46 > 0 ), S46+1, 0)","v":9},{"$f":"IF(S47>0,($B$6-2*$K$35*S47)/2,0)","v":7.5625274777092004},{"$f":"IF(T47-$U$43>0, T47-$U$43, 0)","v":1.9121758222666765},{"$f":"IF(U47>0, 2*SQRT(POWER(T47,2)-POWER(T47-U47,2)), 0)","v":10.052929527445144},10.052929527445144,9]
[11,{"$f":"IF((F37-$C$15)>=$B$10,2*SQRT(POWER($C$5,2)-POWER($C$5-D48,2)),0)","v":0},0,14.944252723000476,16.268202723000478,{"$f":"IF($B$5-(E48+E37)>=$B$10,$B$5-(E48+E37),0)","v":0},0,null,null,null,null,null,null,null,null,null,null,null,{"$f":"IF(AND(S47+1<=$B$7, S47 > 0 ), S47+1, 0)","v":10},7.5328956063854573,1.8825439509429334,9.9635420180855885,9.9635420180855885,10]
[10,{"$f":"IF((F36-$C$15)>=$B$10,2*SQRT(POWER($C$5,2)-POWER($C$5-D49,2)),0)","v":0},0,13.620302723000476,14.944252723000476,{"$f":"IF($B$5-(E49+E36)>=$B$10,$B$5-(E49+E36),0)","v":0},0,null,null,null,null,null,null,null,null,null,null,null,11,7.5032637350617151,1.8529120796191911,9.8737009976462655,9.8737009976462655,11]
[9,{"$f":"IF((F35-$C$15)>=$B$10,2*SQRT(POWER($C$5,2)-POWER($C$5-D50,2)),0)","v":0},0,12.296352723000476,13.620302723000476,{"$f":"IF($B$5-(E50+E35)>=$B$10,$B$5-(E50+E35),0)","v":0},0,null,null,null,null,null,null,null,null,null,null,null,12,7.4736318637379719,1.823280208295448,9.783393972342612,9.783393972342612,12]
[8,{"$f":"IF((F34-$C$15)>=$B$10,2*SQRT(POWER($C$5,2)-POWER($C$5-D51,2)),0)","v":0},0,10.972402723000476,12.296352723000476,{"$f":"IF($B$5-(E51+E34)>=$B$10,$B$5-(E51+E34),0)","v":0},0,null,null,"Faces 2 and 4 Full length Cant opening Face Calculations",null,null,null,null,null,"Face 2 & 4 Taper Result Summary",null,null,13,7.4439999924142288,1.7936483369717049,9.6926079167375736,9.6926079167375736,13]
[7,{"$f":"IF((F33-$C$15)>=$B$10,2*SQRT(POWER($C$5,2)-POWER($C$5-D52,2)),0)","v":0},0,9.6484527230004762,10.972402723000476,{"$f":"IF($B$5-(E52+E33)>=$B$10,$B$5-(E52+E33),0)","v":0},0,null,null,null,null,null,null,null,null,"Full Face Depth",{"$f":"IF(R46>0, R46, R47)","v":1.7047527230004764},null,14,7.4143681210904866,1.7640164656479627,9.6013292423248977,9.6013292423248977,14]
[6,{"$f":"IF((F32-$C$15)>=$B$10,2*SQRT(POWER($C$5,2)-POWER($C$5-D53,2)),0)","v":0},0,8.3245027230004762,9.6484527230004762,{"$f":"IF($B$5-(E53+E32)>=$B$10,$B$5-(E53+E32),0)","v":0},0,null,null,"depth","Upper ","Lower","Maximum ",null,null,"Board Count",{"$f":"IF(R46<0,4, IF(MIN(F45:F58)<0,0,2))","v":2},null,15,7.3847362497667435,1.7343845943242195,9.5095437637053681,9.5095437637053681,15]
[5,{"$f":"IF((F31-$C$15)>=$B$10,2*SQRT(POWER($C$5,2)-POWER($C$5-D54,2)),0)","v":0},0,7.0005527230004763,8.3245027230004762,{"$f":"IF($B$5-(E54+E31)>=$B$10,$B$5-(E54+E31),0)","v":0},0,null,null,"F","T","B","Position",null,null,"Board Feet",{"$f":"IF(R46<0, 2*SUM(L46:L47),IF(MIN(F45:F58)<0,0, 2*L46))","v":8},null,16,7.3551043784430004,1.7047527230004764,9.417236662127447,9.417236662127447,16]
[4,{"$f":"IF((F30-$C$15)>=$B$10,2*SQRT(POWER($C$5,2)-POWER($C$5-D55,2)),0)","v":0},0,5.6766027230004763,7.0005527230004763,{"$f":"IF($B$5-(E55+E30)>=$B$10,$B$5-(E55+E30),0)","v":0},0,null,null,{"$f":"$C$5-SQRT(POWER($C$5,2)-POWER($C$8,2))","v":0.63963265876526876},{"$f":"$C$5-SQRT(POWER($C$5,2)-POWER($B$62,2))","v":0.6407284227400547},{"$f":"$C$5-SQRT(POWER($C$5,2)-POWER($B$63,2))","v":0.6407284227400547},{"$f":"MAX(J55:L55)","v":0.6407284227400547},null,null,null,null,null,0,0,0,0," "," "]
[3,{"$f":"IF((F29-$C$15)>=$B$10,2*SQRT(POWER($C$5,2)-POWER($C$5-D56,2)),0)","v":0},0,4.3526527230004763,5.6766027230004763,{"$f":"IF($B$5-(E56+E29)>=$B$10,$B$5-(E56+E29),0)","v":0},0,null,null,null,null,null,null,null,null,null,null,null,0,0,0,0," "," "]
[2,{"$f":"IF((F28-$C$15)>=$B$10,2*SQRT(POWER($C$5,2)-POWER($C$5-D57,2)),0)","v":11.896185797737958},15.861581063650611,3.0287027230004764,4.3526527230004763,{"$f":"IF($B$5-(E57+E28)>=$B$10,$B$5-(E57+E28),0)","v":6.004903310885048},4.3526527230004763,null,null,null,null,null,null,null,null,null,null,null,0,0,0,0," "," "]
[1,{"$f":"IF(F58>0,2*SQRT(POWER($C$5,2)-POWER($C$5-D58,2)),0)","v":9.417236662127447},{"$f":"B58/12*$B$13*$B$7","v":12.556315549503262},{"$f":"$Q$35","v":1.7047527230004764},3.0287027230004764,{"$f":"$B$5-(E58+E27)","v":8.6528033108850479},3.0287027230004764,null,null,null,null,null,null,null,null,null,null,null,0,0,0,0," "," "]
[" ",null,null,null,null,null,null,null,null,null,null,null,null,null," ",null,null,null,0,0,0,0," "," "]
["Board Feet",{"$f":"SUM(C27:C58)+Q37","v":64.835793226307743}]
["Boards Sawn ",{"$f":"COUNTIF(B27:B58,\">0\")+Q36","v":6}]
["Cant Top Y Position",{"$f":"$C$5-MAX(G27:G40)","v":3.002451655442524}]
["Cant Bot Y Position",{"$f":"$C$5-MAX(G45:G58)","v":3.002451655442524}]
["Actual Cant Height",{"$f":"IF(B62+B63 >=B10, B10, IF(B62+B63<B10, 0, B62+B63))","v":6},null,null,null,null,null,null,null,"Width Distribution Calculation Table"]
[null,null,null,null,null,null,null,null,null,"- - - - - - Slab - - - - - -",null,null,null,"- - - - - Grade - - - - -",null,"Active"]
[null,null,null,null,null,null,null,null,null,"Split Taper","Split Taper","Split Taper","Full","Split","Full","Sawing ",null,null,"Distribution"]
[null,null,null,null,null,null,null,null,null,"Min Open (1)","Cheek Cut (2)","Standard (3)","Taper","Taper","Taper","Solution","Min ","Max","Range","Count"]
[null,null,"Faces 2 and 4 ",null,null,null,null,null,null,{"$f":"K28","v":8},{"$f":"B114","v":6},{"$f":"B162","v":6},{"$f":"B255","v":6},{"$f":"B350","v":6},{"$f":"B471","v":6},{"$f":"IF(AND($B$22=\"GRADE\",$B$19=\"SPLIT\"), N68,\n    IF(AND($B$22=\"GRADE\",$B$19=\"FULL\"), O68,\n IF(AND(OR($B$22=\"SLAB\",$B$22=\"LIVE\"), $G$247=1), J68,\n  IF(AND($B$22=\"SLAB\",$G$247=2), K68,\n   IF(AND($B$22=\"SLAB\",$G$247=3), L68, M68)))))","v":6},0.1,4,"< 4",{"$f":"COUNTIFS(P$68:P$125,\">=\"&Q68, P$68:P$125,\"<\"&R68)","v":0}]
[null,null,null,"Saw",null,"Center","Max Next",null,null,{"$f":"J28","v":6},{"$f":"B116","v":6},{"$f":"B163","v":10.005809105521585},{"$f":"B256","v":10.005809105521585},{"$f":"B351","v":9.417236662127447},{"$f":"B472","v":10.005809105521585},{"$f":"IF(AND($B$22=\"GRADE\",$B$19=\"SPLIT\"), N69,\n    IF(AND($B$22=\"GRADE\",$B$19=\"FULL\"), O69,\n IF(AND(OR($B$22=\"SLAB\",$B$22=\"LIVE\"), $G$247=1), J69,\n  IF(AND($B$22=\"SLAB\",$G$247=2), K69,\n   IF(AND($B$22=\"SLAB\",$G$247=3), L69, M69)))))","v":9.417236662127447},4,5,"4<= wid <5",{"$f":"COUNTIFS(P$68:P$125,\">=\"&Q69, P$68:P$125,\"<\"&R69)","v":0}]
["Board","Width","Board Feet","Depth","Next ","Remaining","Position",null,null,{"$f":"B27","v":9.417236662127447},{"$f":"B122","v":6},12.256005992666507,12.256005992666507,0,0,0,5,6,"5<= wid <6",0]
[1,{"$f":"IF(D71<MIN(K55,L55),$B$8,$B$64)","v":6},{"$f":"IF(B71/12*$B$16*$B$7<$B$21, 0, B71/12*$B$16*$B$7)","v":8},{"$f":"$Q$52","v":1.7047527230004764},{"$f":"D71+$C$18","v":3.0287027230004764},{"$f":"$B$5-E71","v":11.681506033885524},{"$f":"IF(F71>0,D71+$C$18,0)","v":3.0287027230004764},null,null,{"$f":"B28","v":11.896185797737958},{"$f":"B123","v":9.417236662127447},0,0,0,0,0,6,7,"6<= wid <7",9]
[{"$f":"A71+1","v":2},{"$f":"IF(F72-$C$18>=$B$11,IF(D72<MIN($K$55,$L$55),$B$8,$B$64),0)","v":6},{"$f":"IF(B72/12*$B$16*$B$7<$B$21, 0, B72/12*$B$16*$B$7)","v":8},{"$f":"D71+$C$18","v":3.0287027230004764},{"$f":"D72+$C$18","v":4.3526527230004763},{"$f":"IF($B$5-(E72+E100)>$B$11,$B$5-(E72+E100),0)","v":7.328853310885048},{"$f":"IF(F72>0,D72+$C$18,0)","v":4.3526527230004763},null,null,0,9.417236662127447,0,0,{"$f":"B359","v":6},{"$f":"B471","v":6},6,7,8,"7<= wid <8",2]
[3,{"$f":"IF(F73-$C$18>=$B$11,IF(D73<MIN($K$55,$L$55),$B$8,$B$64),0)","v":6},8,{"$f":"D72+$C$18","v":4.3526527230004763},{"$f":"D73+$C$18","v":5.6766027230004763},{"$f":"IF($B$5-(E73+E99)>$B$11,$B$5-(E73+E99),0)","v":4.6809533108850481},5.6766027230004763,null,null,0,9.417236662127447,0,0,{"$f":"B360","v":9.417236662127447},{"$f":"B472","v":10.005809105521585},9.417236662127447,8,9,"8<= wid <9",1]
[4,6,8,5.6766027230004763,7.0005527230004763,{"$f":"IF($B$5-(E74+E98)>$B$11,$B$5-(E74+E98),0)","v":2.0330533108850481},7.0005527230004763,null,null,0,9.417236662127447,0,0,0,0,0,9,10,"9<= wid <10",4]
[5,0,0,7.0005527230004763,8.3245027230004762,{"$f":"IF($B$5-(E75+E97)>$B$11,$B$5-(E75+E97),0)","v":0},0,null,null,0,0,0,0,0,0,0,10,11,"10<= wid <11",0]
[6,0,0,8.3245027230004762,9.6484527230004762,{"$f":"IF($B$5-(E76+E96)>$B$11,$B$5-(E76+E96),0)","v":0},0,null,null,0,0,0,0,{"$f":"B359","v":6},{"$f":"B489","v":6},6,11,12,"11<= wid <12",0]
[7,0,0,9.6484527230004762,10.972402723000476,{"$f":"IF($B$5-(E77+E95)>$B$11,$B$5-(E77+E95),0)","v":0},0,null,null,0,0,0,0,{"$f":"B360","v":9.417236662127447},{"$f":"B490","v":10.005809105521585},9.417236662127447,12,13,"12<= wid <13",0]
[8,0,0,10.972402723000476,12.296352723000476,{"$f":"IF($B$5-(E78+E94)>$B$11,$B$5-(E78+E94),0)","v":0},0,null,null,0,0,0,0,0,0,0,13,14,"13<= wid <14",0]
[9,0,0,12.296352723000476,13.620302723000476,{"$f":"IF($B$5-(E79+E93)>$B$11,$B$5-(E79+E93),0)","v":0},0,null,null,0,0,0,0,0,0,0,14,15,"14<= wid <15",0]
[10,0,0,13.620302723000476,14.944252723000476,{"$f":"IF($B$5-(E80+E92)>$B$11,$B$5-(E80+E92),0)","v":0},0,null,null,0,0,0,0,{"$f":"B377","v":6},{"$f":"B498","v":6},6,15,16,"15<= wid <16",0]
[11,0,0,14.944252723000476,16.268202723000478,{"$f":"IF($B$5-(E81+E91)>$B$11,$B$5-(E81+E91),0)","v":0},0,null,null,0,0,0,0,{"$f":"B378","v":9.417236662127447},{"$f":"B499","v":10.005809105521585},9.417236662127447,16,17,"16<= wid <17",0]
[12,0,0,16.268202723000478,17.592152723000478,{"$f":"IF($B$5-(E82+E90)>$B$11,$B$5-(E82+E90),0)","v":0},0,null,null,0,0,{"$f":"B180","v":0},{"$f":"B273","v":0},0,0,0,17,18,"17<= wid <18",0]
[13,0,0,17.592152723000478,18.916102723000478,{"$f":"IF($B$5-(E83+E89)>$B$11,$B$5-(E83+E89),0)","v":0},0,null,null,0,0,{"$f":"B181","v":0},{"$f":"B274","v":0},0,0,0,18,30,"18<= wid <30",0]
[14,0,0,18.916102723000478,20.240052723000478,{"$f":"IF($B$5-(E84+E88)>$B$11,$B$5-(E84+E88),0)","v":0},0,null,null,{"$f":"B45","v":0},{"$f":"B138","v":0},0,0,{"$f":"B387","v":8.6528033108850497},{"$f":"B508","v":8.6528033108850497},8.6528033108850497]
[null,null,null,null,null,null,null,null,null,{"$f":"B46","v":0},{"$f":"B139","v":0},0,0,{"$f":"B388","v":7.3288533108850498},{"$f":"B509","v":6.8111934393554616},7.3288533108850498]
[null,null,null,null,null,null,null,null,null,0,0,0,0,7.3288533108850498,0,7.3288533108850498]
[{"$f":"A88+1","v":14},{"$f":"IF(F87-$C$18>=$B$11,IF(D87<MIN($K$55,$L$55),$B$8,$B$64),0)","v":0},{"$f":"IF(B87/12*$B$16*$B$7<$B$21, 0, B87/12*$B$16*$B$7)","v":0},{"$f":"D88+$C$18","v":18.916102723000478},{"$f":"D87+$C$18","v":20.240052723000478},{"$f":"IF($B$5-(E87+E84)>=$B$11,$B$5-(E87+E84),0)","v":0},{"$f":"IF(F87>0,D87+$C$18,0)","v":0},null,null,0,0,0,0,6.0049033108850498,6.8111934393554616,6.0049033108850498]
[13,0,0,17.592152723000478,18.916102723000478,{"$f":"IF($B$5-(E88+E83)>=$B$11,$B$5-(E88+E83),0)","v":0},0,null,null,0,0,0,0,{"$f":"B394","v":0},{"$f":"B515","v":0},0]
[12,0,0,16.268202723000478,17.592152723000478,{"$f":"IF($B$5-(E89+E82)>=$B$11,$B$5-(E89+E82),0)","v":0},0,null,null,0,0,0,0,{"$f":"B395","v":6.0049033108850498},{"$f":"B516","v":6.8111934393554616},6.0049033108850498]
[11,0,0,14.944252723000476,16.268202723000478,{"$f":"IF($B$5-(E90+E81)>=$B$11,$B$5-(E90+E81),0)","v":0},0,null,null,0,0,0,0,0,0,0]
[10,0,0,13.620302723000476,14.944252723000476,{"$f":"IF($B$5-(E91+E80)>=$B$11,$B$5-(E91+E80),0)","v":0},0,null,null,0,0,0,0,6.0049033108850498,6.8111934393554616,6.0049033108850498]
[9,0,0,12.296352723000476,13.620302723000476,{"$f":"IF($B$5-(E92+E79)>=$B$11,$B$5-(E92+E79),0)","v":0},0,null,null,0,0,0,0,{"$f":"B401","v":0},{"$f":"B522","v":0},0]
[8,0,0,10.972402723000476,12.296352723000476,{"$f":"IF($B$5-(E93+E78)>=$B$11,$B$5-(E93+E78),0)","v":0},0,null,null,0,0,0,0,{"$f":"B402","v":6.0049033108850498},{"$f":"B523","v":6.8111934393554616},6.0049033108850498]
[7,0,0,9.6484527230004762,10.972402723000476,{"$f":"IF($B$5-(E94+E77)>=$B$11,$B$5-(E94+E77),0)","v":0},0,null,null,0,9.417236662127447,10.005809105521585,10.005809105521585,0,0,0]
[6,0,0,8.3245027230004762,9.6484527230004762,{"$f":"IF($B$5-(E95+E76)>=$B$11,$B$5-(E95+E76),0)","v":0},0,null,null,0,9.417236662127447,{"$f":"B193","v":6},6,6.0049033108850498,6.8111934393554616,6.0049033108850498]
[5,0,0,7.0005527230004763,8.3245027230004762,{"$f":"IF($B$5-(E96+E75)>=$B$11,$B$5-(E96+E75),0)","v":0},0,null,null,11.896185797737958,9.417236662127447,{"$f":"B206","v":6},{"$f":"B299","v":6},{"$f":"B408","v":0},{"$f":"B529","v":0},0]
[4,0,0,5.6766027230004763,7.0005527230004763,{"$f":"IF($B$5-(E97+E74)>=$B$11,$B$5-(E97+E74),0)","v":0.70910331088504819},7.0005527230004763,null,null,9.417236662127447,6,{"$f":"B207","v":6},{"$f":"B300","v":6},{"$f":"B409","v":0},{"$f":"B530","v":0},0]
[3,6,8,4.3526527230004763,5.6766027230004763,{"$f":"IF($B$5-(E98+E73)>=$B$11,$B$5-(E98+E73),0)","v":3.3570033108850481},5.6766027230004763,null,null,{"$f":"B71","v":6},null,6,6,0,0,0]
[2,{"$f":"IF(F99-$C$18>=$B$11,IF(D99<MIN($K$55,$L$55),$B$8,$B$64),0)","v":6},8,{"$f":"D100+$C$18","v":3.0287027230004764},4.3526527230004763,{"$f":"IF($B$5-(E99+E72)>=$B$11,$B$5-(E99+E72),0)","v":6.004903310885048},4.3526527230004763,null,null,{"$f":"B72","v":6},null,6,6,0,0,0]
[1,{"$f":"IF(D100<MIN(I100,J103),$B$8,$B$64)","v":6},{"$f":"IF(B100/12*$B$16*$B$7<$B$21, 0, B100/12*$B$16*$B$7)","v":8},{"$f":"$Q$52","v":1.7047527230004764},{"$f":"D100+$C$18","v":3.0287027230004764},{"$f":"$B$5-(E100+E71)","v":8.6528033108850479},{"$f":"IF(F100>0,D100+$C$18,0)","v":3.0287027230004764},null,null,6,null,6,0,{"$f":"B415","v":0},{"$f":"B536","v":0},0]
[null,null,null,null,null,null,null,null,null,6,null,0,0,{"$f":"B416","v":0},{"$f":"B537","v":0},0]
["Board Feet",{"$f":"IF(B22=\"LIVE\",0, IF(MIN(F45:F58),0,SUM(C71:C100)+Q54))","v":64},null,null,null,null,null,null,null,0,null,0,0,0,0,0]
["Boards Sawn ",{"$f":"IF(B22=\"LIVE\",0, IF(MIN(F45:F58),0,COUNTIF(B71:B100,\">0\")+Q53))","v":9},null,null,null,null,null,null,null,0,null,0,0,0,0,0]
["Actual Cant Width",{"$f":"IF(B105+B106<C14, 0, IF(B105+B106>=B11,B11,0))","v":0},null,null,null,null,null,null,null,0,null,0,0,{"$f":"B422","v":0},{"$f":"B543","v":0},0]
["Cant Left X Position",{"$f":"$C$5-MAX(G71:G84)","v":0.35455165544252409},null,null,null,null,null,null,null,0,null,0,0,{"$f":"B423","v":0},{"$f":"B544","v":0},0]
["Cant Right X Position",{"$f":"$C$5-MAX(G87:G100)","v":0.35455165544252409},null,null,null,null,null,null,null,0,null,0,0,0,0,0]
[null,null,null,null,null,null,null,null,null,0,null,0,0,0,0,0]
["Split Taper Sawing Method With Min Open Face Cuts",null,null,null,null,null,null,null,null,0,null,0,0,{"$f":"B429","v":0},{"$f":"B550","v":0},0]
["Small Diameter Log method that makes only minimal opening cheek cuts",null,null,null,null,null,null,null,null,0,null,0,0,{"$f":"B430","v":0},{"$f":"B551","v":0},0]
["Faces 1 & 3",null,null,null,null,null,null,null,null,0,null,{"$f":"B222","v":0},{"$f":"B315","v":0},0,0,0]
[null,null,null,null,null,null,null,null,null,0,null,{"$f":"B223","v":0},{"$f":"B316","v":0},0,0,0]
[null,null,null,"Saw",null,"Center","Max Next",null,null,{"$f":"B87","v":0},null,0,0,{"$f":"B436","v":0},{"$f":"B557","v":0},0]
["Board","Width","Board Feet","Depth","Next ","Remaining","Position",null,null,{"$f":"B88","v":0},null,0,0,{"$f":"B437","v":0},{"$f":"B558","v":0},0]
[1,{"$f":"$J$28","v":6},{"$f":"$L$28","v":4},{"$f":"$M$28","v":0.61785769359041964},{"$f":"$N$28","v":1.9418076935904196},{"$f":"$B$5-E114","v":12.768401063295581},{"$f":"IF(F114>0,D114+$C$15,0)","v":1.9418076935904196},null,null,0,null,0,0,0,0,0]
[null,null,null,null,null,null,null,null,null,0,null,0,0,0,0,0]
[1,{"$f":"J28","v":6},{"$f":"$L$28","v":4},{"$f":"$M$28","v":0.61785769359041964},{"$f":"$N$28","v":1.9418076935904196},{"$f":"$B$5-(E116+E114)","v":10.826593369705162},{"$f":"IF(F116>0,D116+$C$15,0)","v":1.9418076935904196},null,null,0,null,0,0,{"$f":"B443","v":0},{"$f":"B564","v":0},0]
[null,null,null,null,null,null,null,null,null,0,null,0,0,{"$f":"B444","v":0},{"$f":"B565","v":0},0]
["Faces 2 & 4","Billet Thickness: ",{"$f":"F116","v":10.826593369705162},null,null,null,null,null,null,0,null,0,0,0,0,0]
[null,null,null,null,null,null,null,null,null,0,null,0,0,0,0,0]
[null,null,null,"Saw",null,"Center","Max Next",null,null,0,null,6,6,null,null,0]
["Board","Width","Board Feet","Depth","Next ","Remaining","Position",null,null,0,null,6,6,null,null,0]
[1,{"$f":"IF($J$46<$C$118,$J$46, $C$118)","v":6},{"$f":"B122/12*$B$13*$K$46","v":4},{"$f":"M46","v":0.61785769359041964},{"$f":"P46","v":1.9418076935904196},{"$f":"$B$5-E122","v":12.768401063295581},{"$f":"$B$5-F122","v":1.9418076935904196},null,null,0,null,6,6,null,null,0]
[{"$f":"A122+1","v":2},{"$f":"IF(F123<$C$15, 0, IF($C$118<$J$47, $C$118, $J$47))","v":9.417236662127447},{"$f":"B123/12*$B$13*$K$47","v":12.556315549503262},{"$f":"D122+$C$15","v":1.9418076935904196},{"$f":"D123+$C$15","v":3.2657576935904196},{"$f":"IF($B$5-(E123+E151)>$B$11,$B$5-(E123+E151),0)","v":9.5026433697051615},{"$f":"IF(F123>0,D123+$C$13,0)","v":1.9418076935904196},null,null,6,null,6,6,null,null,0]
[3,9.417236662127447,{"$f":"B124/12*$B$13*$K$47","v":12.556315549503262},{"$f":"D123+$C$15","v":3.2657576935904196},{"$f":"D124+$C$15","v":4.5897076935904195},{"$f":"IF($B$5-(E124+E150)>$B$11,$B$5-(E124+E150),0)","v":6.8547433697051616},3.2657576935904196,null,null,6,null,null,null,null,null,0]
[4,9.417236662127447,12.556315549503262,4.5897076935904195,5.9136576935904195,{"$f":"IF($B$5-(E125+E149)>$B$11,$B$5-(E125+E149),0)","v":4.2068433697051617},4.5897076935904195,null,null,6,null,null,null,null,null,0]
[5,9.417236662127447,12.556315549503262,5.9136576935904195,7.2376076935904194,{"$f":"IF($B$5-(E126+E148)>$B$11,$B$5-(E126+E148),0)","v":1.5589433697051618},5.9136576935904195]
[6,0,0,7.2376076935904194,8.5615576935904194,{"$f":"IF($B$5-(E127+E147)>$B$11,$B$5-(E127+E147),0)","v":0},0]
[7,0,0,8.5615576935904194,9.8855076935904194,{"$f":"IF($B$5-(E128+E146)>$B$11,$B$5-(E128+E146),0)","v":0},0]
[8,0,0,9.8855076935904194,11.209457693590419,{"$f":"IF($B$5-(E129+E145)>$B$11,$B$5-(E129+E145),0)","v":0},0]
[9,0,0,11.209457693590419,12.533407693590419,{"$f":"IF($B$5-(E130+E144)>$B$11,$B$5-(E130+E144),0)","v":0},0]
[10,0,0,12.533407693590419,13.857357693590419,{"$f":"IF($B$5-(E131+E143)>$B$11,$B$5-(E131+E143),0)","v":0},0]
[11,0,0,13.857357693590419,15.181307693590419,{"$f":"IF($B$5-(E132+E142)>$B$11,$B$5-(E132+E142),0)","v":0},0]
[12,0,0,15.181307693590419,16.505257693590419,{"$f":"IF($B$5-(E133+E141)>$B$11,$B$5-(E133+E141),0)","v":0},0]
[13,0,0,16.505257693590419,17.829207693590419,{"$f":"IF($B$5-(E134+E140)>$B$11,$B$5-(E134+E140),0)","v":0},0]
[14,0,0,17.829207693590419,19.153157693590419,{"$f":"IF($B$5-(E135+E139)>$B$11,$B$5-(E135+E139),0)","v":0},0]
[]
[]
[{"$f":"A139+1","v":14},{"$f":"IF(F138<$C$15, 0, IF($C$118<$J$47, $C$118, $J$47))","v":0},{"$f":"B138/12*$B$12*$B$7","v":0},{"$f":"D139+$C$15","v":17.829207693590419},{"$f":"D138+$C$15","v":19.153157693590419},{"$f":"IF($B$5-(E138+E135)>=$B$11,$B$5-(E138+E135),0)","v":0},{"$f":"IF(F138>0,D138+$C$15,0)","v":0}]
[13,0,0,16.505257693590419,17.829207693590419,{"$f":"IF($B$5-(E139+E134)>=$B$11,$B$5-(E139+E134),0)","v":0},0]
[12,0,0,15.181307693590419,16.505257693590419,{"$f":"IF($B$5-(E140+E133)>=$B$11,$B$5-(E140+E133),0)","v":0},0]
[11,0,0,13.857357693590419,15.181307693590419,{"$f":"IF($B$5-(E141+E132)>=$B$11,$B$5-(E141+E132),0)","v":0},0]
[10,0,0,12.533407693590419,13.857357693590419,{"$f":"IF($B$5-(E142+E131)>=$B$11,$B$5-(E142+E131),0)","v":0},0]
[9,0,0,11.209457693590419,12.533407693590419,{"$f":"IF($B$5-(E143+E130)>=$B$11,$B$5-(E143+E130),0)","v":0},0]
[8,0,0,9.8855076935904194,11.209457693590419,{"$f":"IF($B$5-(E144+E129)>=$B$11,$B$5-(E144+E129),0)","v":0},0]
[7,0,0,8.5615576935904194,9.8855076935904194,{"$f":"IF($B$5-(E145+E128)>=$B$11,$B$5-(E145+E128),0)","v":0},0]
[6,0,0,7.2376076935904194,8.5615576935904194,{"$f":"IF($B$5-(E146+E127)>=$B$11,$B$5-(E146+E127),0)","v":0},0]
[5,0,{"$f":"B147/12*$B$13*$K$47","v":0},5.9136576935904195,7.2376076935904194,{"$f":"IF($B$5-(E147+E126)>=$B$11,$B$5-(E147+E126),0)","v":0.23499336970516183},7.2376076935904194]
[4,9.417236662127447,12.556315549503262,4.5897076935904195,5.9136576935904195,{"$f":"IF($B$5-(E148+E125)>=$B$11,$B$5-(E148+E125),0)","v":2.8828933697051617},5.9136576935904195]
[3,9.417236662127447,12.556315549503262,3.2657576935904196,4.5897076935904195,{"$f":"IF($B$5-(E149+E124)>=$B$11,$B$5-(E149+E124),0)","v":5.5307933697051617},4.5897076935904195]
[2,9.417236662127447,{"$f":"B150/12*$B$13*$K$47","v":12.556315549503262},{"$f":"D151+$C$15","v":1.9418076935904196},{"$f":"D150+$C$15","v":3.2657576935904196},{"$f":"IF($B$5-(E150+E123)>=$B$11,$B$5-(E150+E123),0)","v":8.1786933697051616},3.2657576935904196]
[1,{"$f":"IF($J$46<$C$118,$J$46, $C$118)","v":6},{"$f":"B151/12*$B$13*$K$46","v":4},{"$f":"M46","v":0.61785769359041964},{"$f":"P46","v":1.9418076935904196},{"$f":"$B$5-(E151+E122)","v":10.826593369705162},{"$f":"IF(F151>0,D151+$C$15,0)","v":1.9418076935904196}]
[]
[]
["Board Feet",{"$f":"IF(MAX(B122:B151) > B10+(2*C15),0,SUM(C122:C151)+C114+C116)","v":0}]
["Boards Sawn",{"$f":" COUNTIF(B114:B151,\">0\")","v":11}]
["Cant Height",{"$f":"IF(MIN(F114:F116)<0, 0, $B$10)","v":6}]
["Cant Width",{"$f":"IF($C$5-MAX(G138:G151) + $C$5-MAX(G122:G135)<0,0,$B$11)","v":0}]
["Cant Volume ",{"$f":"B7*B157/12*B156","v":0}]
["Split Taper Sawing Method",null,null,null,"Faces 1 and 3 "]
[null,null,null,"Saw",null,"Center","Max Next"]
["Board","Width","Board Feet","Depth","Next ","Remaining","Position"]
[1,{"$f":"2*SQRT(POWER($C$5,2)-POWER($C$5-D162,2))","v":6},{"$f":"B162/12*$B$13*$B$7","v":8},{"$f":"$C$5-SQRT(POWER($C$5,2)-POWER($C$8,2))","v":0.63963265876526876},{"$f":"D162+$C$15","v":1.9635826587652687},{"$f":"$B$5-E162","v":12.746626098120732},{"$f":"IF(F162>0,D162+$C$15,0)","v":1.9635826587652687}]
[{"$f":"A162+1","v":2},{"$f":"IF((F193-$C$15)>$B$10,(2*SQRT(POWER($C$5,2)-POWER($C$5-D163,2))),0)","v":10.005809105521585},{"$f":"B163/12*$B$13*$B$7","v":13.341078807362114},{"$f":"D162+$C$15","v":1.9635826587652687},3.2875326587652687,{"$f":"IF($B$5-(E163+E193)>$B$10,$B$5-(E163+E193),0)","v":9.4590934393554633},3.2875326587652687]
[3,{"$f":"IF((F192-$C$15)>$B$10,(2*SQRT(POWER($C$5,2)-POWER($C$5-D164,2))),0)","v":12.256005992666507},16.341341323555344,3.2875326587652687,4.6114826587652686,{"$f":"IF($B$5-(E164+E192)>$B$10,$B$5-(E164+E192),0)","v":6.8111934393554634},4.6114826587652686]
[4,{"$f":"IF((F191-$C$15)>$B$10,(2*SQRT(POWER($C$5,2)-POWER($C$5-D165,2))),0)","v":0},0,4.6114826587652686,5.9354326587652686,{"$f":"IF($B$5-(E165+E191)>$B$10,$B$5-(E165+E191),0)","v":0},0]
[5,{"$f":"IF((F190-$C$15)>$B$10,(2*SQRT(POWER($C$5,2)-POWER($C$5-D166,2))),0)","v":0},0,5.9354326587652686,7.2593826587652686,{"$f":"IF($B$5-(E166+E190)>$B$10,$B$5-(E166+E190),0)","v":0},0]
[6,{"$f":"IF((F189-$C$15)>$B$10,(2*SQRT(POWER($C$5,2)-POWER($C$5-D167,2))),0)","v":0},0,7.2593826587652686,8.5833326587652685,{"$f":"IF($B$5-(E167+E189)>$B$10,$B$5-(E167+E189),0)","v":0},0]
[7,{"$f":"IF((F188-$C$15)>$B$10,(2*SQRT(POWER($C$5,2)-POWER($C$5-D168,2))),0)","v":0},0,8.5833326587652685,9.9072826587652685,{"$f":"IF($B$5-(E168+E188)>$B$10,$B$5-(E168+E188),0)","v":0},0]
[8,{"$f":"IF((F187-$C$15)>$B$10,(2*SQRT(POWER($C$5,2)-POWER($C$5-D169,2))),0)","v":0},0,9.9072826587652685,11.231232658765268,{"$f":"IF($B$5-(E169+E187)>$B$10,$B$5-(E169+E187),0)","v":0},0]
[9,{"$f":"IF((F186-$C$15)>$B$10,(2*SQRT(POWER($C$5,2)-POWER($C$5-D170,2))),0)","v":0},0,11.231232658765268,12.555182658765268,{"$f":"IF($B$5-(E170+E186)>$B$10,$B$5-(E170+E186),0)","v":0},0]
[10,{"$f":"IF((F185-$C$15)>$B$10,(2*SQRT(POWER($C$5,2)-POWER($C$5-D171,2))),0)","v":0},0,12.555182658765268,13.879132658765268,{"$f":"IF($B$5-(E171+E185)>$B$10,$B$5-(E171+E185),0)","v":0},0]
[11,{"$f":"IF((F184-$C$15)>$B$10,(2*SQRT(POWER($C$5,2)-POWER($C$5-D172,2))),0)","v":0},0,13.879132658765268,15.203082658765268,{"$f":"IF($B$5-(E172+E184)>$B$10,$B$5-(E172+E184),0)","v":0},0]
[12,{"$f":"IF((F183-$C$15)>$B$10,(2*SQRT(POWER($C$5,2)-POWER($C$5-D173,2))),0)","v":0},0,15.203082658765268,16.527032658765268,{"$f":"IF($B$5-(E173+E183)>$B$10,$B$5-(E173+E183),0)","v":0},0]
[13,{"$f":"IF((F182-$C$15)>$B$10,(2*SQRT(POWER($C$5,2)-POWER($C$5-D174,2))),0)","v":0},0,16.527032658765268,17.850982658765268,{"$f":"IF($B$5-(E174+E182)>$B$10,$B$5-(E174+E182),0)","v":0},0]
[14,{"$f":"IF((F181-$C$15)>$B$10,(2*SQRT(POWER($C$5,2)-POWER($C$5-D175,2))),0)","v":0},0,17.850982658765268,19.174932658765268,{"$f":"IF($B$5-(E175+E181)>$B$10,$B$5-(E175+E181),0)","v":0},0]
[]
[]
[]
[]
[{"$f":"A181+1","v":14},{"$f":"IF((F175-$C$15)>=$B$10,2*SQRT(POWER($C$5,2)-POWER($C$5-D180,2)),0)","v":0},{"$f":"B180/12*$B$13*$B$7","v":0},{"$f":"D181+$C$15","v":17.850982658765268},{"$f":"D180+$C$15","v":19.174932658765268},{"$f":"IF($B$5-(E180+E175)>=$B$10,$B$5-(E180+E175),0)","v":0},{"$f":"IF(F180>0,D180+$C$15,0)","v":0}]
[13,{"$f":"IF((F174-$C$15)>=$B$10,2*SQRT(POWER($C$5,2)-POWER($C$5-D181,2)),0)","v":0},0,16.527032658765268,17.850982658765268,{"$f":"IF($B$5-(E181+E174)>=$B$10,$B$5-(E181+E174),0)","v":0},0]
[12,{"$f":"IF((F173-$C$15)>=$B$10,2*SQRT(POWER($C$5,2)-POWER($C$5-D182,2)),0)","v":0},0,15.203082658765268,16.527032658765268,{"$f":"IF($B$5-(E182+E173)>=$B$10,$B$5-(E182+E173),0)","v":0},0]
[11,{"$f":"IF((F172-$C$15)>=$B$10,2*SQRT(POWER($C$5,2)-POWER($C$5-D183,2)),0)","v":0},0,13.879132658765268,15.203082658765268,{"$f":"IF($B$5-(E183+E172)>=$B$10,$B$5-(E183+E172),0)","v":0},0]
[10,{"$f":"IF((F171-$C$15)>=$B$10,2*SQRT(POWER($C$5,2)-POWER($C$5-D184,2)),0)","v":0},0,12.555182658765268,13.879132658765268,{"$f":"IF($B$5-(E184+E171)>=$B$10,$B$5-(E184+E171),0)","v":0},0]
[9,{"$f":"IF((F170-$C$15)>=$B$10,2*SQRT(POWER($C$5,2)-POWER($C$5-D185,2)),0)","v":0},0,11.231232658765268,12.555182658765268,{"$f":"IF($B$5-(E185+E170)>=$B$10,$B$5-(E185+E170),0)","v":0},0]
[8,{"$f":"IF((F169-$C$15)>=$B$10,2*SQRT(POWER($C$5,2)-POWER($C$5-D186,2)),0)","v":0},0,9.9072826587652685,11.231232658765268,{"$f":"IF($B$5-(E186+E169)>=$B$10,$B$5-(E186+E169),0)","v":0},0]
[7,{"$f":"IF((F168-$C$15)>=$B$10,2*SQRT(POWER($C$5,2)-POWER($C$5-D187,2)),0)","v":0},0,8.5833326587652685,9.9072826587652685,{"$f":"IF($B$5-(E187+E168)>=$B$10,$B$5-(E187+E168),0)","v":0},0]
[6,{"$f":"IF((F167-$C$15)>=$B$10,2*SQRT(POWER($C$5,2)-POWER($C$5-D188,2)),0)","v":0},0,7.2593826587652686,8.5833326587652685,{"$f":"IF($B$5-(E188+E167)>=$B$10,$B$5-(E188+E167),0)","v":0},0]
[5,{"$f":"IF((F166-$C$15)>=$B$10,2*SQRT(POWER($C$5,2)-POWER($C$5-D189,2)),0)","v":0},0,5.9354326587652686,7.2593826587652686,{"$f":"IF($B$5-(E189+E166)>=$B$10,$B$5-(E189+E166),0)","v":0},0]
[4,{"$f":"IF((F165-$C$15)>=$B$10,2*SQRT(POWER($C$5,2)-POWER($C$5-D190,2)),0)","v":0},0,4.6114826587652686,5.9354326587652686,{"$f":"IF($B$5-(E190+E165)>=$B$10,$B$5-(E190+E165),0)","v":0},0]
[3,{"$f":"IF((F164-$C$15)>=$B$10,2*SQRT(POWER($C$5,2)-POWER($C$5-D191,2)),0)","v":0},0,3.2875326587652687,4.6114826587652686,{"$f":"IF($B$5-(E191+E164)>=$B$10,$B$5-(E191+E164),0)","v":0},0]
[2,{"$f":"IF((F163-$C$15)>=$B$10,2*SQRT(POWER($C$5,2)-POWER($C$5-D192,2)),0)","v":10.005809105521585},13.341078807362114,1.9635826587652687,3.2875326587652687,{"$f":"IF($B$5-(E192+E163)>=$B$10,$B$5-(E192+E163),0)","v":8.1351434393554634},3.2875326587652687]
[1,{"$f":"IF(F193>0,2*SQRT(POWER($C$5,2)-POWER($C$5-D193,2)),0)","v":6},{"$f":"B193/12*$B$13*$B$7","v":8},{"$f":"$C$5-SQRT(POWER($C$5,2)-POWER($C$8,2))","v":0.63963265876526876},1.9635826587652687,{"$f":"$B$5-(E193+E162)","v":10.783043439355463},1.9635826587652687]
[" "]
["Board Feet",{"$f":"SUM(C162:C193)","v":59.02349893827958}]
["Boards Sawn ",{"$f":" COUNTIF(B162:B193,\">0\")","v":5}]
["Cant Top Y Position",{"$f":"$C$5-MAX(G162:G175)","v":2.7436217196777317}]
["Cant Bot Y Position",{"$f":"$C$5-MAX(G180:G193)","v":4.0675717196777317}]
["Actual Cant Height",{"$f":"IF(B197+B198>=B10, B10, IF(B197+B198 < B10, 0, B197+B198))","v":6}]
[]
[]
[]
[null,null,"Faces 2 and 4 "]
[null,null,null,"Saw",null,"Center","Max Next"]
["Board","Width","Board Feet","Depth","Next ","Remaining","Position"]
[1,{"$f":"IF(D206<MIN(K55,L55),$B$8,$B$199)","v":6},{"$f":"IF(B206/12*$B$16*$B$7<$B$21, 0, B206/12*$B$16*$B$7)","v":8},{"$f":"$M$55","v":0.6407284227400547},{"$f":"D206+$C$18","v":1.9646784227400547},{"$f":"$B$5-E206","v":12.745530334145947},{"$f":"IF(F206>0,D206+$C$18,0)","v":1.9646784227400547}]
[{"$f":"A206+1","v":2},{"$f":"IF(F207-$C$18>=$B$14,IF(D207<MIN($K$55,$L$55),$B$8,$B$199),0)","v":6},{"$f":"IF(B207/12*$B$16*$B$7<$B$21, 0, B207/12*$B$16*$B$7)","v":8},{"$f":"D206+$C$18","v":1.9646784227400547},{"$f":"D207+$C$18","v":3.2886284227400546},{"$f":"IF($B$5-(E207+E235)>$B$11,$B$5-(E207+E235),0)","v":9.4569019114058914},{"$f":"IF(F207>0,D207+$C$18,0)","v":3.2886284227400546}]
[3,{"$f":"IF(F208-$C$18>=$B$14,IF(D208<MIN($K$55,$L$55),$B$8,$B$199),0)","v":6},8,{"$f":"D207+$C$18","v":3.2886284227400546},4.6125784227400546,{"$f":"IF($B$5-(E208+E234)>$B$11,$B$5-(E208+E234),0)","v":6.8090019114058915},4.6125784227400546]
[4,6,8,4.6125784227400546,5.9365284227400545,{"$f":"IF($B$5-(E209+E233)>$B$11,$B$5-(E209+E233),0)","v":4.1611019114058916},5.9365284227400545]
[5,6,8,5.9365284227400545,7.2604784227400545,{"$f":"IF($B$5-(E210+E232)>$B$11,$B$5-(E210+E232),0)","v":1.5132019114058917},7.2604784227400545]
[6,0,0,7.2604784227400545,8.5844284227400536,{"$f":"IF($B$5-(E211+E231)>$B$11,$B$5-(E211+E231),0)","v":0},0]
[7,0,0,8.5844284227400536,9.9083784227400535,{"$f":"IF($B$5-(E212+E230)>$B$11,$B$5-(E212+E230),0)","v":0},0]
[8,0,0,9.9083784227400535,11.232328422740053,{"$f":"IF($B$5-(E213+E229)>$B$11,$B$5-(E213+E229),0)","v":0},0]
[9,0,0,11.232328422740053,12.556278422740053,{"$f":"IF($B$5-(E214+E228)>$B$11,$B$5-(E214+E228),0)","v":0},0]
[10,0,0,12.556278422740053,13.880228422740053,{"$f":"IF($B$5-(E215+E227)>$B$11,$B$5-(E215+E227),0)","v":0},0]
[11,0,0,13.880228422740053,15.204178422740053,{"$f":"IF($B$5-(E216+E226)>$B$11,$B$5-(E216+E226),0)","v":0},0]
[12,0,0,15.204178422740053,16.528128422740053,{"$f":"IF($B$5-(E217+E225)>$B$11,$B$5-(E217+E225),0)","v":0},0]
[13,0,0,16.528128422740053,17.852078422740053,{"$f":"IF($B$5-(E218+E224)>$B$11,$B$5-(E218+E224),0)","v":0},0]
[14,0,0,17.852078422740053,19.176028422740053,{"$f":"IF($B$5-(E219+E223)>$B$11,$B$5-(E219+E223),0)","v":0},0]
[]
[]
[{"$f":"A223+1","v":14},{"$f":"IF(F222-$C$18>=$B$14,IF(D222<MIN($K$55,$L$55),$B$8,$B$199),0)","v":0},{"$f":"IF(B222/12*$B$16*$B$7<$B$21, 0, B222/12*$B$16*$B$7)","v":0},{"$f":"D223+$C$18","v":17.852078422740053},{"$f":"D222+$C$18","v":19.176028422740053},{"$f":"IF($B$5-(E222+E219)>=$B$11,$B$5-(E222+E219),0)","v":0},{"$f":"IF(F222>0,D222+$C$18,0)","v":0}]
[13,0,0,16.528128422740053,17.852078422740053,{"$f":"IF($B$5-(E223+E218)>=$B$11,$B$5-(E223+E218),0)","v":0},0]
[12,0,0,15.204178422740053,16.528128422740053,{"$f":"IF($B$5-(E224+E217)>=$B$11,$B$5-(E224+E217),0)","v":0},0]
[11,0,0,13.880228422740053,15.204178422740053,{"$f":"IF($B$5-(E225+E216)>=$B$11,$B$5-(E225+E216),0)","v":0},0]
[10,0,0,12.556278422740053,13.880228422740053,{"$f":"IF($B$5-(E226+E215)>=$B$11,$B$5-(E226+E215),0)","v":0},0]
[9,0,0,11.232328422740053,12.556278422740053,{"$f":"IF($B$5-(E227+E214)>=$B$11,$B$5-(E227+E214),0)","v":0},0]
[8,0,0,9.9083784227400535,11.232328422740053,{"$f":"IF($B$5-(E228+E213)>=$B$11,$B$5-(E228+E213),0)","v":0},0]
[7,0,0,8.5844284227400536,9.9083784227400535,{"$f":"IF($B$5-(E229+E212)>=$B$11,$B$5-(E229+E212),0)","v":0},0]
[6,0,0,7.2604784227400545,8.5844284227400536,{"$f":"IF($B$5-(E230+E211)>=$B$11,$B$5-(E230+E211),0)","v":0},0]
[5,0,0,5.9365284227400545,7.2604784227400545,{"$f":"IF($B$5-(E231+E210)>=$B$11,$B$5-(E231+E210),0)","v":0.1892519114058917},7.2604784227400545]
[4,6,8,4.6125784227400546,5.9365284227400545,{"$f":"IF($B$5-(E232+E209)>=$B$11,$B$5-(E232+E209),0)","v":2.8371519114058916},5.9365284227400545]
[3,6,8,3.2886284227400546,4.6125784227400546,{"$f":"IF($B$5-(E233+E208)>=$B$11,$B$5-(E233+E208),0)","v":5.4850519114058915},4.6125784227400546]
[2,{"$f":"IF(F234-$C$18>=$B$14,IF(D234<MIN($K$55,$L$55),$B$8,$B$199),0)","v":6},8,{"$f":"D235+$C$18","v":1.9646784227400547},3.2886284227400546,{"$f":"IF($B$5-(E234+E207)>=$B$11,$B$5-(E234+E207),0)","v":8.1329519114058915},3.2886284227400546]
[1,{"$f":"IF(D235<MIN(K55,L55),$B$8,$B$199)","v":6},{"$f":"IF(B235/12*$B$16*$B$7<$B$21, 0, B235/12*$B$16*$B$7)","v":8},{"$f":"$M$55","v":0.6407284227400547},{"$f":"D235+$C$18","v":1.9646784227400547},{"$f":"$B$5-(E235+E206)","v":10.780851911405891},{"$f":"IF(F235>0,D235+$C$18,0)","v":1.9646784227400547}]
[]
["Board Feet",{"$f":"IF(MIN(F180:F193),0,SUM(C206:C235))","v":72}]
["Boards Sawn ",{"$f":"IF(MIN(F180:F193),0,COUNTIF(B206:B235,\">0\"))","v":9}]
["Actual Cant Width",{"$f":"IF(B240+B241<$B$11, 0, $B$11)","v":0}]
["Cant Left X Position",{"$f":"$C$5-MAX(G206:G219)","v":9.4625955702945852E-2}]
["Cant Right X Position",{"$f":"$C$5-MAX(G222:G235)","v":9.4625955702945852E-2}]
[]
[null,"Board Count","Volume","Cant Height","Cant Width","Cant Vol.","Mode"]
["Split Taper W/ Min Open Cut",{"$f":"B103+B61","v":15},{"$f":"B102+B60","v":128.83579322630774},{"$f":"B64","v":6},{"$f":"B104","v":0},{"$f":"D244/12*E244*$B$7","v":0},1]
["Split Taper Cheek & Billet",{"$f":"B155","v":11},{"$f":"B154","v":0},{"$f":"B156","v":6},{"$f":"B157","v":0},{"$f":"D245/12*E245*$B$7","v":0},2]
["Split Taper NO min Open Cut",{"$f":"B238+B196","v":14},{"$f":"B237+B195","v":131.02349893827957},{"$f":"B199","v":6},{"$f":"IF(B239<0,0,B11)","v":0},0,3]
["Best Solution",{"$f":"IF(AND(C244>C246, C244>C245),B244,  IF(C245>C246, B245, B246))","v":14},{"$f":"IF(AND($C244>$C246, $C244>$C245),C244,IF($C245>$C246, C245,C246))","v":131.02349893827957},{"$f":"IF(AND($C244>$C246, $C244>$C245),D244,IF($C245>$C246, D245,D246))","v":6},0,0,3]
[{"$f":"B20","v":"AUTO"},{"$f":"IF($A$248=\"AUTO\",B247,IF($A$248=\"YES\",B244,B246))","v":14},{"$f":"IF($A$248=\"AUTO\",C247,IF($A$248=\"YES\",C244,C246))","v":131.02349893827957},{"$f":"IF($A$245=\"AUTO\",D$247,IF($A$245=\"YES\",D$244,D$246))","v":6},{"$f":"IF($A$245=\"AUTO\",E$247,IF($A$245=\"YES\",E$244,E$246))","v":0}]
[]
[]
["Full Taper Sawing Method"]
[null,null,"Faces 1 and 3 "]
[null,null,null,"Saw",null,"Center","Max Next"]
["Board","Width","Board Feet","Depth","Next ","Remaining","Position"]
[1,{"$f":"2*SQRT(POWER($C$5,2)-POWER($C$5-D255,2))","v":6},{"$f":"B255/12*$B$12*$B$7","v":1},{"$f":"$C$5-SQRT(POWER($C$5,2)-POWER($C$8,2))","v":0.63963265876526876},{"$f":"D255+$C$15","v":1.9635826587652687},{"$f":"$B$5-E255","v":12.746626098120732},{"$f":"IF(F255>0,D255+$C$15,0)","v":1.9635826587652687}]
[{"$f":"A255+1","v":2},{"$f":"IF((F286-$C$15)>$B$10,(2*SQRT(POWER($C$5,2)-POWER($C$5-D256,2))),0)","v":10.005809105521585},{"$f":"B256/12*$B$12*$B$7","v":1.6676348509202643},{"$f":"D255+$C$15","v":1.9635826587652687},{"$f":"D256+$C$15","v":3.2875326587652687},{"$f":"IF($B$5-(E256+E286)>$B$10,$B$5-(E256+E286),0)","v":9.4590934393554633},{"$f":"IF(F256>0,D256+$C$15,0)","v":3.2875326587652687}]
[3,{"$f":"IF((F285-$C$15)>$B$10,(2*SQRT(POWER($C$5,2)-POWER($C$5-D257,2))),0)","v":12.256005992666507},{"$f":"B257/12*$B$12*$B$7","v":2.042667665444418},{"$f":"D256+$C$15","v":3.2875326587652687},{"$f":"D257+$C$15","v":4.6114826587652686},{"$f":"IF($B$5-(E257+E285)>$B$10,$B$5-(E257+E285),0)","v":6.8111934393554634},4.6114826587652686]
[4,{"$f":"IF((F284-$C$15)>$B$10,(2*SQRT(POWER($C$5,2)-POWER($C$5-D258,2))),0)","v":0},0,4.6114826587652686,5.9354326587652686,{"$f":"IF($B$5-(E258+E284)>$B$10,$B$5-(E258+E284),0)","v":0},0]
[5,{"$f":"IF((F283-$C$15)>$B$10,(2*SQRT(POWER($C$5,2)-POWER($C$5-D259,2))),0)","v":0},0,5.9354326587652686,7.2593826587652686,{"$f":"IF($B$5-(E259+E283)>$B$10,$B$5-(E259+E283),0)","v":0},0]
[6,{"$f":"IF((F282-$C$15)>$B$10,(2*SQRT(POWER($C$5,2)-POWER($C$5-D260,2))),0)","v":0},0,7.2593826587652686,8.5833326587652685,{"$f":"IF($B$5-(E260+E282)>$B$10,$B$5-(E260+E282),0)","v":0},0]
[7,{"$f":"IF((F281-$C$15)>$B$10,(2*SQRT(POWER($C$5,2)-POWER($C$5-D261,2))),0)","v":0},0,8.5833326587652685,9.9072826587652685,{"$f":"IF($B$5-(E261+E281)>$B$10,$B$5-(E261+E281),0)","v":0},0]
[8,{"$f":"IF((F280-$C$15)>$B$10,(2*SQRT(POWER($C$5,2)-POWER($C$5-D262,2))),0)","v":0},0,9.9072826587652685,11.231232658765268,{"$f":"IF($B$5-(E262+E280)>$B$10,$B$5-(E262+E280),0)","v":0},0]
[9,{"$f":"IF((F279-$C$15)>$B$10,(2*SQRT(POWER($C$5,2)-POWER($C$5-D263,2))),0)","v":0},0,11.231232658765268,12.555182658765268,{"$f":"IF($B$5-(E263+E279)>$B$10,$B$5-(E263+E279),0)","v":0},0]
[10,{"$f":"IF((F278-$C$15)>$B$10,(2*SQRT(POWER($C$5,2)-POWER($C$5-D264,2))),0)","v":0},0,12.555182658765268,13.879132658765268,{"$f":"IF($B$5-(E264+E278)>$B$10,$B$5-(E264+E278),0)","v":0},0]
[11,{"$f":"IF((F277-$C$15)>$B$10,(2*SQRT(POWER($C$5,2)-POWER($C$5-D265,2))),0)","v":0},0,13.879132658765268,15.203082658765268,{"$f":"IF($B$5-(E265+E277)>$B$10,$B$5-(E265+E277),0)","v":0},0]
[12,{"$f":"IF((F276-$C$15)>$B$10,(2*SQRT(POWER($C$5,2)-POWER($C$5-D266,2))),0)","v":0},0,15.203082658765268,16.527032658765268,{"$f":"IF($B$5-(E266+E276)>$B$10,$B$5-(E266+E276),0)","v":0},0]
[13,{"$f":"IF((F275-$C$15)>$B$10,(2*SQRT(POWER($C$5,2)-POWER($C$5-D267,2))),0)","v":0},0,16.527032658765268,17.850982658765268,{"$f":"IF($B$5-(E267+E275)>$B$10,$B$5-(E267+E275),0)","v":0},0]
[14,{"$f":"IF((F274-$C$15)>$B$10,(2*SQRT(POWER($C$5,2)-POWER($C$5-D268,2))),0)","v":0},0,17.850982658765268,19.174932658765268,{"$f":"IF($B$5-(E268+E274)>$B$10,$B$5-(E268+E274),0)","v":0},0]
[]
[]
[]
[]
[{"$f":"A274+1","v":14},{"$f":"IF((F268-$C$15)>=$B$10,2*SQRT(POWER($C$5,2)-POWER($C$5-D273,2)),0)","v":0},{"$f":"B273/12*$B$12*$B$7","v":0},{"$f":"D274+$C$15","v":17.850982658765268},{"$f":"D273+$C$15","v":19.174932658765268},{"$f":"IF($B$5-(E273+E268)>=$B$10,$B$5-(E273+E268),0)","v":0},{"$f":"IF(F273>0,D273+$C$15,0)","v":0}]
[13,{"$f":"IF((F267-$C$15)>=$B$10,2*SQRT(POWER($C$5,2)-POWER($C$5-D274,2)),0)","v":0},0,16.527032658765268,17.850982658765268,{"$f":"IF($B$5-(E274+E267)>=$B$10,$B$5-(E274+E267),0)","v":0},0]
[12,{"$f":"IF((F266-$C$15)>=$B$10,2*SQRT(POWER($C$5,2)-POWER($C$5-D275,2)),0)","v":0},0,15.203082658765268,16.527032658765268,{"$f":"IF($B$5-(E275+E266)>=$B$10,$B$5-(E275+E266),0)","v":0},0]
[11,{"$f":"IF((F265-$C$15)>=$B$10,2*SQRT(POWER($C$5,2)-POWER($C$5-D276,2)),0)","v":0},0,13.879132658765268,15.203082658765268,{"$f":"IF($B$5-(E276+E265)>=$B$10,$B$5-(E276+E265),0)","v":0},0]
[10,{"$f":"IF((F264-$C$15)>=$B$10,2*SQRT(POWER($C$5,2)-POWER($C$5-D277,2)),0)","v":0},0,12.555182658765268,13.879132658765268,{"$f":"IF($B$5-(E277+E264)>=$B$10,$B$5-(E277+E264),0)","v":0},0]
[9,{"$f":"IF((F263-$C$15)>=$B$10,2*SQRT(POWER($C$5,2)-POWER($C$5-D278,2)),0)","v":0},0,11.231232658765268,12.555182658765268,{"$f":"IF($B$5-(E278+E263)>=$B$10,$B$5-(E278+E263),0)","v":0},0]
[8,{"$f":"IF((F262-$C$15)>=$B$10,2*SQRT(POWER($C$5,2)-POWER($C$5-D279,2)),0)","v":0},0,9.9072826587652685,11.231232658765268,{"$f":"IF($B$5-(E279+E262)>=$B$10,$B$5-(E279+E262),0)","v":0},0]
[7,{"$f":"IF((F261-$C$15)>=$B$10,2*SQRT(POWER($C$5,2)-POWER($C$5-D280,2)),0)","v":0},0,8.5833326587652685,9.9072826587652685,{"$f":"IF($B$5-(E280+E261)>=$B$10,$B$5-(E280+E261),0)","v":0},0]
[6,{"$f":"IF((F260-$C$15)>=$B$10,2*SQRT(POWER($C$5,2)-POWER($C$5-D281,2)),0)","v":0},0,7.2593826587652686,8.5833326587652685,{"$f":"IF($B$5-(E281+E260)>=$B$10,$B$5-(E281+E260),0)","v":0},0]
[5,{"$f":"IF((F259-$C$15)>=$B$10,2*SQRT(POWER($C$5,2)-POWER($C$5-D282,2)),0)","v":0},0,5.9354326587652686,7.2593826587652686,{"$f":"IF($B$5-(E282+E259)>=$B$10,$B$5-(E282+E259),0)","v":0},0]
[4,{"$f":"IF((F258-$C$15)>=$B$10,2*SQRT(POWER($C$5,2)-POWER($C$5-D283,2)),0)","v":0},0,4.6114826587652686,5.9354326587652686,{"$f":"IF($B$5-(E283+E258)>=$B$10,$B$5-(E283+E258),0)","v":0},0]
[3,{"$f":"IF((F257-$C$15)>=$B$10,2*SQRT(POWER($C$5,2)-POWER($C$5-D284,2)),0)","v":0},0,3.2875326587652687,4.6114826587652686,{"$f":"IF($B$5-(E284+E257)>=$B$10,$B$5-(E284+E257),0)","v":0},0]
[2,{"$f":"IF((F256-$C$15)>=$B$10,2*SQRT(POWER($C$5,2)-POWER($C$5-D285,2)),0)","v":10.005809105521585},{"$f":"B285/12*$B$12*$B$7","v":1.6676348509202643},{"$f":"D286+$C$15","v":1.9635826587652687},{"$f":"D285+$C$15","v":3.2875326587652687},{"$f":"IF($B$5-(E285+E256)>=$B$10,$B$5-(E285+E256),0)","v":8.1351434393554634},3.2875326587652687]
[1,{"$f":"IF(F286>0,2*SQRT(POWER($C$5,2)-POWER($C$5-D286,2)),0)","v":6},{"$f":"B286/12*$B$12*$B$7","v":1},{"$f":"$C$5-SQRT(POWER($C$5,2)-POWER($C$8,2))","v":0.63963265876526876},{"$f":"D286+$C$15","v":1.9635826587652687},{"$f":"$B$5-(E286+E255)","v":10.783043439355463},{"$f":"IF(F286>0,D286+$C$15,0)","v":1.9635826587652687}]
[" "]
["Board Feet",{"$f":"IF($B$20=\"yes\",SUM(C255:C286)+Q265,SUM(C255:C286))","v":7.3779373672849475}]
["Boards Sawn ",{"$f":"IF($B$20=\"yes\",COUNTIF(B255:B286,\">0\")+Q264, COUNTIF(B255:B286,\">0\"))","v":5}]
["Cant Top Y Position",{"$f":"$C$5-MAX(G255:G268)","v":2.7436217196777317},null,"Faces 2 and 4 Full length Cant opening Face Calculations"]
["Cant Bot Y Position",{"$f":"$C$5-MAX(G273:G286)","v":4.0675717196777317}]
["Actual Cant Height",{"$f":"IF(B290+B291>=B10,B10,IF(B290+B291<B10,0,B290+B291))","v":6},null,"depth","Upper ","Lower","Maximum "]
[null,null,null,"F","T","B","Position"]
[null,null,null,{"$f":"$C$5-SQRT(POWER($C$5,2)-POWER($C$8,2))","v":0.63963265876526876},{"$f":"$C$5-SQRT(POWER($C$5,2)-POWER($B$290,2))","v":0.53087546397185736},{"$f":"$C$5-SQRT(POWER($C$5,2)-POWER($B$291,2))","v":1.2271013821097467},{"$f":"MAX(D294:F294)","v":1.2271013821097467}]
[]
[null,null,"Faces 2 and 4 "]
[null,null,null,"Saw",null,"Center","Max Next"]
["Board","Width","Board Feet","Depth","Next ","Remaining","Position"]
[1,{"$f":"$B$292","v":6},{"$f":"IF((B299/12*$B$16*$B$7) < $B$21, 0, B299/12*$B$16*$B$7)","v":8},{"$f":"$G$294","v":1.2271013821097467},{"$f":"D299+$C$18","v":2.5510513821097467},{"$f":"$B$5-E299","v":12.159157374776253},{"$f":"IF(F299>0,D299+$C$18,0)","v":2.5510513821097467}]
[{"$f":"A299+1","v":2},{"$f":"IF(F300-$C$18>=$B$11,$B$292,0)","v":6},{"$f":"IF((B300/12*$B$16*$B$7) < $B$21, 0, B300/12*$B$16*$B$7)","v":8},{"$f":"D299+$C$18","v":2.5510513821097467},{"$f":"D300+$C$18","v":3.8750013821097467},{"$f":"IF($B$5-(E300+E328)>$B$11,$B$5-(E300+E328),0)","v":8.2841559926665074},{"$f":"IF(F300>0,D300+$C$18,0)","v":3.8750013821097467}]
[3,{"$f":"IF(F301-$C$18>=$B$11,$B$292,0)","v":6},8,{"$f":"D300+$C$18","v":3.8750013821097467},5.1989513821097466,{"$f":"IF($B$5-(E301+E327)>$B$11,$B$5-(E301+E327),0)","v":5.6362559926665075},5.1989513821097466]
[4,6,8,5.1989513821097466,6.5229013821097466,{"$f":"IF($B$5-(E302+E326)>$B$11,$B$5-(E302+E326),0)","v":2.9883559926665075},6.5229013821097466]
[5,0,0,6.5229013821097466,7.8468513821097465,{"$f":"IF($B$5-(E303+E325)>$B$11,$B$5-(E303+E325),0)","v":0.34045599266650761},7.8468513821097465]
[6,0,0,7.8468513821097465,9.1708013821097474,{"$f":"IF($B$5-(E304+E324)>$B$11,$B$5-(E304+E324),0)","v":0},0]
[7,0,0,9.1708013821097474,10.494751382109747,{"$f":"IF($B$5-(E305+E323)>$B$11,$B$5-(E305+E323),0)","v":0},0]
[8,0,0,10.494751382109747,11.818701382109747,{"$f":"IF($B$5-(E306+E322)>$B$11,$B$5-(E306+E322),0)","v":0},0]
[9,0,0,11.818701382109747,13.142651382109747,{"$f":"IF($B$5-(E307+E321)>$B$11,$B$5-(E307+E321),0)","v":0},0]
[10,0,0,13.142651382109747,14.466601382109747,{"$f":"IF($B$5-(E308+E320)>$B$11,$B$5-(E308+E320),0)","v":0},0]
[11,0,0,14.466601382109747,15.790551382109747,{"$f":"IF($B$5-(E309+E319)>$B$11,$B$5-(E309+E319),0)","v":0},0]
[12,0,0,15.790551382109747,17.114501382109747,{"$f":"IF($B$5-(E310+E318)>$B$11,$B$5-(E310+E318),0)","v":0},0]
[13,0,0,17.114501382109747,18.438451382109747,{"$f":"IF($B$5-(E311+E317)>$B$11,$B$5-(E311+E317),0)","v":0},0]
[14,0,0,18.438451382109747,19.762401382109747,{"$f":"IF($B$5-(E312+E316)>$B$11,$B$5-(E312+E316),0)","v":0},0]
[]
[]
[{"$f":"A316+1","v":14},{"$f":"IF(F315-$C$18>=$B$11,$B$292,0)","v":0},{"$f":"IF((B315/12*$B$16*$B$7) < $B$21, 0, B315/12*$B$16*$B$7)","v":0},{"$f":"D316+$C$18","v":18.438451382109747},{"$f":"D315+$C$18","v":19.762401382109747},{"$f":"IF($B$5-(E315+E312)>=$B$11,$B$5-(E315+E312),0)","v":0},{"$f":"IF(F315>0,D315+$C$18,0)","v":0}]
[13,0,0,17.114501382109747,18.438451382109747,{"$f":"IF($B$5-(E316+E311)>=$B$11,$B$5-(E316+E311),0)","v":0},0]
[12,0,0,15.790551382109747,17.114501382109747,{"$f":"IF($B$5-(E317+E310)>=$B$11,$B$5-(E317+E310),0)","v":0},0]
[11,0,0,14.466601382109747,15.790551382109747,{"$f":"IF($B$5-(E318+E309)>=$B$11,$B$5-(E318+E309),0)","v":0},0]
[10,0,0,13.142651382109747,14.466601382109747,{"$f":"IF($B$5-(E319+E308)>=$B$11,$B$5-(E319+E308),0)","v":0},0]
[9,0,0,11.818701382109747,13.142651382109747,{"$f":"IF($B$5-(E320+E307)>=$B$11,$B$5-(E320+E307),0)","v":0},0]
[8,0,0,10.494751382109747,11.818701382109747,{"$f":"IF($B$5-(E321+E306)>=$B$11,$B$5-(E321+E306),0)","v":0},0]
[7,0,0,9.1708013821097474,10.494751382109747,{"$f":"IF($B$5-(E322+E305)>=$B$11,$B$5-(E322+E305),0)","v":0},0]
[6,0,0,7.8468513821097465,9.1708013821097474,{"$f":"IF($B$5-(E323+E304)>=$B$11,$B$5-(E323+E304),0)","v":0},0]
[5,0,0,6.5229013821097466,7.8468513821097465,{"$f":"IF($B$5-(E324+E303)>=$B$11,$B$5-(E324+E303),0)","v":0},0]
[4,6,8,5.1989513821097466,6.5229013821097466,{"$f":"IF($B$5-(E325+E302)>=$B$11,$B$5-(E325+E302),0)","v":1.6644059926665076},6.5229013821097466]
[3,6,8,3.8750013821097467,5.1989513821097466,{"$f":"IF($B$5-(E326+E301)>=$B$11,$B$5-(E326+E301),0)","v":4.3123059926665075},5.1989513821097466]
[2,6,8,{"$f":"D328+$C$18","v":2.5510513821097467},3.8750013821097467,{"$f":"IF($B$5-(E327+E300)>=$B$11,$B$5-(E327+E300),0)","v":6.9602059926665074},3.8750013821097467]
[1,{"$f":"IF(F328-$C$18>=$B$11,$B$292,0)","v":6},{"$f":"IF((B328/12*$B$16*$B$7) < $B$21, 0, B328/12*$B$16*$B$7)","v":8},{"$f":"$G$294","v":1.2271013821097467},{"$f":"D328+$C$18","v":2.5510513821097467},{"$f":"$B$5-(E328+E299)","v":9.6081059926665073},{"$f":"IF(F328>0,D328+$C$18,0)","v":2.5510513821097467}]
[]
["Board Feet",{"$f":"IF(MIN(F273:F286)<0,0,IF($B$20=\"yes\",SUM(C299:C328)+Q282,SUM(C299:C328)))","v":64}]
["Boards Sawn ",{"$f":"IF(MIN(F273:F286)<0,0,IF($B$20=\"yes\", COUNTIF(B299:B328,\">0\")+Q281,COUNTIF(B299:B328,\">0\")))","v":8}]
["Actual Cant Width",{"$f":"IF(B333+B334<C14,0,IF(B333+B334>=B11,B11,0))","v":0}]
["Cant Left X Position",{"$f":"$C$5-MAX(G299:G312)","v":-0.49174700366674617}]
["Cant Right X Position",{"$f":"$C$5-MAX(G315:G328)","v":0.83220299633325379}]
["Experimental Grade Sawing Method (Split Taper)"]
["Largest Square Fit",{"$f":"$C$5*1.414213","v":10.40168422835101}]
["Cut Depth of Largest Square",{"$f":"$C$5-SQRT(POWER($C$5,2)-POWER($B$336/2,2))","v":2.1542581279555035}]
[]
["Opening Face Size/Depth Calculations"]
[{"$f":"J26","v":"Width"},{"$f":"K26","v":"Length"},"Board","1st Face","2nd Face"]
[{"$f":"J27","v":"(inches)"},"(feet)","Feet","Depth","Depth"]
[6,8,4,{"$f":"O28","v":0.38080272300047646},{"$f":"D342+$C$14","v":1.5747527230004765}]
[9.417236662127447,16,12.556315549503262,{"$f":"O29","v":1.7047527230004764},{"$f":"D343+$C$14","v":2.8987027230004765}]
[12.226987218260531,16,16.302649624347374,3.0287027230004764,4.2226527230004764]
[13.630868144501692,16,18.174490859335588,4.3526527230004763,5.5466027230004764]
[]
["Face 1"]
[null,null,null,"Board","Saw","2nd Face"]
["Board ","Width","Length","Feet","Depth","Depth"]
[1,{"$f":"A342","v":6},{"$f":"B342","v":8},{"$f":"B350/12*C350*$B$13","v":4},{"$f":"D342","v":0.38080272300047646},{"$f":"E350+$C$14","v":1.5747527230004765}]
[2,{"$f":"IF(E350+$C$15>$B$337, 0,$A$343)","v":9.417236662127447},{"$f":"IF(B351=0,0,B343)","v":16},{"$f":"B351/12*C351*$B$13","v":12.556315549503262},{"$f":"E350+$C$15","v":1.7047527230004764},{"$f":"IF(B351>0, E351+$C$14,0)","v":2.8987027230004765}]
[3,{"$f":"IF(E351+$C$15>$B$337, 0,$A$344)","v":0},{"$f":"IF(B352=0,0,B344)","v":0},0,{"$f":"E351+$C$15","v":3.0287027230004764},{"$f":"IF(B352>0, E352+$C$14,0)","v":0}]
[4,{"$f":"IF(E352+$C$15>$B$337, 0,$A$345)","v":0},{"$f":"IF(B353=0,0,B345)","v":0},0,4.3526527230004763,0]
[" "]
[]
["Face 3"]
[null,null,null,"Board","Saw","2nd Face","Center"]
["Board ","Width","Length","Feet","Depth","Depth","Remaining"]
[1,{"$f":"A342","v":6},{"$f":"B342","v":8},{"$f":"B359/12*C359*$B$13","v":4},{"$f":"D342","v":0.38080272300047646},{"$f":"E359+$C$14","v":1.5747527230004765},{"$f":"$B$5-F350-F359-2*$B$14","v":11.30070331088505}]
[2,{"$f":"IF(E359+$C$15>$B$337, 0,$A$343)","v":9.417236662127447},{"$f":"IF(B360=0,0,B343)","v":16},{"$f":"B360/12*C360*$B$13","v":12.556315549503262},{"$f":"E359+$C$15","v":1.7047527230004764},{"$f":"E360+$C$14","v":2.8987027230004765},{"$f":"IF(D360>0, G359-2*$C$15, 0)","v":8.6528033108850497}]
[3,{"$f":"IF(E360+$C$15>$B$337, 0,$A$344)","v":0},{"$f":"IF(B361=0,0,B344)","v":0},0,{"$f":"E360+$C$15","v":3.0287027230004764},4.2226527230004764,{"$f":"IF(C361>0, G360-2*$C$15, 0)","v":0}]
[4,{"$f":"IF(E361+$C$15>$B$337, 0,$A$345)","v":0},{"$f":"IF(B362=0,0,B345)","v":0},0,4.3526527230004763,5.5466027230004764,{"$f":"IF(C362>0, G361-2*$C$15, 0)","v":0}]
[" "]
[]
["Face 2"]
[null,null,null,"Board","Saw","2nd Face"]
["Board ","Width","Length","Feet","Depth","Depth"]
[1,{"$f":"MIN(G359,A342)","v":6},{"$f":"B342","v":8},{"$f":"B368/12*C368*$B$13","v":4},{"$f":"D342","v":0.38080272300047646},{"$f":"E368+$C$14","v":1.5747527230004765}]
[2,{"$f":"IF(E368+$C$15>$B$337, 0,$A$343)","v":9.417236662127447},{"$f":"IF(B369=0,0,B343)","v":16},{"$f":"B369/12*C369*$B$13","v":12.556315549503262},{"$f":"E368+$C$15","v":1.7047527230004764},{"$f":"E369+$C$14","v":2.8987027230004765}]
[3,{"$f":"IF(E369+$C$15>$B$337, 0,$A$344)","v":0},{"$f":"IF(B370=0,0,B344)","v":0},0,{"$f":"E369+$C$15","v":3.0287027230004764},4.2226527230004764]
[4,{"$f":"IF(E370+$C$15>$B$337, 0,$A$345)","v":0},{"$f":"IF(B371=0,0,B345)","v":0},0,{"$f":"E370+$C$15","v":4.3526527230004763},5.5466027230004764]
[" "]
[]
["Face 4"]
[null,null,null,"Board","Saw","2nd Face","Center"]
["Board ","Width","Length","Feet","Depth","Depth","Remaining"]
[1,{"$f":"IF(F350> $B$337,IF(A342<G359,A342,G359),$A$342)","v":6},{"$f":"B342","v":8},{"$f":"B377/12*C377*$B$13","v":4},{"$f":"D342","v":0.38080272300047646},{"$f":"E377+$C$14","v":1.5747527230004765},{"$f":"$B$5-F368-F377-2*$B$14","v":11.30070331088505}]
[2,{"$f":"IF(E377+$C$15>$B$337, 0,$A$343)","v":9.417236662127447},{"$f":"IF(B378=0,0,B343)","v":16},{"$f":"B378/12*C378*$B$13","v":12.556315549503262},{"$f":"E377+$C$15","v":1.7047527230004764},{"$f":"E378+$C$14","v":2.8987027230004765},{"$f":"IF(C378>0, G377-2*$C$15, 0)","v":8.6528033108850497}]
[3,{"$f":"IF(E378+$C$15>$B$337, 0,$A$344)","v":0},{"$f":"IF(B379=0,0,B344)","v":0},0,{"$f":"E378+$C$15","v":3.0287027230004764},4.2226527230004764,{"$f":"IF(C379>0, G378-2*$C$15, 0)","v":0}]
[4,{"$f":"IF(E379+$C$15>$B$337, 0,$A$345)","v":0},{"$f":"IF(B380=0,0,B345)","v":0},0,4.3526527230004763,5.5466027230004764,0]
[]
[]
["Saw The Maximum Fitted Square"]
[]
[null,null,null,"Board","Saw","2nd Face","Cant  ","Remaining",null,"Start","Square"]
["Pass 1","Width","Length","Feet","Depth","Depth","Width","Height","Cut ?","Depth","Width","isResaw?"]
["Face 1",{"$f":"IF($K$387-$C$15<$B$10, 0, $K$387)","v":8.6528033108850497},{"$f":"$B$7","v":16},{"$f":"B387/12*C387*$B$13","v":11.537071081180066},{"$f":"J387","v":3.0287027230004764},{"$f":"E387+$C$14","v":4.2226527230004764},{"$f":"K387","v":8.6528033108850497},{"$f":"IF(B387=0, K387, G387-$C$15)","v":7.3288533108850498},{"$f":"IF(B387>0, 1, 0)","v":1},{"$f":"MAX(F350:F353)+$B$14","v":3.0287027230004764},{"$f":"SMALL(G359:G362,COUNTIF(G359:G362,0)+1)","v":8.6528033108850497}]
["Face 2",{"$f":"IF(L388=0,IF(G387-$C$15<$B$11, 0, H387), IF(G387-$C$18<$B$11, 0, H387))","v":7.3288533108850498},{"$f":"$B$7","v":16},{"$f":"IF(L388=1,B388/12*C388*$B$16,B388/12*C388*$B$13)","v":9.7718044145133991},{"$f":"J387","v":3.0287027230004764},{"$f":"IF(L388=1, E388+$C$17, E388+$C$14)","v":4.2226527230004764},{"$f":"IF(B388=0, K387, IF(L388=1, K387-$C$18,K387-$C$15))","v":7.3288533108850498},{"$f":"IF(B388=0, H387, B388)","v":7.3288533108850498},{"$f":"IF(B388>0, 1, 0)","v":1},null,null,{"$f":"IF(AND($B$11=0,K387-$C$14<$B$10),1,0)","v":0}]
["Face 3",{"$f":"IF(H388-$C$15<$B$10, 0, G388)","v":7.3288533108850498},16,{"$f":"B389/12*C389*$B$13","v":9.7718044145133991},{"$f":"J387","v":3.0287027230004764},{"$f":"E389+$C$14","v":4.2226527230004764},{"$f":"G388","v":7.3288533108850498},{"$f":"IF(B389=0, H388, H388-$C$15)","v":6.0049033108850498},{"$f":"IF(B389>0, 1, 0)","v":1}]
["Face 4",{"$f":"IF(L390=0,IF(G389-$C$15<$B$11, 0, H389), IF(G389-$C$18<$B$11, 0, H389))","v":6.0049033108850498},16,{"$f":"IF(L390=1,B390/12*C390*$B$16,B390/12*C390*$B$13)","v":8.0065377478467337},{"$f":"J387","v":3.0287027230004764},{"$f":"IF(L390=1, E390+$C$17, E390+$C$14)","v":4.2226527230004764},{"$f":"IF(B390=0, G388, IF(L390=1, G388-$C$18,G388-$C$15))","v":6.0049033108850498},{"$f":"IF(B390=0, H389, B390)","v":6.0049033108850498},{"$f":"IF(B390>0, 1, 0)","v":1},null,null,{"$f":"IF(AND($B$11=0,K387-$C$14<$B$10),1,0)","v":0}]
[null,null,null,null,null,null,null,null,null,"Starting Cant"]
[null,null,null,null,null,null,null,null,null,"Width","Height"]
["Pass 2  ",null,null,null,null,null,null,null,"Cut ?",{"$f":"MIN(G387:G390)","v":6.0049033108850498},{"$f":"MIN(H387:H390)","v":6.0049033108850498}]
["Face 1",{"$f":"IF(K393-$C$15 < $B$10, 0, J393)","v":0},{"$f":"$B$7","v":16},{"$f":"B394/12*C394*$B$13","v":0},{"$f":"IF(I387=1,E387+$C$15, E387)","v":4.3526527230004763},{"$f":"IF(I387=1,F387+$C$14, F387)","v":5.4166027230004765},{"$f":"J393","v":6.0049033108850498},{"$f":"IF(B394=0, K393, K393-$C$15)","v":6.0049033108850498},{"$f":"IF(B394>0, 1, 0)","v":0}]
["Face 2",{"$f":"IF(L395=0,IF(G394-$C$15<$B$11, 0, H394), IF(G394-$C$18<$B$11, 0, H394))","v":6.0049033108850498},16,{"$f":"IF(L395=1,B395/12*C395*$B$16,B395/12*C395*$B$13)","v":8.0065377478467337},{"$f":"IF(I388=1,IF(L395=1,E388+$C$18,E388+$C$15), E388)","v":4.3526527230004763},{"$f":"IF(L395=1, E395+$C$17, E395+$C$14)","v":5.5466027230004764},{"$f":"IF(B395=0, J393, IF(L395=1, J393-$C$18,J393-$C$15))","v":4.6809533108850498},{"$f":"IF(B395=0, H394, B395)","v":6.0049033108850498},{"$f":"IF(B395>0, 1, 0)","v":1},null,null,{"$f":"IF(AND($B$11=0,K393-$C$14<$B$10),1,0)","v":1}]
["Face 3",{"$f":"IF(H395-$C$15<$B$10, 0, G395)","v":0},16,{"$f":"B396/12*C396*$B$13","v":0},{"$f":"IF(I389=1,E389+$C$15, E389)","v":4.3526527230004763},{"$f":"E396+$C$14","v":5.5466027230004764},{"$f":"G395","v":4.6809533108850498},{"$f":"IF(B396=0, H395, H395-$C$15)","v":6.0049033108850498},{"$f":"IF(B396>0, 1, 0)","v":0}]
["Face 4",{"$f":"IF(L397=0,IF(G396-$C$15<$B$11, 0, H396), IF(G396-$C$18<$B$11, 0, H396))","v":6.0049033108850498},16,{"$f":"IF(L397=1,B397/12*C397*$B$16,B397/12*C397*$B$13)","v":8.0065377478467337},{"$f":"IF(I390=1,IF(L397=1,E390+$C$18,E390+$C$15), E390)","v":4.3526527230004763},{"$f":"IF(L397=1, E397+$C$17, E397+$C$14)","v":5.5466027230004764},{"$f":"IF(B397=0, G395, IF(L397=1, G395-$C$18,G395-$C$15))","v":3.3570033108850499},{"$f":"IF(B397=0, H396, B397)","v":6.0049033108850498},{"$f":"IF(B397>0, 1, 0)","v":1},null,null,{"$f":"IF(AND($B$11=0,K393-$C$14<$B$10),1,0)","v":1}]
[null,null,null,null,null,null,null,null,null,"Starting Cant"]
[null,null,null,null,null,null,null,null,null,"Width","Height"]
["Pass 3",null,null,null,null,null,null,null,"Cut ?",{"$f":"MIN(G394:G397)","v":3.3570033108850499},{"$f":"MIN(H394:H397)","v":6.0049033108850498}]
["Face 1",{"$f":"IF(K400-$C$15 < $B$10, 0, J400)","v":0},{"$f":"$B$7","v":16},{"$f":"B401/12*C401*$B$13","v":0},{"$f":"IF(I394=1,E394+$C$15, E394)","v":4.3526527230004763},{"$f":"E401+$C$14","v":5.5466027230004764},{"$f":"J400","v":3.3570033108850499},{"$f":"IF(B401=0, K400, K400-$C$15)","v":6.0049033108850498},{"$f":"IF(B401>0, 1, 0)","v":0}]
["Face 2",{"$f":"IF(L402=0,IF(G401-$C$15<$B$11, 0, H401), IF(G401-$C$18<$B$11, 0, H401))","v":6.0049033108850498},16,{"$f":"IF(L402=1,B402/12*C402*$B$16,B402/12*C402*$B$13)","v":8.0065377478467337},{"$f":"IF(I395=1,IF(L402=1,E395+$C$18,E395+$C$15), E395)","v":5.6766027230004763},{"$f":"IF(L402=1, E402+$C$17, E402+$C$14)","v":6.8705527230004764},{"$f":"IF(B402=0, J400, IF(L402=1, J400-$C$18,J400-$C$15))","v":2.0330533108850499},{"$f":"IF(B402=0, H401, B402)","v":6.0049033108850498},{"$f":"IF(B402>0, 1, 0)","v":1},null,null,{"$f":"IF(AND($B$11=0,K400-$C$14<$B$10),1,0)","v":1}]
["Face 3",{"$f":"IF(H402-$C$15<$B$10, 0, G402)","v":0},16,{"$f":"B403/12*C403*$B$13","v":0},4.3526527230004763,{"$f":"E403+$C$14","v":5.5466027230004764},{"$f":"G402","v":2.0330533108850499},{"$f":"IF(B403=0, H402, H402-$C$15)","v":6.0049033108850498},{"$f":"IF(B403>0, 1, 0)","v":0}]
["Face 4",{"$f":"IF(L404=0,IF(G403-$C$15<$B$11, 0, H403), IF(G403-$C$18<$B$11, 0, H403))","v":6.0049033108850498},16,{"$f":"IF(L404=1,B404/12*C404*$B$16,B404/12*C404*$B$13)","v":8.0065377478467337},{"$f":"IF(I397=1,IF(L404=1,E397+$C$18,E397+$C$15), E397)","v":5.6766027230004763},{"$f":"IF(L404=1, E404+$C$17, E404+$C$14)","v":6.8705527230004764},{"$f":"IF(B404=0, G402, IF(L404=1, G402-$C$18,G402-$C$15))","v":0.70910331088504996},{"$f":"IF(B404=0, H403, B404)","v":6.0049033108850498},{"$f":"IF(B404>0, 1, 0)","v":1},null,null,{"$f":"IF(AND($B$11=0,K400-$C$14<$B$10),1,0)","v":1}]
[null,null,null,null,null,null,null,null,null,"Starting Cant"]
[null,null,null,null,null,null,null,null,null,"Width","Height"]
["Pass 4",null,null,null,null,null,null,null,"Cut ?",{"$f":"MIN(G401:G404)","v":0.70910331088504996},{"$f":"MIN(H401:H404)","v":6.0049033108850498}]
["Face 1",{"$f":"IF(K407-$C$15 < $B$10, 0, J407)","v":0},{"$f":"$B$7","v":16},{"$f":"B408/12*C408*$B$13","v":0},{"$f":"IF(I401=1,E401+$C$15, E401)","v":4.3526527230004763},{"$f":"E408+$C$14","v":5.5466027230004764},{"$f":"J407","v":0.70910331088504996},{"$f":"IF(B408=0, K407, K407-$C$15)","v":6.0049033108850498},{"$f":"IF(B408>0, 1, 0)","v":0}]
["Face 2",{"$f":"IF(L409=0,IF(G408-$C$15<$B$11, 0, H408), IF(G408-$C$18<$B$11, 0, H408))","v":0},16,{"$f":"IF(L409=1,B409/12*C409*$B$16,B409/12*C409*$B$13)","v":0},{"$f":"IF(I402=1,IF(L409=1,E402+$C$18,E402+$C$15), E402)","v":7.0005527230004763},{"$f":"IF(L409=1, E409+$C$17, E409+$C$14)","v":8.1945027230004754},{"$f":"IF(B409=0, J407, IF(L409=1, J407-$C$18,J407-$C$15))","v":0.70910331088504996},{"$f":"IF(B409=0, H408, B409)","v":6.0049033108850498},{"$f":"IF(B409>0, 1, 0)","v":0},null,null,{"$f":"IF(AND($B$11=0,K407-$C$14<$B$10),1,0)","v":1}]
["Face 3",{"$f":"IF(H409-$C$15<$B$10, 0, G409)","v":0},16,{"$f":"B410/12*C410*$B$13","v":0},4.3526527230004763,{"$f":"E410+$C$14","v":5.5466027230004764},{"$f":"G409","v":0.70910331088504996},{"$f":"IF(B410=0, H409, H409-$C$15)","v":6.0049033108850498},{"$f":"IF(B410>0, 1, 0)","v":0}]
["Face 4",{"$f":"IF(L411=0,IF(G410-$C$15<$B$11, 0, H410), IF(G410-$C$18<$B$11, 0, H410))","v":0},16,{"$f":"IF(L411=1,B411/12*C411*$B$16,B411/12*C411*$B$13)","v":0},{"$f":"IF(I404=1,IF(L411=1,E404+$C$18,E404+$C$15), E404)","v":7.0005527230004763},{"$f":"IF(L411=1, E411+$C$17, E411+$C$14)","v":8.1945027230004754},{"$f":"IF(B411=0, G409, IF(L411=1, G409-$C$18,G409-$C$15))","v":0.70910331088504996},{"$f":"IF(B411=0, H410, B411)","v":6.0049033108850498},{"$f":"IF(B411>0, 1, 0)","v":0},null,null,{"$f":"IF(AND($B$11=0,K407-$C$14<$B$10),1,0)","v":1}]
[null,null,null,null,null,null,null,null,null,"Starting Cant"]
[null,null,null,null,null,null,null,null,null,"Width","Height"]
["Pass 5",null,null,null,null,null,null,null,"Cut ?",{"$f":"MIN(G408:G411)","v":0.70910331088504996},{"$f":"MIN(H408:H411)","v":6.0049033108850498}]
["Face 1",{"$f":"IF(K414-$C$15 < $B$10, 0, J414)","v":0},{"$f":"$B$7","v":16},{"$f":"B415/12*C415*$B$13","v":0},{"$f":"IF(I408=1,E408+$C$15, E408)","v":4.3526527230004763},{"$f":"E415+$C$14","v":5.5466027230004764},{"$f":"J414","v":0.70910331088504996},{"$f":"IF(B415=0, K414, K414-$C$15)","v":6.0049033108850498},{"$f":"IF(B415>0, 1, 0)","v":0}]
["Face 2",{"$f":"IF(L416=0,IF(G415-$C$15<$B$11, 0, H415), IF(G415-$C$18<$B$11, 0, H415))","v":0},16,{"$f":"IF(L416=1,B416/12*C416*$B$16,B416/12*C416*$B$13)","v":0},{"$f":"IF(I409=1,IF(L416=1,E409+$C$18,E409+$C$15), E409)","v":7.0005527230004763},{"$f":"IF(L416=1, E416+$C$17, E416+$C$14)","v":8.1945027230004754},{"$f":"IF(B416=0, J414, IF(L416=1, J414-$C$18,J414-$C$15))","v":0.70910331088504996},{"$f":"IF(B416=0, H415, B416)","v":6.0049033108850498},{"$f":"IF(B416>0, 1, 0)","v":0},null,null,{"$f":"IF(AND($B$11=0,K414-$C$14<$B$10),1,0)","v":1}]
["Face 3",{"$f":"IF(H416-$C$15<$B$10, 0, G416)","v":0},16,{"$f":"B417/12*C417*$B$13","v":0},4.3526527230004763,{"$f":"E417+$C$14","v":5.5466027230004764},{"$f":"G416","v":0.70910331088504996},{"$f":"IF(B417=0, H416, H416-$C$15)","v":6.0049033108850498},{"$f":"IF(B417>0, 1, 0)","v":0}]
["Face 4",{"$f":"IF(L418=0,IF(G417-$C$15<$B$11, 0, H417), IF(G417-$C$18<$B$11, 0, H417))","v":0},16,{"$f":"IF(L418=1,B418/12*C418*$B$16,B418/12*C418*$B$13)","v":0},{"$f":"IF(I411=1,IF(L418=1,E411+$C$18,E411+$C$15), E411)","v":7.0005527230004763},{"$f":"IF(L418=1, E418+$C$17, E418+$C$14)","v":8.1945027230004754},{"$f":"IF(B418=0, G416, IF(L418=1, G416-$C$18,G416-$C$15))","v":0.70910331088504996},{"$f":"IF(B418=0, H417, B418)","v":6.0049033108850498},{"$f":"IF(B418>0, 1, 0)","v":0},null,null,{"$f":"IF(AND($B$11=0,K414-$C$14<$B$10),1,0)","v":1}]
[null,null,null,null,null,null,null,null,null,"Starting Cant"]
[null,null,null,null,null,null,null,null,null,"Width","Height"]
["Pass 6",null,null,null,null,null,null,null,"Cut ?",{"$f":"MIN(G415:G418)","v":0.70910331088504996},{"$f":"MIN(H415:H418)","v":6.0049033108850498}]
["Face 1",{"$f":"IF(K421-$C$15 < $B$10, 0, J421)","v":0},{"$f":"$B$7","v":16},{"$f":"B422/12*C422*$B$13","v":0},{"$f":"IF(I415=1,E415+$C$15, E415)","v":4.3526527230004763},{"$f":"E422+$C$14","v":5.5466027230004764},{"$f":"J421","v":0.70910331088504996},{"$f":"IF(B422=0, K421, K421-$C$15)","v":6.0049033108850498},{"$f":"IF(B422>0, 1, 0)","v":0}]
["Face 2",{"$f":"IF(L423=0,IF(G422-$C$15<$B$11, 0, H422), IF(G422-$C$18<$B$11, 0, H422))","v":0},16,{"$f":"IF(L423=1,B423/12*C423*$B$16,B423/12*C423*$B$13)","v":0},{"$f":"IF(I416=1,IF(L423=1,E416+$C$18,E416+$C$15), E416)","v":7.0005527230004763},{"$f":"IF(L423=1, E423+$C$17, E423+$C$14)","v":8.1945027230004754},{"$f":"IF(B423=0, J421, IF(L423=1, J421-$C$18,J421-$C$15))","v":0.70910331088504996},{"$f":"IF(B423=0, H422, B423)","v":6.0049033108850498},{"$f":"IF(B423>0, 1, 0)","v":0},null,null,{"$f":"IF(AND($B$11=0,K421-$C$14<$B$10),1,0)","v":1}]
["Face 3",{"$f":"IF(H423-$C$15<$B$10, 0, G423)","v":0},16,0,4.3526527230004763,{"$f":"E424+$C$14","v":5.5466027230004764},{"$f":"G423","v":0.70910331088504996},{"$f":"IF(B424=0, H423, H423-$C$15)","v":6.0049033108850498},{"$f":"IF(B424>0, 1, 0)","v":0}]
["Face 4",{"$f":"IF(L425=0,IF(G424-$C$15<$B$11, 0, H424), IF(G424-$C$18<$B$11, 0, H424))","v":0},16,{"$f":"IF(L425=1,B425/12*C425*$B$16,B425/12*C425*$B$13)","v":0},{"$f":"IF(I418=1,IF(L425=1,E418+$C$18,E418+$C$15), E418)","v":7.0005527230004763},{"$f":"IF(L425=1, E425+$C$17, E425+$C$14)","v":8.1945027230004754},{"$f":"IF(B425=0, G423, IF(L425=1, G423-$C$18,G423-$C$15))","v":0.70910331088504996},{"$f":"IF(B425=0, H424, B425)","v":6.0049033108850498},{"$f":"IF(B425>0, 1, 0)","v":0},null,null,{"$f":"IF(AND($B$11=0,K421-$C$14<$B$10),1,0)","v":1}]
[null,null,null,null,null,null,null,null,null,"Starting Cant"]
[null,null,null,null,null,null,null,null,null,"Width","Height"]
["Pass 7",null,null,null,null,null,null,null,"Cut ?",{"$f":"MIN(G422:G425)","v":0.70910331088504996},{"$f":"MIN(H422:H425)","v":6.0049033108850498}]
["Face 1",{"$f":"IF(K428-$C$15 < $B$10, 0, J428)","v":0},{"$f":"$B$7","v":16},{"$f":"B429/12*C429*$B$13","v":0},{"$f":"IF(I422=1,E422+$C$15, E422)","v":4.3526527230004763},{"$f":"E429+$C$14","v":5.5466027230004764},{"$f":"J428","v":0.70910331088504996},{"$f":"IF(B429=0, K428, K428-$C$15)","v":6.0049033108850498},{"$f":"IF(B429>0, 1, 0)","v":0}]
["Face 2",{"$f":"IF(L430=0,IF(G429-$C$15<$B$11, 0, H429), IF(G429-$C$18<$B$11, 0, H429))","v":0},16,{"$f":"IF(L430=1,B430/12*C430*$B$16,B430/12*C430*$B$13)","v":0},{"$f":"IF(I423=1,IF(L430=1,E423+$C$18,E423+$C$15), E423)","v":7.0005527230004763},{"$f":"IF(L430=1, E430+$C$17, E430+$C$14)","v":8.1945027230004754},{"$f":"IF(B430=0, J428, IF(L430=1, J428-$C$18,J428-$C$15))","v":0.70910331088504996},{"$f":"IF(B430=0, H429, B430)","v":6.0049033108850498},{"$f":"IF(B430>0, 1, 0)","v":0},null,null,{"$f":"IF(AND($B$11=0,K428-$C$14<$B$10),1,0)","v":1}]
["Face 3",{"$f":"IF(H430-$C$15<$B$10, 0, G430)","v":0},16,0,4.3526527230004763,{"$f":"E431+$C$14","v":5.5466027230004764},{"$f":"G430","v":0.70910331088504996},{"$f":"IF(B431=0, H430, H430-$C$15)","v":6.0049033108850498},{"$f":"IF(B431>0, 1, 0)","v":0}]
["Face 4",{"$f":"IF(L432=0,IF(G431-$C$15<$B$11, 0, H431), IF(G431-$C$18<$B$11, 0, H431))","v":0},16,{"$f":"IF(L432=1,B432/12*C432*$B$16,B432/12*C432*$B$13)","v":0},{"$f":"IF(I425=1,IF(L432=1,E425+$C$18,E425+$C$15), E425)","v":7.0005527230004763},{"$f":"IF(L432=1, E432+$C$17, E432+$C$14)","v":8.1945027230004754},{"$f":"IF(B432=0, G430, IF(L432=1, G430-$C$18,G430-$C$15))","v":0.70910331088504996},{"$f":"IF(B432=0, H431, B432)","v":6.0049033108850498},{"$f":"IF(B432>0, 1, 0)","v":0},null,null,{"$f":"IF(AND($B$11=0,K428-$C$14<$B$10),1,0)","v":1}]
[null,null,null,null,null,null,null,null,null,"Starting Cant"]
[null,null,null,null,null,null,null,null,null,"Width","Height"]
["Pass 8",null,null,null,null,null,null,null,"Cut ?",{"$f":"MIN(G429:G432)","v":0.70910331088504996},{"$f":"MIN(H429:H432)","v":6.0049033108850498}]
["Face 1",{"$f":"IF(K435-$C$15 < $B$10, 0, J435)","v":0},{"$f":"$B$7","v":16},{"$f":"B436/12*C436*$B$13","v":0},{"$f":"IF(I429=1,E429+$C$15, E429)","v":4.3526527230004763},{"$f":"E436+$C$14","v":5.5466027230004764},{"$f":"J435","v":0.70910331088504996},{"$f":"IF(B436=0, K435, K435-$C$15)","v":6.0049033108850498},{"$f":"IF(B436>0, 1, 0)","v":0}]
["Face 2",{"$f":"IF(L437=0,IF(G436-$C$15<$B$11, 0, H436), IF(G436-$C$18<$B$11, 0, H436))","v":0},16,{"$f":"IF(L437=1,B437/12*C437*$B$16,B437/12*C437*$B$13)","v":0},{"$f":"IF(I430=1,IF(L437=1,E430+$C$18,E430+$C$15), E430)","v":7.0005527230004763},{"$f":"IF(L437=1, E437+$C$17, E437+$C$14)","v":8.1945027230004754},{"$f":"IF(B437=0, J435, IF(L437=1, J435-$C$18,J435-$C$15))","v":0.70910331088504996},{"$f":"IF(B437=0, H436, B437)","v":6.0049033108850498},{"$f":"IF(B437>0, 1, 0)","v":0},null,null,{"$f":"IF(AND($B$11=0,K435-$C$14<$B$10),1,0)","v":1}]
["Face 3",{"$f":"IF(H437-$C$15<$B$10, 0, G437)","v":0},16,0,4.3526527230004763,{"$f":"E438+$C$14","v":5.5466027230004764},{"$f":"G437","v":0.70910331088504996},{"$f":"IF(B438=0, H437, H437-$C$15)","v":6.0049033108850498},{"$f":"IF(B438>0, 1, 0)","v":0}]
["Face 4",{"$f":"IF(L439=0,IF(G438-$C$15<$B$11, 0, H438), IF(G438-$C$18<$B$11, 0, H438))","v":0},16,{"$f":"IF(L439=1,B439/12*C439*$B$16,B439/12*C439*$B$13)","v":0},{"$f":"IF(I432=1,IF(L439=1,E432+$C$18,E432+$C$15), E432)","v":7.0005527230004763},{"$f":"IF(L439=1, E439+$C$17, E439+$C$14)","v":8.1945027230004754},{"$f":"IF(B439=0, G437, IF(L439=1, G437-$C$18,G437-$C$15))","v":0.70910331088504996},{"$f":"IF(B439=0, H438, B439)","v":6.0049033108850498},{"$f":"IF(B439>0, 1, 0)","v":0},null,null,{"$f":"IF(AND($B$11=0,K435-$C$14<$B$10),1,0)","v":1}]
[null,null,null,null,null,null,null,null,null,"Starting Cant"]
[null,null,null,null,null,null,null,null,null,"Width","Height"]
["Pass 9",null,null,null,null,null,null,null,"Cut ?",{"$f":"MIN(G436:G439)","v":0.70910331088504996},{"$f":"MIN(H436:H439)","v":6.0049033108850498}]
["Face 1",{"$f":"IF(K442-$C$15 < $B$10, 0, J442)","v":0},{"$f":"$B$7","v":16},{"$f":"B443/12*C443*$B$13","v":0},{"$f":"IF(I436=1,E436+$C$15, E436)","v":4.3526527230004763},{"$f":"E443+$C$14","v":5.5466027230004764},{"$f":"J442","v":0.70910331088504996},{"$f":"IF(B443=0, K442, K442-$C$15)","v":6.0049033108850498},{"$f":"IF(B443>0, 1, 0)","v":0}]
["Face 2",{"$f":"IF(L444=0,IF(G443-$C$15<$B$11, 0, H443), IF(G443-$C$18<$B$11, 0, H443))","v":0},16,{"$f":"IF(L444=1,B444/12*C444*$B$16,B444/12*C444*$B$13)","v":0},{"$f":"IF(I437=1,IF(L444=1,E437+$C$18,E437+$C$15), E437)","v":7.0005527230004763},{"$f":"IF(L444=1, E444+$C$17, E444+$C$14)","v":8.1945027230004754},{"$f":"IF(B444=0, J442, IF(L444=1, J442-$C$18,J442-$C$15))","v":0.70910331088504996},{"$f":"IF(B444=0, H443, B444)","v":6.0049033108850498},{"$f":"IF(B444>0, 1, 0)","v":0},null,null,{"$f":"IF(AND($B$11=0,K442-$C$14<$B$10),1,0)","v":1}]
["Face 3",{"$f":"IF(H444-$C$15<$B$10, 0, G444)","v":0},16,0,4.3526527230004763,{"$f":"E445+$C$14","v":5.5466027230004764},{"$f":"G444","v":0.70910331088504996},{"$f":"IF(B445=0, H444, H444-$C$15)","v":6.0049033108850498},{"$f":"IF(B445>0, 1, 0)","v":0}]
["Face 4",{"$f":"IF(L446=0,IF(G445-$C$15<$B$11, 0, H445), IF(G445-$C$18<$B$11, 0, H445))","v":0},16,{"$f":"IF(L446=1,B446/12*C446*$B$16,B446/12*C446*$B$13)","v":0},{"$f":"IF(I439=1,IF(L446=1,E439+$C$18,E439+$C$15), E439)","v":7.0005527230004763},{"$f":"IF(L446=1, E446+$C$17, E446+$C$14)","v":8.1945027230004754},{"$f":"IF(B446=0, G444, IF(L446=1, G444-$C$18,G444-$C$15))","v":0.70910331088504996},{"$f":"IF(B446=0, H445, B446)","v":6.0049033108850498},{"$f":"IF(B446>0, 1, 0)","v":0},null,null,{"$f":"IF(AND($B$11=0,K442-$C$14<$B$10),1,0)","v":1}]
[]
["Grade Saw Results Summary"]
["Board Count",{"$f":"COUNTIF(B387:B446,\">\"&0)+COUNTIF(B350:B380,\">\"&0)","v":16}]
["Board Feet",{"$f":"SUM(D387:D446)+SUM(D350:D380)","v":137.33863084745357}]
["Cant Width",{"$f":"IF(J442<$B$11,0,$B$11)","v":0}]
["Cant Height",{"$f":"IF(K442<$B$10, 0, $B$10)","v":6}]
["Cant Volume",{"$f":"$B$5*B452/12 *B451","v":0}]
["Total Volume",{"$f":"B453+B450","v":137.33863084745357}]
[]
["Experimental Grade Sawing Method (Full Taper)"]
["Largest Square Fit",{"$f":"$C$5*1.414213","v":10.40168422835101}]
["Cut Depth of Largest Square",{"$f":"$C$5-SQRT(POWER($C$5,2)-POWER($B$336/2,2))","v":2.1542581279555035}]
[]
["Opening Face Size/Depth Calculations"]
[{"$f":"J26","v":"Width"},{"$f":"K26","v":"Length"},"Board","1st Face","2nd Face"]
[{"$f":"J27","v":"(inches)"},"(feet)","Feet","Depth","Depth"]
[{"$f":"2*SQRT(POWER($C$5,2)-POWER($C$5-D463,2))","v":6},{"$f":"$B$7","v":16},{"$f":"A463/12*B463*$B$13","v":8},{"$f":"$C$5-SQRT(POWER($C$5,2)-POWER($C$8,2))","v":0.63963265876526876},{"$f":"D463+$C$14","v":1.8335826587652688}]
[{"$f":"2*SQRT(POWER($C$5,2)-POWER($C$5-D464,2))","v":10.005809105521585},{"$f":"$B$7","v":16},{"$f":"A464/12*B464*$B$13","v":13.341078807362114},{"$f":"D463+$C$15","v":1.9635826587652687},{"$f":"D464+$C$14","v":3.1575326587652688}]
[12.256005992666507,16,{"$f":"A465/12*B465*$B$13","v":16.341341323555344},{"$f":"D464+$C$15","v":3.2875326587652687},4.4814826587652687]
[13.648457828942286,16,{"$f":"A466/12*B466*$B$13","v":18.197943771923047},4.6114826587652686,5.8054326587652687]
[]
["Face 1"]
[null,null,null,"Board","Saw","2nd Face"]
["Board ","Width","Length","Feet","Depth","Depth"]
[1,{"$f":"A463","v":6},{"$f":"B463","v":16},{"$f":"B471/12*C471*$B$13","v":8},{"$f":"D463","v":0.63963265876526876},{"$f":"E471+$C$14","v":1.8335826587652688}]
[2,{"$f":"IF(E471+$C$15>$B$458, 0,$A$464)","v":10.005809105521585},{"$f":"IF(B472=0,0,B464)","v":16},{"$f":"B472/12*C472*$B$13","v":13.341078807362114},{"$f":"E471+$C$15","v":1.9635826587652687},{"$f":"IF(B472>0, E472+$C$14,0)","v":3.1575326587652688}]
[3,{"$f":"IF(E472+$C$15>$B$458, 0,$A$465)","v":0},{"$f":"IF(B473=0,0,B465)","v":0},{"$f":"B473/12*C473*$B$13","v":0},{"$f":"E472+$C$15","v":3.2875326587652687},{"$f":"IF(B473>0, E473+$C$14,0)","v":0}]
[4,{"$f":"IF(E473+$C$15>$B$458, 0,$A$466)","v":0},{"$f":"IF(B474=0,0,B466)","v":0},0,4.6114826587652686,0]
[" "]
[]
["Face 3"]
[null,null,null,"Board","Saw","2nd Face","Center"]
["Board ","Width","Length","Feet","Depth","Depth","Remaining"]
[1,{"$f":"A463","v":6},{"$f":"B463","v":16},{"$f":"B480/12*C480*$B$13","v":8},{"$f":"D463","v":0.63963265876526876},{"$f":"E480+$C$14","v":1.8335826587652688},{"$f":"$B$5-F471-F480-2*$B$14","v":10.783043439355462}]
[2,{"$f":"IF(E480+$C$15>$B$458, 0,$A$464)","v":10.005809105521585},{"$f":"IF(B481=0,0,B464)","v":16},{"$f":"B481/12*C481*$B$13","v":13.341078807362114},{"$f":"E480+$C$15","v":1.9635826587652687},{"$f":"E481+$C$14","v":3.1575326587652688},{"$f":"IF(D481>0, G480-2*$C$15, 0)","v":8.1351434393554616}]
[3,{"$f":"IF(E481+$C$15>$B$458, 0,$A$465)","v":0},{"$f":"IF(B482=0,0,B465)","v":0},0,{"$f":"E481+$C$15","v":3.2875326587652687},4.4814826587652687,{"$f":"IF(C482>0, G481-2*$C$15, 0)","v":0}]
[4,{"$f":"IF(E482+$C$15>$B$458, 0,$A$466)","v":0},{"$f":"IF(B483=0,0,B466)","v":0},0,4.6114826587652686,5.8054326587652687,{"$f":"IF(C483>0, G482-2*$C$15, 0)","v":0}]
[" "]
[]
["Face 2"]
[null,null,null,"Board","Saw","2nd Face"]
["Board ","Width","Length","Feet","Depth","Depth"]
[1,{"$f":"MIN(G480,A463)","v":6},{"$f":"B463","v":16},{"$f":"B489/12*C489*$B$13","v":8},{"$f":"D463","v":0.63963265876526876},{"$f":"E489+$C$14","v":1.8335826587652688}]
[2,{"$f":"IF(E489+$C$15>$B$458, 0,$A$464)","v":10.005809105521585},{"$f":"IF(B490=0,0,B464)","v":16},13.341078807362114,{"$f":"E489+$C$15","v":1.9635826587652687},{"$f":"E490+$C$14","v":3.1575326587652688}]
[3,{"$f":"IF(E490+$C$15>$B$458, 0,$A$465)","v":0},{"$f":"IF(B491=0,0,B465)","v":0},0,{"$f":"E490+$C$15","v":3.2875326587652687},4.4814826587652687]
[4,{"$f":"IF(E491+$C$15>$B$458, 0,$A$466)","v":0},{"$f":"IF(B492=0,0,B466)","v":0},0,{"$f":"E491+$C$15","v":4.6114826587652686},5.8054326587652687]
[" "]
[]
["Face 4"]
[null,null,null,"Board","Saw","2nd Face","Center"]
["Board ","Width","Length","Feet","Depth","Depth","Remaining"]
[1,{"$f":"IF(E471> $B$337,IF(A463<G480,A463,G480),$A$342)","v":6},{"$f":"B463","v":16},{"$f":"B498/12*C498*$B$13","v":8},{"$f":"D463","v":0.63963265876526876},{"$f":"E498+$C$14","v":1.8335826587652688},{"$f":"$B$5-F489-F498-2*$B$14","v":10.783043439355462}]
[2,{"$f":"IF(E498+$C$15>$B$458, 0,$A$464)","v":10.005809105521585},{"$f":"IF(B499=0,0,B464)","v":16},{"$f":"B499/12*C499*$B$13","v":13.341078807362114},{"$f":"E498+$C$15","v":1.9635826587652687},{"$f":"E499+$C$14","v":3.1575326587652688},{"$f":"IF(C499>0, G498-2*$C$15, 0)","v":8.1351434393554616}]
[3,{"$f":"IF(E499+$C$15>$B$458, 0,$A$465)","v":0},{"$f":"IF(B500=0,0,B465)","v":0},{"$f":"B500/12*C500*$B$13","v":0},{"$f":"E499+$C$15","v":3.2875326587652687},4.4814826587652687,{"$f":"IF(C500>0, G499-2*$C$15, 0)","v":0}]
[4,{"$f":"IF(E500+$C$15>$B$458, 0,$A$466)","v":0},{"$f":"IF(B501=0,0,B466)","v":0},{"$f":"B501/12*C501*$B$13","v":0},4.6114826587652686,5.8054326587652687,0]
[]
[]
["Saw The Maximum Fitted Square"]
[]
[null,null,null,"Board","Saw","2nd Face","Cant  ","Remaining",null,"Start","Square"]
["Pass 1","Width","Length","Feet","Depth","Depth","Width","Height","Cut ?","Depth","Width","isResaw?"]
["Face 1",{"$f":"IF($K$387-$C$15<$B$10, 0, $K$387)","v":8.6528033108850497},{"$f":"$B$7","v":16},{"$f":"B508/12*C508*$B$13","v":11.537071081180066},{"$f":"J508","v":3.2875326587652687},{"$f":"E508+$C$14","v":4.4814826587652687},{"$f":"K508","v":8.1351434393554616},{"$f":"IF(B508=0, K508, G508-$C$15)","v":6.8111934393554616},{"$f":"IF(B508>0, 1, 0)","v":1},{"$f":"MAX(F471:F474)+$B$14","v":3.2875326587652687},{"$f":"SMALL(G480:G483,COUNTIF(G480:G483,0)+1)","v":8.1351434393554616}]
["Face 2",{"$f":"IF(L509=0,IF(G508-$C$15<$B$11, 0, H508), IF(G508-$C$18<$B$11, 0, H508))","v":6.8111934393554616},{"$f":"$B$7","v":16},{"$f":"IF(L509=1,B509/12*C509*$B$16,B509/12*C509*$B$13)","v":9.0815912524739488},{"$f":"J508","v":3.2875326587652687},{"$f":"IF(L509=1, E509+$C$17, E509+$C$14)","v":4.4814826587652687},{"$f":"IF(B509=0, K508, IF(L509=1, K508-$C$18,K508-$C$15))","v":6.8111934393554616},{"$f":"IF(B509=0, H508, B509)","v":6.8111934393554616},{"$f":"IF(B509>0, 1, 0)","v":1},null,null,{"$f":"IF(AND($B$11=0,K508-$C$15<$B$10),1,0)","v":0}]
["Face 3",{"$f":"IF(H509-$C$15<$B$10, 0, G509)","v":0},{"$f":"$B$7","v":16},{"$f":"B510/12*C510*$B$13","v":0},{"$f":"E509","v":3.2875326587652687},4.4814826587652687,{"$f":"G509","v":6.8111934393554616},{"$f":"IF(B510=0, H509, H509-$C$15)","v":6.8111934393554616},{"$f":"IF(B510>0, 1, 0)","v":0}]
["Face 4",{"$f":"IF(L511=0,IF(G510-$C$15<$B$11, 0, H510), IF(G510-$C$18<$B$11, 0, H510))","v":6.8111934393554616},16,{"$f":"IF(L511=1,B511/12*C511*$B$16,B511/12*C511*$B$13)","v":9.0815912524739488},{"$f":"J508","v":3.2875326587652687},{"$f":"IF(L511=1, E511+$C$17, E511+$C$14)","v":4.4814826587652687},{"$f":"IF(B511=0, G509, IF(L511=1, G509-$C$18,G509-$C$15))","v":5.4872434393554617},{"$f":"IF(B511=0, H510, B511)","v":6.8111934393554616},{"$f":"IF(B511>0, 1, 0)","v":1},null,null,{"$f":"IF(AND($B$11=0,K508-$C$15<$B$10),1,0)","v":0}]
[null,null,null,null,null,null,null,null,null,"Starting Cant"]
[null,null,null,null,null,null,null,null,null,"Width","Height"]
["Pass 2  ",null,null,null,null,null,null,null,"Cut ?",{"$f":"MIN(G508:G511)","v":5.4872434393554617},{"$f":"MIN(H508:H511)","v":6.8111934393554616}]
["Face 1",{"$f":"IF(K514-$C$15 < $B$10, 0, J514)","v":0},{"$f":"$B$7","v":16},{"$f":"B515/12*C515*$B$13","v":0},{"$f":"IF(I508=1,E508+$C$15, E508)","v":4.6114826587652686},{"$f":"E515+$C$14","v":5.8054326587652687},{"$f":"J514","v":5.4872434393554617},{"$f":"IF(B515=0, K514, K514-$C$15)","v":6.8111934393554616},{"$f":"IF(B515>0, 1, 0)","v":0}]
["Face 2",{"$f":"IF(L516=0,IF(G515-$C$15<$B$11, 0, H515), IF(G515-$C$18<$B$11, 0, H515))","v":6.8111934393554616},16,{"$f":"IF(L516=1,B516/12*C516*$B$16,B516/12*C516*$B$13)","v":9.0815912524739488},{"$f":"IF(I509=1,IF(L516=1,E509+$C$18,E509+$C$15), E509)","v":4.6114826587652686},{"$f":"IF(L516=1, E516+$C$17, E516+$C$14)","v":5.8054326587652687},{"$f":"IF(B516=0, J514, IF(L516=1, J514-$C$18,J514-$C$15))","v":4.1632934393554617},{"$f":"IF(B516=0, H515, B516)","v":6.8111934393554616},{"$f":"IF(B516>0, 1, 0)","v":1},null,null,{"$f":"IF(AND($B$11=0,K514-$C$15<$B$10),1,0)","v":1}]
["Face 3",{"$f":"IF(H516-$C$15<$B$10, 0, G516)","v":0},16,{"$f":"B517/12*C517*$B$13","v":0},{"$f":"IF(I510=1,E510+$C$15, E510)","v":3.2875326587652687},{"$f":"E517+$C$14","v":4.4814826587652687},{"$f":"G516","v":4.1632934393554617},{"$f":"IF(B517=0, H516, H516-$C$15)","v":6.8111934393554616},{"$f":"IF(B517>0, 1, 0)","v":0}]
["Face 4",{"$f":"IF(L518=0,IF(G517-$C$15<$B$11, 0, H517), IF(G517-$C$18<$B$11, 0, H517))","v":6.8111934393554616},16,{"$f":"IF(L518=1,B518/12*C518*$B$16,B518/12*C518*$B$13)","v":9.0815912524739488},{"$f":"IF(I511=1,IF(L518=1,E511+$C$18,E511+$C$15), E511)","v":4.6114826587652686},{"$f":"IF(L518=1, E518+$C$17, E518+$C$14)","v":5.8054326587652687},{"$f":"IF(B518=0, G516, IF(L518=1, G516-$C$18,G516-$C$15))","v":2.8393434393554617},{"$f":"IF(B518=0, H517, B518)","v":6.8111934393554616},{"$f":"IF(B518>0, 1, 0)","v":1},null,null,{"$f":"IF(AND($B$11=0,K514-$C$15<$B$10),1,0)","v":1}]
[null,null,null,null,null,null,null,null,null,"Starting Cant"]
[null,null,null,null,null,null,null,null,null,"Width","Height"]
["Pass 3",null,null,null,null,null,null,null,"Cut ?",{"$f":"MIN(G515:G518)","v":2.8393434393554617},{"$f":"MIN(H515:H518)","v":6.8111934393554616}]
["Face 1",{"$f":"IF(K521-$C$15 < $B$10, 0, J521)","v":0},{"$f":"$B$7","v":16},{"$f":"B522/12*C522*$B$13","v":0},{"$f":"IF(I515=1,E515+$C$15, E515)","v":4.6114826587652686},{"$f":"E522+$C$14","v":5.8054326587652687},{"$f":"J521","v":2.8393434393554617},{"$f":"IF(B522=0, K521, K521-$C$15)","v":6.8111934393554616},{"$f":"IF(B522>0, 1, 0)","v":0}]
["Face 2",{"$f":"IF(L523=0,IF(G522-$C$15<$B$11, 0, H522), IF(G522-$C$18<$B$11, 0, H522))","v":6.8111934393554616},16,{"$f":"IF(L523=1,B523/12*C523*$B$16,B523/12*C523*$B$13)","v":9.0815912524739488},{"$f":"IF(I516=1,IF(L523=1,E516+$C$18,E516+$C$15), E516)","v":5.9354326587652686},{"$f":"IF(L523=1, E523+$C$17, E523+$C$14)","v":7.1293826587652687},{"$f":"IF(B523=0, J521, IF(L523=1, J521-$C$18,J521-$C$15))","v":1.5153934393554618},{"$f":"IF(B523=0, H522, B523)","v":6.8111934393554616},{"$f":"IF(B523>0, 1, 0)","v":1},null,null,{"$f":"IF(AND($B$11=0,K521-$C$15<$B$10),1,0)","v":1}]
["Face 3",{"$f":"IF(H523-$C$15<$B$10, 0, G523)","v":0},16,{"$f":"B524/12*C524*$B$13","v":0},3.2875326587652687,{"$f":"E524+$C$14","v":4.4814826587652687},{"$f":"G523","v":1.5153934393554618},{"$f":"IF(B524=0, H523, H523-$C$15)","v":6.8111934393554616},{"$f":"IF(B524>0, 1, 0)","v":0}]
["Face 4",{"$f":"IF(L525=0,IF(G524-$C$15<$B$11, 0, H524), IF(G524-$C$18<$B$11, 0, H524))","v":6.8111934393554616},16,{"$f":"IF(L525=1,B525/12*C525*$B$16,B525/12*C525*$B$13)","v":9.0815912524739488},{"$f":"IF(I518=1,IF(L525=1,E518+$C$18,E518+$C$15), E518)","v":5.9354326587652686},{"$f":"IF(L525=1, E525+$C$17, E525+$C$14)","v":7.1293826587652687},{"$f":"IF(B525=0, G523, IF(L525=1, G523-$C$18,G523-$C$15))","v":0.19144343935546182},{"$f":"IF(B525=0, H524, B525)","v":6.8111934393554616},{"$f":"IF(B525>0, 1, 0)","v":1},null,null,{"$f":"IF(AND($B$11=0,K521-$C$15<$B$10),1,0)","v":1}]
[null,null,null,null,null,null,null,null,null,"Starting Cant"]
[null,null,null,null,null,null,null,null,null,"Width","Height"]
["Pass 4",null,null,null,null,null,null,null,"Cut ?",{"$f":"MIN(G522:G525)","v":0.19144343935546182},{"$f":"MIN(H522:H525)","v":6.8111934393554616}]
["Face 1",{"$f":"IF(K528-$C$15 < $B$10, 0, J528)","v":0},{"$f":"$B$7","v":16},{"$f":"B529/12*C529*$B$13","v":0},{"$f":"IF(I522=1,E522+$C$15, E522)","v":4.6114826587652686},{"$f":"E529+$C$14","v":5.8054326587652687},{"$f":"J528","v":0.19144343935546182},{"$f":"IF(B529=0, K528, K528-$C$15)","v":6.8111934393554616},{"$f":"IF(B529>0, 1, 0)","v":0}]
["Face 2",{"$f":"IF(L530=0,IF(G529-$C$15<$B$11, 0, H529), IF(G529-$C$18<$B$11, 0, H529))","v":0},16,{"$f":"IF(L530=1,B530/12*C530*$B$16,B530/12*C530*$B$13)","v":0},{"$f":"IF(I523=1,IF(L530=1,E523+$C$18,E523+$C$15), E523)","v":7.2593826587652686},{"$f":"IF(L530=1, E530+$C$17, E530+$C$14)","v":8.4533326587652695},{"$f":"IF(B530=0, J528, IF(L530=1, J528-$C$18,J528-$C$15))","v":0.19144343935546182},{"$f":"IF(B530=0, H529, B530)","v":6.8111934393554616},{"$f":"IF(B530>0, 1, 0)","v":0},null,null,{"$f":"IF(AND($B$11=0,K528-$C$15<$B$10),1,0)","v":1}]
["Face 3",{"$f":"IF(H530-$C$15<$B$10, 0, G530)","v":0},16,{"$f":"B531/12*C531*$B$13","v":0},3.2875326587652687,{"$f":"E531+$C$14","v":4.4814826587652687},{"$f":"G530","v":0.19144343935546182},{"$f":"IF(B531=0, H530, H530-$C$15)","v":6.8111934393554616},{"$f":"IF(B531>0, 1, 0)","v":0}]
["Face 4",{"$f":"IF(L532=0,IF(G531-$C$15<$B$11, 0, H531), IF(G531-$C$18<$B$11, 0, H531))","v":0},16,{"$f":"IF(L532=1,B532/12*C532*$B$16,B532/12*C532*$B$13)","v":0},{"$f":"IF(I525=1,IF(L532=1,E525+$C$18,E525+$C$15), E525)","v":7.2593826587652686},{"$f":"IF(L532=1, E532+$C$17, E532+$C$14)","v":8.4533326587652695},{"$f":"IF(B532=0, G530, IF(L532=1, G530-$C$18,G530-$C$15))","v":0.19144343935546182},{"$f":"IF(B532=0, H531, B532)","v":6.8111934393554616},{"$f":"IF(B532>0, 1, 0)","v":0},null,null,{"$f":"IF(AND($B$11=0,K528-$C$15<$B$10),1,0)","v":1}]
[null,null,null,null,null,null,null,null,null,"Starting Cant"]
[null,null,null,null,null,null,null,null,null,"Width","Height"]
["Pass 5",null,null,null,null,null,null,null,"Cut ?",{"$f":"MIN(G529:G532)","v":0.19144343935546182},{"$f":"MIN(H529:H532)","v":6.8111934393554616}]
["Face 1",{"$f":"IF(K535-$C$15 < $B$10, 0, J535)","v":0},{"$f":"$B$7","v":16},{"$f":"B536/12*C536*$B$13","v":0},{"$f":"IF(I529=1,E529+$C$15, E529)","v":4.6114826587652686},{"$f":"E536+$C$14","v":5.8054326587652687},{"$f":"J535","v":0.19144343935546182},{"$f":"IF(B536=0, K535, K535-$C$15)","v":6.8111934393554616},{"$f":"IF(B536>0, 1, 0)","v":0}]
["Face 2",{"$f":"IF(L537=0,IF(G536-$C$15<$B$11, 0, H536), IF(G536-$C$18<$B$11, 0, H536))","v":0},16,{"$f":"IF(L537=1,B537/12*C537*$B$16,B537/12*C537*$B$13)","v":0},{"$f":"IF(I530=1,IF(L537=1,E530+$C$18,E530+$C$15), E530)","v":7.2593826587652686},{"$f":"IF(L537=1, E537+$C$17, E537+$C$14)","v":8.4533326587652695},{"$f":"IF(B537=0, J535, IF(L537=1, J535-$C$18,J535-$C$15))","v":0.19144343935546182},{"$f":"IF(B537=0, H536, B537)","v":6.8111934393554616},{"$f":"IF(B537>0, 1, 0)","v":0},null,null,{"$f":"IF(AND($B$11=0,K535-$C$15<$B$10),1,0)","v":1}]
["Face 3",{"$f":"IF(H537-$C$15<$B$10, 0, G537)","v":0},16,{"$f":"B538/12*C538*$B$13","v":0},3.2875326587652687,{"$f":"E538+$C$14","v":4.4814826587652687},{"$f":"G537","v":0.19144343935546182},{"$f":"IF(B538=0, H537, H537-$C$15)","v":6.8111934393554616},{"$f":"IF(B538>0, 1, 0)","v":0}]
["Face 4",{"$f":"IF(L539=0,IF(G538-$C$15<$B$11, 0, H538), IF(G538-$C$18<$B$11, 0, H538))","v":0},16,{"$f":"IF(L539=1,B539/12*C539*$B$16,B539/12*C539*$B$13)","v":0},{"$f":"IF(I532=1,IF(L539=1,E532+$C$18,E532+$C$15), E532)","v":7.2593826587652686},{"$f":"IF(L539=1, E539+$C$17, E539+$C$14)","v":8.4533326587652695},{"$f":"IF(B539=0, G537, IF(L539=1, G537-$C$18,G537-$C$15))","v":0.19144343935546182},{"$f":"IF(B539=0, H538, B539)","v":6.8111934393554616},{"$f":"IF(B539>0, 1, 0)","v":0},null,null,{"$f":"IF(AND($B$11=0,K535-$C$15<$B$10),1,0)","v":1}]
[null,null,null,null,null,null,null,null,null,"Starting Cant"]
[null,null,null,null,null,null,null,null,null,"Width","Height"]
["Pass 6",null,null,null,null,null,null,null,"Cut ?",{"$f":"MIN(G536:G539)","v":0.19144343935546182},{"$f":"MIN(H536:H539)","v":6.8111934393554616}]
["Face 1",{"$f":"IF(K542-$C$15 < $B$10, 0, J542)","v":0},{"$f":"$B$7","v":16},{"$f":"B543/12*C543*$B$13","v":0},{"$f":"IF(I536=1,E536+$C$15, E536)","v":4.6114826587652686},{"$f":"E543+$C$14","v":5.8054326587652687},{"$f":"J542","v":0.19144343935546182},{"$f":"IF(B543=0, K542, K542-$C$15)","v":6.8111934393554616},{"$f":"IF(B543>0, 1, 0)","v":0}]
["Face 2",{"$f":"IF(L544=0,IF(G543-$C$15<$B$11, 0, H543), IF(G543-$C$18<$B$11, 0, H543))","v":0},16,{"$f":"IF(L544=1,B544/12*C544*$B$16,B544/12*C544*$B$13)","v":0},{"$f":"IF(I537=1,IF(L544=1,E537+$C$18,E537+$C$15), E537)","v":7.2593826587652686},{"$f":"IF(L544=1, E544+$C$17, E544+$C$14)","v":8.4533326587652695},{"$f":"IF(B544=0, J542, IF(L544=1, J542-$C$18,J542-$C$15))","v":0.19144343935546182},{"$f":"IF(B544=0, H543, B544)","v":6.8111934393554616},{"$f":"IF(B544>0, 1, 0)","v":0},null,null,{"$f":"IF(AND($B$11=0,K542-$C$15<$B$10),1,0)","v":1}]
["Face 3",{"$f":"IF(H544-$C$15<$B$10, 0, G544)","v":0},16,{"$f":"B545/12*C545*$B$13","v":0},3.2875326587652687,{"$f":"E545+$C$14","v":4.4814826587652687},{"$f":"G544","v":0.19144343935546182},{"$f":"IF(B545=0, H544, H544-$C$15)","v":6.8111934393554616},{"$f":"IF(B545>0, 1, 0)","v":0}]
["Face 4",{"$f":"IF(L546=0,IF(G545-$C$15<$B$11, 0, H545), IF(G545-$C$18<$B$11, 0, H545))","v":0},16,{"$f":"IF(L546=1,B546/12*C546*$B$16,B546/12*C546*$B$13)","v":0},{"$f":"IF(I539=1,IF(L546=1,E539+$C$18,E539+$C$15), E539)","v":7.2593826587652686},{"$f":"IF(L546=1, E546+$C$17, E546+$C$14)","v":8.4533326587652695},{"$f":"IF(B546=0, G544, IF(L546=1, G544-$C$18,G544-$C$15))","v":0.19144343935546182},{"$f":"IF(B546=0, H545, B546)","v":6.8111934393554616},{"$f":"IF(B546>0, 1, 0)","v":0},null,null,{"$f":"IF(AND($B$11=0,K542-$C$15<$B$10),1,0)","v":1}]
[null,null,null,null,null,null,null,null,null,"Starting Cant"]
[null,null,null,null,null,null,null,null,null,"Width","Height"]
["Pass 7",null,null,null,null,null,null,null,"Cut ?",{"$f":"MIN(G543:G546)","v":0.19144343935546182},{"$f":"MIN(H543:H546)","v":6.8111934393554616}]
["Face 1",{"$f":"IF(K549-$C$15 < $B$10, 0, J549)","v":0},{"$f":"$B$7","v":16},{"$f":"B550/12*C550*$B$13","v":0},{"$f":"IF(I543=1,E543+$C$15, E543)","v":4.6114826587652686},{"$f":"E550+$C$14","v":5.8054326587652687},{"$f":"J549","v":0.19144343935546182},{"$f":"IF(B550=0, K549, K549-$C$15)","v":6.8111934393554616},{"$f":"IF(B550>0, 1, 0)","v":0}]
["Face 2",{"$f":"IF(L551=0,IF(G550-$C$15<$B$11, 0, H550), IF(G550-$C$18<$B$11, 0, H550))","v":0},16,{"$f":"IF(L551=1,B551/12*C551*$B$16,B551/12*C551*$B$13)","v":0},{"$f":"IF(I544=1,IF(L551=1,E544+$C$18,E544+$C$15), E544)","v":7.2593826587652686},{"$f":"IF(L551=1, E551+$C$17, E551+$C$14)","v":8.4533326587652695},{"$f":"IF(B551=0, J549, IF(L551=1, J549-$C$18,J549-$C$15))","v":0.19144343935546182},{"$f":"IF(B551=0, H550, B551)","v":6.8111934393554616},{"$f":"IF(B551>0, 1, 0)","v":0},null,null,{"$f":"IF(AND($B$11=0,K549-$C$15<$B$10),1,0)","v":1}]
["Face 3",{"$f":"IF(H551-$C$15<$B$10, 0, G551)","v":0},16,{"$f":"B552/12*C552*$B$13","v":0},3.2875326587652687,{"$f":"E552+$C$14","v":4.4814826587652687},{"$f":"G551","v":0.19144343935546182},{"$f":"IF(B552=0, H551, H551-$C$15)","v":6.8111934393554616},{"$f":"IF(B552>0, 1, 0)","v":0}]
["Face 4",{"$f":"IF(L553=0,IF(G552-$C$15<$B$11, 0, H552), IF(G552-$C$18<$B$11, 0, H552))","v":0},16,{"$f":"IF(L553=1,B553/12*C553*$B$16,B553/12*C553*$B$13)","v":0},{"$f":"IF(I546=1,IF(L553=1,E546+$C$18,E546+$C$15), E546)","v":7.2593826587652686},{"$f":"IF(L553=1, E553+$C$17, E553+$C$14)","v":8.4533326587652695},{"$f":"IF(B553=0, G551, IF(L553=1, G551-$C$18,G551-$C$15))","v":0.19144343935546182},{"$f":"IF(B553=0, H552, B553)","v":6.8111934393554616},{"$f":"IF(B553>0, 1, 0)","v":0},null,null,{"$f":"IF(AND($B$11=0,K549-$C$15<$B$10),1,0)","v":1}]
[null,null,null,null,null,null,null,null,null,"Starting Cant"]
[null,null,null,null,null,null,null,null,null,"Width","Height"]
["Pass 8",null,null,null,null,null,null,null,"Cut ?",{"$f":"MIN(G550:G553)","v":0.19144343935546182},{"$f":"MIN(H550:H553)","v":6.8111934393554616}]
["Face 1",{"$f":"IF(K556-$C$15 < $B$10, 0, J556)","v":0},{"$f":"$B$7","v":16},{"$f":"B557/12*C557*$B$13","v":0},{"$f":"IF(I550=1,E550+$C$15, E550)","v":4.6114826587652686},{"$f":"E557+$C$14","v":5.8054326587652687},{"$f":"J556","v":0.19144343935546182},{"$f":"IF(B557=0, K556, K556-$C$15)","v":6.8111934393554616},{"$f":"IF(B557>0, 1, 0)","v":0}]
["Face 2",{"$f":"IF(L558=0,IF(G557-$C$15<$B$11, 0, H557), IF(G557-$C$18<$B$11, 0, H557))","v":0},16,{"$f":"IF(L558=1,B558/12*C558*$B$16,B558/12*C558*$B$13)","v":0},{"$f":"IF(I551=1,IF(L558=1,E551+$C$18,E551+$C$15), E551)","v":7.2593826587652686},{"$f":"IF(L558=1, E558+$C$17, E558+$C$14)","v":8.4533326587652695},{"$f":"IF(B558=0, J556, IF(L558=1, J556-$C$18,J556-$C$15))","v":0.19144343935546182},{"$f":"IF(B558=0, H557, B558)","v":6.8111934393554616},{"$f":"IF(B558>0, 1, 0)","v":0},null,null,{"$f":"IF(AND($B$11=0,K556-$C$15<$B$10),1,0)","v":1}]
["Face 3",{"$f":"IF(H558-$C$15<$B$10, 0, G558)","v":0},16,{"$f":"B559/12*C559*$B$13","v":0},3.2875326587652687,{"$f":"E559+$C$14","v":4.4814826587652687},{"$f":"G558","v":0.19144343935546182},{"$f":"IF(B559=0, H558, H558-$C$15)","v":6.8111934393554616},{"$f":"IF(B559>0, 1, 0)","v":0}]
["Face 4",{"$f":"IF(L560=0,IF(G559-$C$15<$B$11, 0, H559), IF(G559-$C$18<$B$11, 0, H559))","v":0},16,{"$f":"IF(L560=1,B560/12*C560*$B$16,B560/12*C560*$B$13)","v":0},{"$f":"IF(I553=1,IF(L560=1,E553+$C$18,E553+$C$15), E553)","v":7.2593826587652686},{"$f":"IF(L560=1, E560+$C$17, E560+$C$14)","v":8.4533326587652695},{"$f":"IF(B560=0, G558, IF(L560=1, G558-$C$18,G558-$C$15))","v":0.19144343935546182},{"$f":"IF(B560=0, H559, B560)","v":6.8111934393554616},{"$f":"IF(B560>0, 1, 0)","v":0},null,null,{"$f":"IF(AND($B$11=0,K556-$C$15<$B$10),1,0)","v":1}]
[null,null,null,null,null,null,null,null,null,"Starting Cant"]
[null,null,null,null,null,null,null,null,null,"Width","Height"]
["Pass 9",null,null,null,null,null,null,null,"Cut ?",{"$f":"MIN(G557:G560)","v":0.19144343935546182},{"$f":"MIN(H557:H560)","v":6.8111934393554616}]
["Face 1",{"$f":"IF(K563-$C$15 < $B$10, 0, J563)","v":0},{"$f":"$B$7","v":16},{"$f":"B564/12*C564*$B$13","v":0},{"$f":"IF(I557=1,E557+$C$15, E557)","v":4.6114826587652686},{"$f":"E564+$C$14","v":5.8054326587652687},{"$f":"J563","v":0.19144343935546182},{"$f":"IF(B564=0, K563, K563-$C$15)","v":6.8111934393554616},{"$f":"IF(B564>0, 1, 0)","v":0}]
["Face 2",{"$f":"IF(L565=0,IF(G564-$C$15<$B$11, 0, H564), IF(G564-$C$18<$B$11, 0, H564))","v":0},16,{"$f":"IF(L565=1,B565/12*C565*$B$16,B565/12*C565*$B$13)","v":0},{"$f":"IF(I558=1,IF(L565=1,E558+$C$18,E558+$C$15), E558)","v":7.2593826587652686},{"$f":"IF(L565=1, E565+$C$17, E565+$C$14)","v":8.4533326587652695},{"$f":"IF(B565=0, J563, IF(L565=1, J563-$C$18,J563-$C$15))","v":0.19144343935546182},{"$f":"IF(B565=0, H564, B565)","v":6.8111934393554616},{"$f":"IF(B565>0, 1, 0)","v":0},null,null,{"$f":"IF(AND($B$11=0,K563-$C$15<$B$10),1,0)","v":1}]
["Face 3",{"$f":"IF(H565-$C$15<$B$10, 0, G565)","v":0},16,{"$f":"B566/12*C566*$B$13","v":0},3.2875326587652687,{"$f":"E566+$C$14","v":4.4814826587652687},{"$f":"G565","v":0.19144343935546182},{"$f":"IF(B566=0, H565, H565-$C$15)","v":6.8111934393554616},{"$f":"IF(B566>0, 1, 0)","v":0}]
["Face 4",{"$f":"IF(L567=0,IF(G566-$C$15<$B$11, 0, H566), IF(G566-$C$18<$B$11, 0, H566))","v":0},16,{"$f":"IF(L567=1,B567/12*C567*$B$16,B567/12*C567*$B$13)","v":0},{"$f":"IF(I560=1,IF(L567=1,E560+$C$18,E560+$C$15), E560)","v":7.2593826587652686},{"$f":"IF(L567=1, E567+$C$17, E567+$C$14)","v":8.4533326587652695},{"$f":"IF(B567=0, G565, IF(L567=1, G565-$C$18,G565-$C$15))","v":0.19144343935546182},{"$f":"IF(B567=0, H566, B567)","v":6.8111934393554616},{"$f":"IF(B567>0, 1, 0)","v":0},null,null,{"$f":"IF(AND($B$11=0,K563-$C$15<$B$10),1,0)","v":1}]
[]
["Grade Saw Results Summary"]
["Board Count",{"$f":"COUNTIF(B508:B567,\">\"&0)+COUNTIF(B471:B501,\">\"&0)","v":15}]
["Board Feet",{"$f":"SUM(D508:D567)+SUM(D471:D501)","v":151.39093382547219}]
["Cant Width",{"$f":"IF(J563<$B$11,0,$B$11)","v":0}]
["Cant Height",{"$f":"IF(K563<$B$8, 0, $B$10)","v":6}]
["Cant Volume",{"$f":"$B$5*B573/12 *B572","v":0}]
["Total Volume",{"$f":"B574+B571","v":151.39093382547219}]

{"sheet":"InteractiveProcess","index":3,"n_rows":575,"n_cols":34,"rows_kept":575,"cut":false,"hidden":true,"merged":[[418,9,418,10],[425,9,425,10],[10,3,12,3],[13,3,15,3],[546,9,546,10],[432,9,432,10],[439,9,439,10],[390,9,390,10],[397,9,397,10],[404,9,404,10],[411,9,411,10],[10,4,10,6],[11,4,11,6],[12,4,12,6],[553,9,553,10],[560,9,560,10],[511,9,511,10],[518,9,518,10],[525,9,525,10],[532,9,532,10],[539,9,539,10]]}
[]
[]
["Small End Diameter",{"$f":"'Interactive Sawing'!D9","v":20},{"$f":"B3/2","v":10},null,"Boards Sawn",null,{"$f":"IF(OR(B20=\"SLAB\",B20=\"LIVE\"), IF(B17=\"SPLIT\",B245, B328+B286),IF(B20=\"GRADE\",IF(B17=\"SPLIT\",B449,B570)))","v":26}]
["Large End Diameter",{"$f":"'Interactive Sawing'!D10","v":23.5},{"$f":"IF(B3>B4,\"ERROR\",\" \")","v":" "},null,"Board Feet",null,{"$f":"IF(OR(B20=\"SLAB\",B20=\"LIVE\"), IF(B17=\"SPLIT\",C245, B327+B285), IF(B20=\"GRADE\",IF(B17=\"SPLIT\",B450,B571)))","v":300.8557230334365}]
["Log Length",{"$f":"'Interactive Sawing'!D11","v":16},null,null,"Cant Height",null,{"$f":"IF(OR(B20=\"SLAB\",B20=\"LIVE\"), IF(B17=\"SPLIT\",D244, B289),  IF(B20=\"GRADE\",IF(B17=\"SPLIT\",B452,B573)))","v":6}]
["Opening Face Width",{"$f":"'Interactive Sawing'!D12","v":6},{"$f":"B6/2","v":3},null,"Cant Width",null,{"$f":"IF(OR(B20=\"SLAB\",B20=\"LIVE\"), IF(B17=\"SPLIT\", E244, B329), IF(B20=\"GRADE\",IF(B17=\"SPLIT\",B451,B572)))","v":0}]
["Opening Face Length",{"$f":"'Interactive Sawing'!D13","v":8},null,null,"Cant Volume",null,{"$f":"IF(G6>1,G5/12*$B$5*G6,0)","v":0}]
["Cant Height",{"$f":"IF('Interactive Sawing'!D26=\"LIVE\", 0, 'Interactive Sawing'!D14)","v":6},null,null,"Total BDFT",null,{"$f":"G7+G4","v":300.8557230334365}]
["Cant Width",{"$f":"IF('Interactive Sawing'!D26=\"LIVE\",0, 'Interactive Sawing'!D15)","v":0},null,null,"LRF",null,{"$f":"$G$8/(((3.145926*POWER(($B$3/24),2) + 3.145926*POWER(($B$4/24),2))/2)*$B$5)","v":7.2308822542693978}]
["Green Allowance",{"$f":"'Interactive Sawing'!D16","v":0.125}]
["Thickness",{"$f":"'Interactive Sawing'!D17","v":1},null,"Headrig","Int 1/4",null,null,null,{"$f":"LogScale!$J$5","v":290}]
["Sawing Variation",{"$f":"'Interactive Sawing'!D18","v":0.03},{"$f":"B11+(B12*1.97)+(B11*B10)","v":1.1840999999999999},null,"Doyle",null,null,null,{"$f":"LogScale!$K$5","v":256}]
["Saw Kerf",{"$f":"'Interactive Sawing'!D19","v":0.125},{"$f":"B10*B11+B11+B12*1.97+B13","v":1.3090999999999999},null,"Scribner",null,null,null,{"$f":"LogScale!$L$5","v":270}]
["Thickness",{"$f":"'Interactive Sawing'!D21","v":1},null,"Resaw","Recovery-Based Processing Cost",null,null,null,{"$f":"Costs!$H$18/1000*G4","v":61.976278944887916}]
["Sawing Variation",{"$f":"'Interactive Sawing'!D22","v":0.03},{"$f":"B14+(B15*1.97)+(B14*B10)","v":1.1840999999999999},null,"Log-Volume-Based Processing Cost",null,null,null,{"$f":"IF(Costs!$D$4=\"International 1/4\", I11*(Costs!H23/1000),IF(Costs!$D$4=\"Doyle\",I12*(Costs!H23/1000), IF(Costs!$D$4=\"Scribner\", I13*(Costs!H23/1000), \"ERROR\" ) ) )","v":23.949914075513608}]
["Saw Kerf",{"$f":"'Interactive Sawing'!D23","v":0.125},{"$f":"B10*B14+B14+B15*1.97+B16","v":1.3090999999999999}]
["Split/Full Taper Mode",{"$f":"'Interactive Sawing'!D25","v":"SPLIT"}]
["Fit Min Length Boards","AUTO"]
["Scrap Board Threshold(bdft)",2]
["Sawing Method",{"$f":"'Interactive Sawing'!D26","v":"GRADE"}]
[null,null,null,null,null,null,null,null,null,null,null,null,null,null,null,null,null,null,null,null,"Second Cut Lookup",null,null,null,null,null,"Third Cut Lookup",null,null,null,null,"Fourth Cut Lookup"]
["Split Taper Sawing Method With Min Open Face Cuts",null,null,null,"Faces 1 and 3 ",null,null,null,null,"Note, the formulas below perform a split-taper sawing solution",null,null,null,null,null,null,null,null,null,null,{"$f":"T25-M27","v":9.1439198985747652}]
[null,null,null,"Saw",null,"Center","Max Next",null,null,"Faces 1 and 3 Opening Face Calculations",null,null,null,null,null,null,null,null,"Distance ","Radius","Relative Saw","Width ","Min Scale","Min Scale","Radius","Relative Saw","Width ","Min Scale","Min Scale","Radius","Relative Saw","Width ","Min Scale","Min Scale"]
["Board","Width","Board Feet","Depth","Next ","Remaining","Position",null,null,"Width","Length","Board","Saw",null,"SE Adjusted","SE Adjusted",null,null,"from LE","@ distance","Depth"," @ Depth","Width","Length","@ distance","Depth"," @ Depth","Width","Length","@ distance","Depth"," @ Depth","Width","Length"]
[1,{"$f":"2*SQRT(POWER($C$3,2)-POWER($C$3-D25,2))","v":8.0965990115476156},{"$f":"B25/12*$B$11*$B$5","v":10.795465348730154},{"$f":"$Q$33","v":0.85608010142523394},{"$f":"D25+$C$13","v":2.1651801014252339},{"$f":"$B$3-E25","v":17.834819898574764},{"$f":"IF(F25>0,D25+$C$13,0)","v":2.1651801014252339},null,null,"(inches)","(feet)","Feet","Depth","Next","Depth","Next",null,null,{"$f":"B7","v":8},{"$f":"($B$4-2*$K$33*S25)/2","v":10.875},{"$f":"IF(T25-$U$22>0, T25-$U$22, 0)","v":1.7310801014252348},{"$f":"IF(U25>0, 2*SQRT(POWER(T25,2)-POWER(T25-U25,2)), 0)","v":11.773589747982296},{"$f":"IF(V25>$B$6, V25, \" \")","v":11.773589747982296},{"$f":"IF(V25>$B$6, S25, \" \")","v":8},{"$f":"($B$4-2*$K$33*S25)/2","v":10.875},{"$f":"$M$28","v":3.0401801014252339},{"$f":"IF(Z25>0, 2*SQRT(POWER(Y25,2)-POWER(Y25-Z25,2)), 0)","v":15.083928156405001},{"$f":"IF(AA25>$B$6, AA25, \" \")","v":15.083928156405001},{"$f":"IF(AA25>$B$6, S25, \" \")","v":8},{"$f":"($B$4-2*$K$33*S25)/2","v":10.875},{"$f":"$M$29","v":4.3492801014252338},{"$f":"IF(AE25>0, 2*SQRT(POWER(AD25,2)-POWER(AD25-AE25,2)), 0)","v":17.398920059054856},{"$f":"IF(AF25>$B$6, AF25, \" \")","v":17.398920059054856},{"$f":"IF(AF25>$B$6, S25, \" \")","v":8}]
[{"$f":"A25+1","v":2},{"$f":"IF((F56-$C$13)>$B$8,(2*SQRT(POWER($C$3,2)-POWER($C$3-D26,2))),0)","v":12.428289851286362},16.571053135048484,{"$f":"D25+$C$13","v":2.1651801014252339},3.4742801014252338,{"$f":"IF($B$3-(E26+E56)>$B$8,$B$3-(E26+E56),0)","v":14.360539797149531},3.4742801014252338,null,null,{"$f":"2*SQRT(POWER($L$35,2)-POWER($L$35-$M$26,2))","v":5.9999999999999956},{"$f":"B7","v":8},{"$f":"J26/12*$B$11*K26","v":3.9999999999999969},{"$f":"$L$35-SQRT(POWER($L$35,2)-POWER($C$6,2))","v":0.42198010142523401},{"$f":"M26+$C$13","v":1.7310801014252339},{"$f":"M26-$K$36","v":-0.45301989857476599},{"$f":"O26+$C$13","v":0.85608010142523394},null,null,{"$f":"IF(AND(S25+1<=$B$5, S25 > 0 ), S25+1, 0)","v":9},{"$f":"IF(S26>0,($B$4-2*$K$33*S26)/2,0)","v":10.765625},1.6217051014252348,11.36440240911478,11.36440240911478,9,{"$f":"IF(S26>0,($B$4-2*$K$33*S26)/2,0)","v":10.765625},{"$f":"IF(Y26>0,$M$28,0)","v":3.0401801014252339},14.995490356731937,14.995490356731937,9,{"$f":"IF(S26>0,($B$4-2*$K$33*S26)/2,0)","v":10.765625},{"$f":"IF(AD26>0,$M$29,0)","v":4.3492801014252338},17.289210483206986,17.289210483206986,{"$f":"IF(AF26>$B$6, S26, \" \")","v":9}]
[3,{"$f":"IF((F55-$C$13)>$B$8,(2*SQRT(POWER($C$3,2)-POWER($C$3-D27,2))),0)","v":15.154534609198047},20.206046145597394,3.4742801014252338,4.7833801014252337,{"$f":"IF($B$3-(E27+E55)>$B$8,$B$3-(E27+E55),0)","v":11.742339797149533},4.7833801014252337,null,null,{"$f":"MIN(IF(W25:W38>0,W25:W38))","v":8.0965990115476156},{"$f":"MAX(X25:X38)","v":16},{"$f":"J27/12*$B$11*K27","v":10.795465348730154},{"$f":"M26+C13","v":1.7310801014252339},{"$f":"M27+$C$13","v":3.0401801014252339},{"$f":"M27-$K$36","v":0.85608010142523394},{"$f":"O27+$C$13","v":2.1651801014252339},null,null,10,10.65625,1.5123301014252348,10.944294029483757,10.944294029483757,10,10.65625,3.0401801014252339,14.906527880431895,14.906527880431895,10,10.65625,{"$f":"IF(AD27>0,$M$29,0)","v":4.3492801014252338},17.178800279527298,17.178800279527298,10]
[4,{"$f":"IF((F54-$C$13)>$B$8,(2*SQRT(POWER($C$3,2)-POWER($C$3-D28,2))),0)","v":17.063045078038538},22.75072677071805,4.7833801014252337,6.0924801014252337,{"$f":"IF($B$3-(E28+E54)>$B$8,$B$3-(E28+E54),0)","v":9.1241397971495317},6.0924801014252337,null,null,{"$f":"MIN(IF(AB25:AB38>0,AB25:AB38))","v":14.361184767198385},{"$f":"MAX(AC25:AC38)","v":16},{"$f":"J28/12*$B$11*K28","v":19.148246356264512},{"$f":"M27+C13","v":3.0401801014252339},{"$f":"M28+$C$13","v":4.3492801014252338},{"$f":"M28-$K$36","v":2.1651801014252339},{"$f":"O28+$C$13","v":3.4742801014252338},null,null,11,10.546875,1.4029551014252348,10.511955318412166,10.511955318412166,11,10.546875,3.0401801014252339,14.817031276924077,14.817031276924077,11,10.546875,4.3492801014252338,17.067675851009714,17.067675851009714,11]
[5,{"$f":"IF((F53-$C$13)>$B$8,(2*SQRT(POWER($C$3,2)-POWER($C$3-D29,2))),0)","v":18.409919960960423},24.54655994794723,6.0924801014252337,7.4015801014252336,{"$f":"IF($B$3-(E29+E53)>$B$8,$B$3-(E29+E53),0)","v":6.5059397971495336},7.4015801014252336,null,null,{"$f":"MIN(IF(AG25:AG38>0,AG25:AG38))","v":16.500832055123908},{"$f":"MAX(AH25:AH38)","v":16},{"$f":"J29/12*$B$11*K29","v":22.001109406831876},{"$f":"M28+C13","v":4.3492801014252338},{"$f":"M29+$C$13","v":5.6583801014252337},{"$f":"M29-$K$36","v":3.4742801014252338},4.7833801014252337,null,null,12,10.4375,1.2935801014252348,10.065810476747206,10.065810476747206,12,10.4375,3.0401801014252339,14.726990808464548,14.726990808464548,12,10.4375,4.3492801014252338,16.955823155081355,16.955823155081355,12]
[6,{"$f":"IF((F52-$C$13)>$B$8,(2*SQRT(POWER($C$3,2)-POWER($C$3-D30,2))),0)","v":0},0,7.4015801014252336,8.7106801014252326,{"$f":"IF($B$3-(E30+E52)>$B$8,$B$3-(E30+E52),0)","v":0},0,null,null,null,null,null,null,null,null,null,null,null,13,10.328125,1.1842051014252348,9.6039356316196649,9.6039356316196649,13,10.328125,3.0401801014252339,14.636396437779764,14.636396437779764,13,10.328125,4.3492801014252338,16.843227682889228,16.843227682889228,13]
[7,{"$f":"IF((F51-$C$13)>$B$8,(2*SQRT(POWER($C$3,2)-POWER($C$3-D31,2))),0)","v":0},0,8.7106801014252326,10.019780101425233,{"$f":"IF($B$3-(E31+E51)>$B$8,$B$3-(E31+E51),0)","v":0},0,null,null,null,null,null,null,null,null,null,null,null,14,10.21875,1.0748301014252348,9.1239422293104102,9.1239422293104102,14,10.21875,3.0401801014252339,14.545237815006844,14.545237815006844,14,10.21875,4.3492801014252338,16.729874437332125,16.729874437332125,14]
[8,{"$f":"IF((F50-$C$13)>$B$8,(2*SQRT(POWER($C$3,2)-POWER($C$3-D32,2))),0)","v":0},0,10.019780101425233,11.328880101425234,{"$f":"IF($B$3-(E32+E50)>$B$8,$B$3-(E32+E50),0)","v":0},0,null,null,"LE SE difference",{"$f":"B4-B3","v":3.5},null,null,null,null,"Face 1 & 3 Taper Result Summary",null,null,15,10.109375,0.96545510142523483,8.6228050607846765,8.6228050607846765,15,10.109375,3.0401801014252339,14.453504263892476,14.453504263892476,15,10.109375,4.3492801014252338,16.615747909743689,16.615747909743689,15]
[9,{"$f":"IF((F49-$C$13)>$B$8,(2*SQRT(POWER($C$3,2)-POWER($C$3-D33,2))),0)","v":0},0,11.328880101425234,12.637980101425235,{"$f":"IF($B$3-(E33+E49)>$B$8,$B$3-(E33+E49),0)","v":0},0,null,null,"'1/2 taper per foot",{"$f":"((B4-B3)/2)/B5","v":0.109375},null,null,null,null,"Full Face Depth",{"$f":"IF(O27>0, O27, O28)","v":0.85608010142523394},null,16,10,0.85608010142523483,8.0965990115476156,8.0965990115476156,16,10,3.0401801014252339,14.361184767198385,14.361184767198385,16,10,4.3492801014252338,16.500832055123908,16.500832055123908,16]
[10,{"$f":"IF((F48-$C$13)>$B$8,(2*SQRT(POWER($C$3,2)-POWER($C$3-D34,2))),0)","v":0},0,12.637980101425235,13.947080101425236,{"$f":"IF($B$3-(E34+E48)>$B$8,$B$3-(E34+E48),0)","v":0},0,null,null,"tot. taper from LE",{"$f":"B7*K33","v":0.875},null,null,null,null,"Board Count",{"$f":"IF(O27<0,4, 2)","v":2},null,0,0,0,0," "," ",0,0,0," "," ",0,0,0," "," "]
[11,{"$f":"IF((F47-$C$13)>$B$8,(2*SQRT(POWER($C$3,2)-POWER($C$3-D35,2))),0)","v":0},0,13.947080101425236,15.256180101425237,{"$f":"IF($B$3-(E35+E47)>$B$8,$B$3-(E35+E47),0)","v":0},0,null,null,"Dia @ min face length",{"$f":"B4-2*K34","v":21.75},{"$f":"K35/2","v":10.875},null,null,null,"Board Feet",{"$f":"IF(O27<0, 2*SUM(L26:L27), 2*L26)","v":7.9999999999999938},null,0,0,0,0," "," ",0,0,0," "," ",0,0,0," "," "]
[12,{"$f":"IF((F46-$C$13)>$B$8,(2*SQRT(POWER($C$3,2)-POWER($C$3-D36,2))),0)","v":0},0,15.256180101425237,16.565280101425238,{"$f":"IF($B$3-(E36+E46)>$B$8,$B$3-(E36+E46),0)","v":0},0,null,null,"SE depth adjustment",{"$f":"L35-C3","v":0.875},null,null,null,null,null,null,null,0,0,0,0," "," ",0,0,0," "," ",0,0,0," "," "]
[13,{"$f":"IF((F45-$C$13)>$B$8,(2*SQRT(POWER($C$3,2)-POWER($C$3-D37,2))),0)","v":0},0,16.565280101425238,17.874380101425238,{"$f":"IF($B$3-(E37+E45)>$B$8,$B$3-(E37+E45),0)","v":0},0,null,null,null,null,null,null,null,null,null,null,null,0,0,0,0," "," ",0,0,0," "," ",0,0,0," "," "]
[14,{"$f":"IF((F44-$C$13)>$B$8,(2*SQRT(POWER($C$3,2)-POWER($C$3-D38,2))),0)","v":0},0,17.874380101425238,19.183480101425239,{"$f":"IF($B$3-(E38+E44)>$B$8,$B$3-(E38+E44),0)","v":0},0,null,null,null,null,null,null,null,null,null,null,null,0,0,0,0," "," ",0,0,0," "," ",0,0,0," "," "]
[]
[null,null,null,null,null,null,null,null,null,"Faces 2 and 4 Opening Face Calculations"]
[null,null,null,null,null,null,null,null,null,null,null,null,null,null,null,null,null,null,null,null,{"$f":"T44-M45","v":9.1439198985747652}]
[null,null,null,null,null,null,null,null,null,"Width","Length","Board","Radial","Lower Cant","Upper Cant",null,"SE Adjusted","SE Adjusted","Distance ","Radius","Relative Saw","Width ","Min Scale","Min Scale"]
[{"$f":"A44+1","v":14},{"$f":"IF((F38-$C$13)>=$B$8,2*SQRT(POWER($C$3,2)-POWER($C$3-D43,2)),0)","v":0},{"$f":"B43/12*$B$11*$B$5","v":0},{"$f":"D44+$C$13","v":17.874380101425238},{"$f":"D43+$C$13","v":19.183480101425239},{"$f":"IF($B$3-(E43+E38)>=$B$8,$B$3-(E43+E38),0)","v":0},{"$f":"IF(F43>0,D43+$C$13,0)","v":0},null,null,"(inches)","(feet)","Feet","Depth","Face Depth","Face Depth","Next","Depth","Next","from LE","@ distance","Depth"," @ Depth","Width","Length"]
[13,{"$f":"IF((F37-$C$13)>=$B$8,2*SQRT(POWER($C$3,2)-POWER($C$3-D44,2)),0)","v":0},0,16.565280101425238,17.874380101425238,{"$f":"IF($B$3-(E44+E37)>=$B$8,$B$3-(E44+E37),0)","v":0},0,null,null,{"$f":"2*SQRT(POWER($L$35,2)-POWER($L$35-$M$26,2))","v":5.9999999999999956},{"$f":"B7","v":8},{"$f":"J44/12*$B$11*$B$7","v":3.9999999999999969},{"$f":"$L$35-SQRT(POWER($L$35,2)-POWER($C$6,2))","v":0.42198010142523401},{"$f":"($L$35-SQRT(POWER($L$35,2)-POWER(B61,2)))-$K$36","v":-0.14873949031318112},{"$f":"($L$35-SQRT(POWER($L$35,2)-POWER($B$60,2)))-$K$36","v":-0.56001131773497193},{"$f":"MAX(M44:O44)+$C$13","v":1.7310801014252339},{"$f":"M44-$K$36","v":-0.45301989857476599},{"$f":"Q44+$C$13","v":0.85608010142523394},{"$f":"B7","v":8},{"$f":"($B$4-2*$K$33*S44)/2","v":10.875},{"$f":"IF(T44-$U$41>0, T44-$U$41, 0)","v":1.7310801014252348},{"$f":"IF(U44>0, 2*SQRT(POWER(T44,2)-POWER(T44-U44,2)), 0)","v":11.773589747982296},{"$f":"IF(V44>$B$6, V44, \" \")","v":11.773589747982296},{"$f":"IF(V44>$B$6, S44, \" \")","v":8}]
[12,{"$f":"IF((F36-$C$13)>=$B$8,2*SQRT(POWER($C$3,2)-POWER($C$3-D45,2)),0)","v":0},0,15.256180101425237,16.565280101425238,{"$f":"IF($B$3-(E45+E36)>=$B$8,$B$3-(E45+E36),0)","v":0},0,null,null,{"$f":"MIN(W44:W57)","v":8.0965990115476156},{"$f":"MAX(X44:X57)","v":16},{"$f":"J45/12*$B$11*K45","v":10.795465348730154},{"$f":"M44+C13","v":1.7310801014252339},{"$f":"($L$35-SQRT(POWER($L$35,2)-POWER(B62,2)))-$K$36","v":0.92996003316413223},{"$f":"($L$35-SQRT(POWER($L$35,2)-POWER($B$60,2)))-$K$36","v":-0.56001131773497193},{"$f":"MAX(M45:O45)+$C$13","v":3.0401801014252339},{"$f":"M45-$K$36","v":0.85608010142523394},{"$f":"Q45+$C$13","v":2.1651801014252339},{"$f":"IF(AND(S44+1<=$B$5, S44 > 0 ), S44+1, 0)","v":9},{"$f":"IF(S45>0,($B$4-2*$K$33*S45)/2,0)","v":10.765625},{"$f":"IF(T45-$U$41>0, T45-$U$41, 0)","v":1.6217051014252348},{"$f":"IF(U45>0, 2*SQRT(POWER(T45,2)-POWER(T45-U45,2)), 0)","v":11.36440240911478},11.36440240911478,9]
[11,{"$f":"IF((F35-$C$13)>=$B$8,2*SQRT(POWER($C$3,2)-POWER($C$3-D46,2)),0)","v":0},0,13.947080101425236,15.256180101425237,{"$f":"IF($B$3-(E46+E35)>=$B$8,$B$3-(E46+E35),0)","v":0},0,null,null,null,null,null,null,null,null,null,null,null,{"$f":"IF(AND(S45+1<=$B$5, S45 > 0 ), S45+1, 0)","v":10},10.65625,1.5123301014252348,10.944294029483757,10.944294029483757,10]
[10,{"$f":"IF((F34-$C$13)>=$B$8,2*SQRT(POWER($C$3,2)-POWER($C$3-D47,2)),0)","v":0},0,12.637980101425235,13.947080101425236,{"$f":"IF($B$3-(E47+E34)>=$B$8,$B$3-(E47+E34),0)","v":0},0,null,null,null,null,null,null,null,null,null,null,null,11,10.546875,1.4029551014252348,10.511955318412166,10.511955318412166,11]
[9,{"$f":"IF((F33-$C$13)>=$B$8,2*SQRT(POWER($C$3,2)-POWER($C$3-D48,2)),0)","v":0},0,11.328880101425234,12.637980101425235,{"$f":"IF($B$3-(E48+E33)>=$B$8,$B$3-(E48+E33),0)","v":0},0,null,null,null,null,null,null,null,null,null,null,null,12,10.4375,1.2935801014252348,10.065810476747206,10.065810476747206,12]
[8,{"$f":"IF((F32-$C$13)>=$B$8,2*SQRT(POWER($C$3,2)-POWER($C$3-D49,2)),0)","v":0},0,10.019780101425233,11.328880101425234,{"$f":"IF($B$3-(E49+E32)>=$B$8,$B$3-(E49+E32),0)","v":0},0,null,null,"Faces 2 and 4 Full length Cant opening Face Calculations",null,null,null,null,null,"Face 2 & 4 Taper Result Summary",null,null,13,10.328125,1.1842051014252348,9.6039356316196649,9.6039356316196649,13]
[7,{"$f":"IF((F31-$C$13)>=$B$8,2*SQRT(POWER($C$3,2)-POWER($C$3-D50,2)),0)","v":0},0,8.7106801014252326,10.019780101425233,{"$f":"IF($B$3-(E50+E31)>=$B$8,$B$3-(E50+E31),0)","v":0},0,null,null,null,null,null,null,null,null,"Full Face Depth",{"$f":"IF(R44>0, R44, R45)","v":0.85608010142523394},null,14,10.21875,1.0748301014252348,9.1239422293104102,9.1239422293104102,14]
[6,{"$f":"IF((F30-$C$13)>=$B$8,2*SQRT(POWER($C$3,2)-POWER($C$3-D51,2)),0)","v":0},0,7.4015801014252336,8.7106801014252326,{"$f":"IF($B$3-(E51+E30)>=$B$8,$B$3-(E51+E30),0)","v":0},0,null,null,"depth","Upper ","Lower","Maximum ",null,null,"Board Count",{"$f":"IF(R44<0,4, IF(MIN(F43:F56)<0,0,2))","v":2},null,15,10.109375,0.96545510142523483,8.6228050607846765,8.6228050607846765,15]
[5,{"$f":"IF((F29-$C$13)>=$B$8,2*SQRT(POWER($C$3,2)-POWER($C$3-D52,2)),0)","v":0},0,6.0924801014252337,7.4015801014252336,{"$f":"IF($B$3-(E52+E29)>=$B$8,$B$3-(E52+E29),0)","v":0},0,null,null,"F","T","B","Position",null,null,"Board Feet",{"$f":"IF(R44<0, 2*SUM(L44:L45),IF(MIN(F43:F56)<0,0, 2*L44))","v":7.9999999999999938},null,16,10,0.85608010142523483,8.0965990115476156,8.0965990115476156,16]
[4,{"$f":"IF((F28-$C$13)>=$B$8,2*SQRT(POWER($C$3,2)-POWER($C$3-D53,2)),0)","v":17.063045078038538},22.75072677071805,4.7833801014252337,6.0924801014252337,{"$f":"IF($B$3-(E53+E28)>=$B$8,$B$3-(E53+E28),0)","v":7.8150397971495327},6.0924801014252337,null,null,{"$f":"$C$3-SQRT(POWER($C$3,2)-POWER($C$6,2))","v":0.46060798583054385},{"$f":"$C$3-SQRT(POWER($C$3,2)-POWER($B$60,2))","v":0.34348851651432533},{"$f":"$C$3-SQRT(POWER($C$3,2)-POWER($B$61,2))","v":0.79504001951978864},{"$f":"MAX(J53:L53)","v":0.79504001951978864},null,null,null,null,null,0,0,0,0," "," "]
[3,{"$f":"IF((F27-$C$13)>=$B$8,2*SQRT(POWER($C$3,2)-POWER($C$3-D54,2)),0)","v":15.154534609198047},20.206046145597394,3.4742801014252338,4.7833801014252337,{"$f":"IF($B$3-(E54+E27)>=$B$8,$B$3-(E54+E27),0)","v":10.433239797149533},4.7833801014252337,null,null,null,null,null,null,null,null,null,null,null,0,0,0,0," "," "]
[2,{"$f":"IF((F26-$C$13)>=$B$8,2*SQRT(POWER($C$3,2)-POWER($C$3-D55,2)),0)","v":12.428289851286362},16.571053135048484,2.1651801014252339,3.4742801014252338,{"$f":"IF($B$3-(E55+E26)>=$B$8,$B$3-(E55+E26),0)","v":13.051439797149532},3.4742801014252338,null,null,null,null,null,null,null,null,null,null,null,0,0,0,0," "," "]
[1,{"$f":"IF(F56>0,2*SQRT(POWER($C$3,2)-POWER($C$3-D56,2)),0)","v":8.0965990115476156},10.795465348730154,{"$f":"$Q$33","v":0.85608010142523394},2.1651801014252339,{"$f":"$B$3-(E56+E25)","v":15.669639797149532},2.1651801014252339,null,null,null,null,null,null,null,null,null,null,null,0,0,0,0," "," "]
[" ",null,null,null,null,null,null,null,null,null,null,null,null,null," ",null,null,null,0,0,0,0," "," "]
["Board Feet",{"$f":"SUM(C25:C56)+Q35","v":173.19314274813539}]
["Boards Sawn ",{"$f":"COUNTIF(B25:B56,\">0\")+Q34","v":11}]
["Cant Top Y Position",{"$f":"$C$3-MAX(G25:G38)","v":2.5984198985747664}]
["Cant Bot Y Position",{"$f":"$C$3-MAX(G43:G56)","v":3.9075198985747663}]
["Actual Cant Height",{"$f":"IF(B60+B61>=B8, B8, IF(B60+B61 < B8, 0, B60+B61))","v":6}]
[]
[]
[]
[null,null,"Faces 2 and 4 "]
[null,null,null,"Saw",null,"Center","Max Next"]
["Board","Width","Board Feet","Depth","Next ","Remaining","Position"]
[1,{"$f":"IF(D69<MIN(K53,L53),$B$6,$B$62)","v":6},{"$f":"IF(B69/12*$B$14*$B$5<$B$19, 0, B69/12*$B$14*$B$5)","v":8},{"$f":"$M$53","v":0.79504001951978864},{"$f":"D69+$C$16","v":2.1041400195197886},{"$f":"$B$3-E69","v":17.895859980480211},{"$f":"IF(F69>0,D69+$C$16,0)","v":2.1041400195197886}]
[{"$f":"A69+1","v":2},{"$f":"IF(F70-$C$16>=$B$9,IF(D70<MIN($K$53,$L$53),$B$6,$B$62),0)","v":6},{"$f":"IF(B70/12*$B$14*$B$5<$B$19, 0, B70/12*$B$14*$B$5)","v":8},{"$f":"D69+$C$16","v":2.1041400195197886},{"$f":"D70+$C$16","v":3.4132400195197885},{"$f":"IF($B$3-(E70+E98)>$B$9,$B$3-(E70+E98),0)","v":14.482619960960424},{"$f":"IF(F70>0,D70+$C$16,0)","v":3.4132400195197885}]
[3,{"$f":"IF(F71-$C$16>=$B$9,IF(D71<MIN($K$53,$L$53),$B$6,$B$62),0)","v":6},8,{"$f":"D70+$C$16","v":3.4132400195197885},4.7223400195197884,{"$f":"IF($B$3-(E71+E97)>$B$9,$B$3-(E71+E97),0)","v":11.864419960960422},4.7223400195197884]
[4,6,8,4.7223400195197884,6.0314400195197884,{"$f":"IF($B$3-(E72+E96)>$B$9,$B$3-(E72+E96),0)","v":9.2462199609604241},6.0314400195197884]
[5,6,8,6.0314400195197884,7.3405400195197883,{"$f":"IF($B$3-(E73+E95)>$B$9,$B$3-(E73+E95),0)","v":6.6280199609604225},7.3405400195197883]
[6,6,8,7.3405400195197883,8.6496400195197882,{"$f":"IF($B$3-(E74+E94)>$B$9,$B$3-(E74+E94),0)","v":4.0098199609604244},8.6496400195197882]
[7,6,8,8.6496400195197882,9.9587400195197873,{"$f":"IF($B$3-(E75+E93)>$B$9,$B$3-(E75+E93),0)","v":1.3916199609604263},9.9587400195197873]
[8,0,0,9.9587400195197873,11.267840019519788,{"$f":"IF($B$3-(E76+E92)>$B$9,$B$3-(E76+E92),0)","v":0},0]
[9,0,0,11.267840019519788,12.576940019519789,{"$f":"IF($B$3-(E77+E91)>$B$9,$B$3-(E77+E91),0)","v":0},0]
[10,0,0,12.576940019519789,13.88604001951979,{"$f":"IF($B$3-(E78+E90)>$B$9,$B$3-(E78+E90),0)","v":0},0]
[11,0,0,13.88604001951979,15.195140019519791,{"$f":"IF($B$3-(E79+E89)>$B$9,$B$3-(E79+E89),0)","v":0},0]
[12,0,0,15.195140019519791,16.504240019519791,{"$f":"IF($B$3-(E80+E88)>$B$9,$B$3-(E80+E88),0)","v":0},0]
[13,0,0,16.504240019519791,17.813340019519792,{"$f":"IF($B$3-(E81+E87)>$B$9,$B$3-(E81+E87),0)","v":0},0]
[14,0,0,17.813340019519792,19.122440019519793,{"$f":"IF($B$3-(E82+E86)>$B$9,$B$3-(E82+E86),0)","v":0},0]
[]
[]
[{"$f":"A86+1","v":14},{"$f":"IF(F85-$C$16>=$B$9,IF(D85<MIN($K$53,$L$53),$B$6,$B$62),0)","v":0},{"$f":"IF(B85/12*$B$14*$B$5<$B$19, 0, B85/12*$B$14*$B$5)","v":0},{"$f":"D86+$C$16","v":17.813340019519792},{"$f":"D85+$C$16","v":19.122440019519793},{"$f":"IF($B$3-(E85+E82)>=$B$9,$B$3-(E85+E82),0)","v":0},{"$f":"IF(F85>0,D85+$C$16,0)","v":0}]
[13,0,0,16.504240019519791,17.813340019519792,{"$f":"IF($B$3-(E86+E81)>=$B$9,$B$3-(E86+E81),0)","v":0},0]
[12,0,0,15.195140019519791,16.504240019519791,{"$f":"IF($B$3-(E87+E80)>=$B$9,$B$3-(E87+E80),0)","v":0},0]
[11,0,0,13.88604001951979,15.195140019519791,{"$f":"IF($B$3-(E88+E79)>=$B$9,$B$3-(E88+E79),0)","v":0},0]
[10,0,0,12.576940019519789,13.88604001951979,{"$f":"IF($B$3-(E89+E78)>=$B$9,$B$3-(E89+E78),0)","v":0},0]
[9,0,0,11.267840019519788,12.576940019519789,{"$f":"IF($B$3-(E90+E77)>=$B$9,$B$3-(E90+E77),0)","v":0},0]
[8,0,0,9.9587400195197873,11.267840019519788,{"$f":"IF($B$3-(E91+E76)>=$B$9,$B$3-(E91+E76),0)","v":0},0]
[7,0,0,8.6496400195197882,9.9587400195197873,{"$f":"IF($B$3-(E92+E75)>=$B$9,$B$3-(E92+E75),0)","v":8.2519960960425465E-2},9.9587400195197873]
[6,6,8,7.3405400195197883,8.6496400195197882,{"$f":"IF($B$3-(E93+E74)>=$B$9,$B$3-(E93+E74),0)","v":2.7007199609604235},8.6496400195197882]
[5,6,8,6.0314400195197884,7.3405400195197883,{"$f":"IF($B$3-(E94+E73)>=$B$9,$B$3-(E94+E73),0)","v":5.3189199609604234},7.3405400195197883]
[4,6,8,4.7223400195197884,6.0314400195197884,{"$f":"IF($B$3-(E95+E72)>=$B$9,$B$3-(E95+E72),0)","v":7.9371199609604233},6.0314400195197884]
[3,6,8,3.4132400195197885,4.7223400195197884,{"$f":"IF($B$3-(E96+E71)>=$B$9,$B$3-(E96+E71),0)","v":10.555319960960423},4.7223400195197884]
[2,{"$f":"IF(F97-$C$16>=$B$9,IF(D97<MIN($K$53,$L$53),$B$6,$B$62),0)","v":6},8,{"$f":"D98+$C$16","v":2.1041400195197886},3.4132400195197885,{"$f":"IF($B$3-(E97+E70)>=$B$9,$B$3-(E97+E70),0)","v":13.173519960960423},3.4132400195197885]
[1,{"$f":"IF(D98<MIN(K53,L53),$B$6,$B$62)","v":6},{"$f":"IF(B98/12*$B$14*$B$5<$B$19, 0, B98/12*$B$14*$B$5)","v":8},{"$f":"$M$53","v":0.79504001951978864},{"$f":"D98+$C$16","v":2.1041400195197886},{"$f":"$B$3-(E98+E69)","v":15.791719960960423},{"$f":"IF(F98>0,D98+$C$16,0)","v":2.1041400195197886}]
[]
["Board Feet",{"$f":"IF(B20=\"LIVE\", 0, IF(MIN(F43:F56),0,SUM(C69:C98)+Q52))","v":112}]
["Boards Sawn ",{"$f":"IF(B20=\"LIVE\", 0, IF(MIN(F43:F56),0, COUNTIF(B69:B98,\">0\")+Q51))","v":15}]
["Actual Cant Width",{"$f":"IF(B103+B104<C12, 0,IF(B103+B104>=B9, B9, 0))","v":0}]
["Cant Left X Position",{"$f":"$C$3-MAX(G69:G82)","v":4.1259980480212732E-2}]
["Cant Right X Position",{"$f":"$C$3-MAX(G85:G98)","v":4.1259980480212732E-2}]
["Split Taper Sawing Method With Min Open Face Cuts"]
["Small Diameter Log method that makes only minimal opening cheek cuts"]
["Faces 1 & 3"]
[]
[null,null,null,"Saw",null,"Center","Max Next"]
["Board","Width","Board Feet","Depth","Next ","Remaining","Position"]
[1,{"$f":"$J$26","v":5.9999999999999956},{"$f":"$L$26","v":3.9999999999999969},{"$f":"$M$26","v":0.42198010142523401},{"$f":"$N$26","v":1.7310801014252339},{"$f":"$B$3-E111","v":18.268919898574765},{"$f":"IF(F111>0,D111+$C$13,0)","v":1.7310801014252339}]
[]
[1,{"$f":"J26","v":5.9999999999999956},{"$f":"$L$26","v":3.9999999999999969},{"$f":"$M$26","v":0.42198010142523401},{"$f":"$N$26","v":1.7310801014252339},{"$f":"$B$3-(E113+E111)","v":16.53783979714953},{"$f":"IF(F113>0,D113+$C$13,0)","v":1.7310801014252339}]
[]
["Faces 2 & 4","Billet Thickness: ",{"$f":"F113","v":16.53783979714953}]
[]
[null,null,null,"Saw",null,"Center","Max Next"]
["Board","Width","Board Feet","Depth","Next ","Remaining","Position"]
[1,{"$f":"IF($J$44<$C$115,$J$44, $C$115)","v":5.9999999999999956},{"$f":"B119/12*$B$11*$K$44","v":3.9999999999999969},{"$f":"$M$44","v":0.42198010142523401},{"$f":"$P$44","v":1.7310801014252339},{"$f":"$B$3-E119","v":18.268919898574765},{"$f":"$B$3-F119","v":1.7310801014252348}]
[{"$f":"A119+1","v":2},{"$f":"IF(F120<$C$16, 0, IF($C$115<$J$45, $C$115, $J$45))","v":8.0965990115476156},{"$f":"B120/12*$B$11*$K$45","v":10.795465348730154},{"$f":"D119+$C$13","v":1.7310801014252339},{"$f":"D120+$C$13","v":3.0401801014252339},{"$f":"IF($B$3-(E120+E148)>$B$9,$B$3-(E120+E148),0)","v":15.228739797149533},{"$f":"IF(F120>0,D120+$C$13,0)","v":3.0401801014252339}]
[3,{"$f":"IF(F121<$C$16, 0, IF($C$115<$J$45, $C$115, $J$45))","v":8.0965990115476156},{"$f":"B121/12*$B$11*$B$5","v":10.795465348730154},3.0401801014252339,4.3492801014252338,{"$f":"IF($B$3-(E121+E147)>$B$9,$B$3-(E121+E147),0)","v":12.610539797149531},4.3492801014252338]
[4,8.0965990115476156,10.795465348730154,4.3492801014252338,5.6583801014252337,{"$f":"IF($B$3-(E122+E146)>$B$9,$B$3-(E122+E146),0)","v":9.9923397971495334},5.6583801014252337]
[5,8.0965990115476156,10.795465348730154,5.6583801014252337,6.9674801014252337,{"$f":"IF($B$3-(E123+E145)>$B$9,$B$3-(E123+E145),0)","v":7.3741397971495317},6.9674801014252337]
[6,8.0965990115476156,10.795465348730154,6.9674801014252337,8.2765801014252336,{"$f":"IF($B$3-(E124+E144)>$B$9,$B$3-(E124+E144),0)","v":4.7559397971495336},8.2765801014252336]
[7,8.0965990115476156,10.795465348730154,8.2765801014252336,9.5856801014252326,{"$f":"IF($B$3-(E125+E143)>$B$9,$B$3-(E125+E143),0)","v":2.1377397971495355},9.5856801014252326]
[8,0,0,9.5856801014252326,10.894780101425233,{"$f":"IF($B$3-(E126+E142)>$B$9,$B$3-(E126+E142),0)","v":0},0]
[9,0,0,10.894780101425233,12.203880101425234,{"$f":"IF($B$3-(E127+E141)>$B$9,$B$3-(E127+E141),0)","v":0},0]
[10,0,0,12.203880101425234,13.512980101425235,{"$f":"IF($B$3-(E128+E140)>$B$9,$B$3-(E128+E140),0)","v":0},0]
[11,0,0,13.512980101425235,14.822080101425236,{"$f":"IF($B$3-(E129+E139)>$B$9,$B$3-(E129+E139),0)","v":0},0]
[12,0,0,14.822080101425236,16.131180101425237,{"$f":"IF($B$3-(E130+E138)>$B$9,$B$3-(E130+E138),0)","v":0},0]
[13,0,0,16.131180101425237,17.440280101425238,{"$f":"IF($B$3-(E131+E137)>$B$9,$B$3-(E131+E137),0)","v":0},0]
[14,0,0,17.440280101425238,18.749380101425238,{"$f":"IF($B$3-(E132+E136)>$B$9,$B$3-(E132+E136),0)","v":0},0]
[]
[]
[{"$f":"A136+1","v":14},{"$f":"IF(F135<$C$13, 0, IF($C$115<$J$45, $C$115, $J$45))","v":0},{"$f":"B135/12*$B$11*$B$5","v":0},{"$f":"D136+$C$13","v":17.440280101425238},{"$f":"D135+$C$13","v":18.749380101425238},{"$f":"IF($B$3-(E135+E132)>=$B$9,$B$3-(E135+E132),0)","v":0},{"$f":"IF(F135>0,D135+$C$13,0)","v":0}]
[13,0,0,16.131180101425237,17.440280101425238,{"$f":"IF($B$3-(E136+E131)>=$B$9,$B$3-(E136+E131),0)","v":0},0]
[12,0,0,14.822080101425236,16.131180101425237,{"$f":"IF($B$3-(E137+E130)>=$B$9,$B$3-(E137+E130),0)","v":0},0]
[11,0,0,13.512980101425235,14.822080101425236,{"$f":"IF($B$3-(E138+E129)>=$B$9,$B$3-(E138+E129),0)","v":0},0]
[10,0,0,12.203880101425234,13.512980101425235,{"$f":"IF($B$3-(E139+E128)>=$B$9,$B$3-(E139+E128),0)","v":0},0]
[9,0,0,10.894780101425233,12.203880101425234,{"$f":"IF($B$3-(E140+E127)>=$B$9,$B$3-(E140+E127),0)","v":0},0]
[8,0,0,9.5856801014252326,10.894780101425233,{"$f":"IF($B$3-(E141+E126)>=$B$9,$B$3-(E141+E126),0)","v":0},0]
[7,0,0,8.2765801014252336,9.5856801014252326,{"$f":"IF($B$3-(E142+E125)>=$B$9,$B$3-(E142+E125),0)","v":0.82863979714953473},9.5856801014252326]
[6,8.0965990115476156,10.795465348730154,6.9674801014252337,8.2765801014252336,{"$f":"IF($B$3-(E143+E124)>=$B$9,$B$3-(E143+E124),0)","v":3.4468397971495328},8.2765801014252336]
[5,8.0965990115476156,10.795465348730154,5.6583801014252337,6.9674801014252337,{"$f":"IF($B$3-(E144+E123)>=$B$9,$B$3-(E144+E123),0)","v":6.0650397971495327},6.9674801014252337]
[4,8.0965990115476156,10.795465348730154,4.3492801014252338,5.6583801014252337,{"$f":"IF($B$3-(E145+E122)>=$B$9,$B$3-(E145+E122),0)","v":8.6832397971495325},5.6583801014252337]
[3,8.0965990115476156,10.795465348730154,3.0401801014252339,4.3492801014252338,{"$f":"IF($B$3-(E146+E121)>=$B$9,$B$3-(E146+E121),0)","v":11.301439797149532},4.3492801014252338]
[2,8.0965990115476156,{"$f":"B147/12*$B$11*$K$45","v":10.795465348730154},1.7310801014252339,3.0401801014252339,{"$f":"IF($B$3-(E147+E120)>=$B$9,$B$3-(E147+E120),0)","v":13.919639797149532},3.0401801014252339]
[1,{"$f":"IF($J$44<$C$115,$J$44, $C$115)","v":5.9999999999999956},{"$f":"B148/12*$B$11*$K$44","v":3.9999999999999969},{"$f":"$M$44","v":0.42198010142523401},{"$f":"$P$44","v":1.7310801014252339},{"$f":"$B$3-(E148+E119)","v":16.53783979714953},{"$f":"IF(F148>0,D148+$C$13,0)","v":1.7310801014252339}]
[]
[]
["Board Feet",{"$f":"IF(MAX(B119:B148)>B8+2*C13,0,SUM(C111:C148))","v":151.28795863318118}]
["Boards Sawn",{"$f":" COUNTIF(B111:B148,\">0\")","v":15}]
["Cant Height",{"$f":"MIN(F111:F113)","v":16.53783979714953}]
["Cant Width",{"$f":"SMALL(F119:F148,COUNTIF(F119:F148,0)+1)","v":0.82863979714953473}]
[]
["Split Taper Sawing Method",null,null,null,"Faces 1 and 3 "]
[null,null,null,"Saw",null,"Center","Max Next"]
["Board","Width","Board Feet","Depth","Next ","Remaining","Position"]
[1,{"$f":"2*SQRT(POWER($C$3,2)-POWER($C$3-D159,2))","v":6},{"$f":"B159/12*$B$11*$B$5","v":8},{"$f":"$C$3-SQRT(POWER($C$3,2)-POWER($C$6,2))","v":0.46060798583054385},{"$f":"D159+$C$13","v":1.7697079858305438},{"$f":"$B$3-E159","v":18.230292014169457},{"$f":"IF(F159>0,D159+$C$13,0)","v":1.7697079858305438}]
[{"$f":"A159+1","v":2},{"$f":"IF((F190-$C$13)>$B$8,(2*SQRT(POWER($C$3,2)-POWER($C$3-D160,2))),0)","v":11.359981225600412},15.146641634133884,{"$f":"D159+$C$13","v":1.7697079858305438},3.0788079858305437,{"$f":"IF($B$3-(E160+E190)>$B$8,$B$3-(E160+E190),0)","v":15.151484028338913},3.0788079858305437]
[3,{"$f":"IF((F189-$C$13)>$B$8,(2*SQRT(POWER($C$3,2)-POWER($C$3-D161,2))),0)","v":14.435664321810332},19.247552429080443,3.0788079858305437,4.3879079858305436,{"$f":"IF($B$3-(E161+E189)>$B$8,$B$3-(E161+E189),0)","v":12.533284028338912},4.3879079858305436]
[4,{"$f":"IF((F188-$C$13)>$B$8,(2*SQRT(POWER($C$3,2)-POWER($C$3-D162,2))),0)","v":16.553479782147971},22.071306376197295,4.3879079858305436,5.6970079858305436,{"$f":"IF($B$3-(E162+E188)>$B$8,$B$3-(E162+E188),0)","v":9.9150840283389137},5.6970079858305436]
[5,{"$f":"IF((F187-$C$13)>$B$8,(2*SQRT(POWER($C$3,2)-POWER($C$3-D163,2))),0)","v":18.05372645477868},24.07163527303824,5.6970079858305436,7.0061079858305435,{"$f":"IF($B$3-(E163+E187)>$B$8,$B$3-(E163+E187),0)","v":7.296884028338912},7.0061079858305435]
[6,{"$f":"IF((F186-$C$13)>$B$8,(2*SQRT(POWER($C$3,2)-POWER($C$3-D164,2))),0)","v":0},0,7.0061079858305435,8.3152079858305434,{"$f":"IF($B$3-(E164+E186)>$B$8,$B$3-(E164+E186),0)","v":0},0]
[7,{"$f":"IF((F185-$C$13)>$B$8,(2*SQRT(POWER($C$3,2)-POWER($C$3-D165,2))),0)","v":0},0,8.3152079858305434,9.6243079858305443,{"$f":"IF($B$3-(E165+E185)>$B$8,$B$3-(E165+E185),0)","v":0},0]
[8,{"$f":"IF((F184-$C$13)>$B$8,(2*SQRT(POWER($C$3,2)-POWER($C$3-D166,2))),0)","v":0},0,9.6243079858305443,10.933407985830545,{"$f":"IF($B$3-(E166+E184)>$B$8,$B$3-(E166+E184),0)","v":0},0]
[9,{"$f":"IF((F183-$C$13)>$B$8,(2*SQRT(POWER($C$3,2)-POWER($C$3-D167,2))),0)","v":0},0,10.933407985830545,12.242507985830546,{"$f":"IF($B$3-(E167+E183)>$B$8,$B$3-(E167+E183),0)","v":0},0]
[10,{"$f":"IF((F182-$C$13)>$B$8,(2*SQRT(POWER($C$3,2)-POWER($C$3-D168,2))),0)","v":0},0,12.242507985830546,13.551607985830547,{"$f":"IF($B$3-(E168+E182)>$B$8,$B$3-(E168+E182),0)","v":0},0]
[11,{"$f":"IF((F181-$C$13)>$B$8,(2*SQRT(POWER($C$3,2)-POWER($C$3-D169,2))),0)","v":0},0,13.551607985830547,14.860707985830548,{"$f":"IF($B$3-(E169+E181)>$B$8,$B$3-(E169+E181),0)","v":0},0]
[12,{"$f":"IF((F180-$C$13)>$B$8,(2*SQRT(POWER($C$3,2)-POWER($C$3-D170,2))),0)","v":0},0,14.860707985830548,16.169807985830548,{"$f":"IF($B$3-(E170+E180)>$B$8,$B$3-(E170+E180),0)","v":0},0]
[13,{"$f":"IF((F179-$C$13)>$B$8,(2*SQRT(POWER($C$3,2)-POWER($C$3-D171,2))),0)","v":0},0,16.169807985830548,17.478907985830549,{"$f":"IF($B$3-(E171+E179)>$B$8,$B$3-(E171+E179),0)","v":0},0]
[14,{"$f":"IF((F178-$C$13)>$B$8,(2*SQRT(POWER($C$3,2)-POWER($C$3-D172,2))),0)","v":0},0,17.478907985830549,18.78800798583055,{"$f":"IF($B$3-(E172+E178)>$B$8,$B$3-(E172+E178),0)","v":0},0]
[]
[]
[]
[]
[{"$f":"A178+1","v":14},{"$f":"IF((F172-$C$13)>=$B$8,2*SQRT(POWER($C$3,2)-POWER($C$3-D177,2)),0)","v":0},{"$f":"B177/12*$B$11*$B$5","v":0},{"$f":"D178+$C$13","v":17.478907985830549},{"$f":"D177+$C$13","v":18.78800798583055},{"$f":"IF($B$3-(E177+E172)>=$B$8,$B$3-(E177+E172),0)","v":0},{"$f":"IF(F177>0,D177+$C$13,0)","v":0}]
[13,{"$f":"IF((F171-$C$13)>=$B$8,2*SQRT(POWER($C$3,2)-POWER($C$3-D178,2)),0)","v":0},0,16.169807985830548,17.478907985830549,{"$f":"IF($B$3-(E178+E171)>=$B$8,$B$3-(E178+E171),0)","v":0},0]
[12,{"$f":"IF((F170-$C$13)>=$B$8,2*SQRT(POWER($C$3,2)-POWER($C$3-D179,2)),0)","v":0},0,14.860707985830548,16.169807985830548,{"$f":"IF($B$3-(E179+E170)>=$B$8,$B$3-(E179+E170),0)","v":0},0]
[11,{"$f":"IF((F169-$C$13)>=$B$8,2*SQRT(POWER($C$3,2)-POWER($C$3-D180,2)),0)","v":0},0,13.551607985830547,14.860707985830548,{"$f":"IF($B$3-(E180+E169)>=$B$8,$B$3-(E180+E169),0)","v":0},0]
[10,{"$f":"IF((F168-$C$13)>=$B$8,2*SQRT(POWER($C$3,2)-POWER($C$3-D181,2)),0)","v":0},0,12.242507985830546,13.551607985830547,{"$f":"IF($B$3-(E181+E168)>=$B$8,$B$3-(E181+E168),0)","v":0},0]
[9,{"$f":"IF((F167-$C$13)>=$B$8,2*SQRT(POWER($C$3,2)-POWER($C$3-D182,2)),0)","v":0},0,10.933407985830545,12.242507985830546,{"$f":"IF($B$3-(E182+E167)>=$B$8,$B$3-(E182+E167),0)","v":0},0]
[8,{"$f":"IF((F166-$C$13)>=$B$8,2*SQRT(POWER($C$3,2)-POWER($C$3-D183,2)),0)","v":0},0,9.6243079858305443,10.933407985830545,{"$f":"IF($B$3-(E183+E166)>=$B$8,$B$3-(E183+E166),0)","v":0},0]
[7,{"$f":"IF((F165-$C$13)>=$B$8,2*SQRT(POWER($C$3,2)-POWER($C$3-D184,2)),0)","v":0},0,8.3152079858305434,9.6243079858305443,{"$f":"IF($B$3-(E184+E165)>=$B$8,$B$3-(E184+E165),0)","v":0},0]
[6,{"$f":"IF((F164-$C$13)>=$B$8,2*SQRT(POWER($C$3,2)-POWER($C$3-D185,2)),0)","v":0},0,7.0061079858305435,8.3152079858305434,{"$f":"IF($B$3-(E185+E164)>=$B$8,$B$3-(E185+E164),0)","v":0},0]
[5,{"$f":"IF((F163-$C$13)>=$B$8,2*SQRT(POWER($C$3,2)-POWER($C$3-D186,2)),0)","v":0},0,5.6970079858305436,7.0061079858305435,{"$f":"IF($B$3-(E186+E163)>=$B$8,$B$3-(E186+E163),0)","v":0},0]
[4,{"$f":"IF((F162-$C$13)>=$B$8,2*SQRT(POWER($C$3,2)-POWER($C$3-D187,2)),0)","v":16.553479782147971},22.071306376197295,4.3879079858305436,5.6970079858305436,{"$f":"IF($B$3-(E187+E162)>=$B$8,$B$3-(E187+E162),0)","v":8.6059840283389129},5.6970079858305436]
[3,{"$f":"IF((F161-$C$13)>=$B$8,2*SQRT(POWER($C$3,2)-POWER($C$3-D188,2)),0)","v":14.435664321810332},19.247552429080443,3.0788079858305437,4.3879079858305436,{"$f":"IF($B$3-(E188+E161)>=$B$8,$B$3-(E188+E161),0)","v":11.224184028338913},4.3879079858305436]
[2,{"$f":"IF((F160-$C$13)>=$B$8,2*SQRT(POWER($C$3,2)-POWER($C$3-D189,2)),0)","v":11.359981225600412},15.146641634133884,1.7697079858305438,3.0788079858305437,{"$f":"IF($B$3-(E189+E160)>=$B$8,$B$3-(E189+E160),0)","v":13.842384028338913},3.0788079858305437]
[1,{"$f":"IF(F190>0,2*SQRT(POWER($C$3,2)-POWER($C$3-D190,2)),0)","v":6},8,{"$f":"IF($B$18=\"yes\",$Q$33,$C$3-SQRT(POWER($C$3,2)-POWER($C$6,2)))","v":0.46060798583054385},1.7697079858305438,{"$f":"$B$3-(E190+E159)","v":16.460584028338914},1.7697079858305438]
[" "]
["Board Feet",{"$f":"SUM(C159:C190)","v":153.00263615186148}]
["Boards Sawn ",{"$f":" COUNTIF(B159:B190,\">0\")","v":9}]
["Cant Top Y Position",{"$f":"$C$3-MAX(G159:G172)","v":2.9938920141694565}]
["Cant Bot Y Position",{"$f":"$C$3-MAX(G177:G190)","v":4.3029920141694564}]
["Actual Cant Height",{"$f":"IF(B194+B195>=B8, B8, IF(B194+B195 < B8, 0, B194+B195))","v":6}]
[]
[]
[]
[null,null,"Faces 2 and 4 "]
[null,null,null,"Saw",null,"Center","Max Next"]
["Board","Width","Board Feet","Depth","Next ","Remaining","Position"]
[1,{"$f":"IF(D203<MIN($K$53,$L$53),$B$6,$B$196)","v":6},{"$f":"IF(B203/12*$B$14*$B$5<$B$19, 0, B203/12*$B$14*$B$5)","v":8},{"$f":"IF($B$18=\"yes\", $Q$50, $M$53)","v":0.79504001951978864},{"$f":"D203+$C$16","v":2.1041400195197886},{"$f":"$B$3-E203","v":17.895859980480211},{"$f":"IF(F203>0,D203+$C$16,0)","v":2.1041400195197886}]
[{"$f":"A203+1","v":2},{"$f":"IF(F204-$C$16>=$B$9,IF(D204<MIN($K$53,$L$53),$B$6,$B$196),0)","v":6},{"$f":"IF(B204/12*$B$14*$B$5<$B$19, 0, B204/12*$B$14*$B$5)","v":8},{"$f":"D203+$C$16","v":2.1041400195197886},{"$f":"D204+$C$16","v":3.4132400195197885},{"$f":"IF($B$3-(E204+E232)>$B$9,$B$3-(E204+E232),0)","v":14.482619960960424},{"$f":"IF(F204>0,D204+$C$16,0)","v":3.4132400195197885}]
[3,{"$f":"IF(F205-$C$16>=$B$9,IF(D205<MIN($K$53,$L$53),$B$6,$B$196),0)","v":6},8,{"$f":"D204+$C$16","v":3.4132400195197885},4.7223400195197884,{"$f":"IF($B$3-(E205+E231)>$B$9,$B$3-(E205+E231),0)","v":11.864419960960422},4.7223400195197884]
[4,6,8,4.7223400195197884,6.0314400195197884,{"$f":"IF($B$3-(E206+E230)>$B$9,$B$3-(E206+E230),0)","v":9.2462199609604241},6.0314400195197884]
[5,6,8,6.0314400195197884,7.3405400195197883,{"$f":"IF($B$3-(E207+E229)>$B$9,$B$3-(E207+E229),0)","v":6.6280199609604225},7.3405400195197883]
[6,6,8,7.3405400195197883,8.6496400195197882,{"$f":"IF($B$3-(E208+E228)>$B$9,$B$3-(E208+E228),0)","v":4.0098199609604244},8.6496400195197882]
[7,6,8,8.6496400195197882,9.9587400195197873,{"$f":"IF($B$3-(E209+E227)>$B$9,$B$3-(E209+E227),0)","v":1.3916199609604263},9.9587400195197873]
[8,0,0,9.9587400195197873,11.267840019519788,{"$f":"IF($B$3-(E210+E226)>$B$9,$B$3-(E210+E226),0)","v":0},0]
[9,0,0,11.267840019519788,12.576940019519789,{"$f":"IF($B$3-(E211+E225)>$B$9,$B$3-(E211+E225),0)","v":0},0]
[10,0,0,12.576940019519789,13.88604001951979,{"$f":"IF($B$3-(E212+E224)>$B$9,$B$3-(E212+E224),0)","v":0},0]
[11,0,0,13.88604001951979,15.195140019519791,{"$f":"IF($B$3-(E213+E223)>$B$9,$B$3-(E213+E223),0)","v":0},0]
[12,0,0,15.195140019519791,16.504240019519791,{"$f":"IF($B$3-(E214+E222)>$B$9,$B$3-(E214+E222),0)","v":0},0]
[13,0,0,16.504240019519791,17.813340019519792,{"$f":"IF($B$3-(E215+E221)>$B$9,$B$3-(E215+E221),0)","v":0},0]
[14,0,0,17.813340019519792,19.122440019519793,{"$f":"IF($B$3-(E216+E220)>$B$9,$B$3-(E216+E220),0)","v":0},0]
[]
[]
[{"$f":"A220+1","v":14},{"$f":"IF(F219-$C$16>=$B$9,IF(D219<MIN($K$53,$L$53),$B$6,$B$196),0)","v":0},{"$f":"IF(B219/12*$B$14*$B$5<$B$19, 0, B219/12*$B$14*$B$5)","v":0},{"$f":"D220+$C$16","v":17.813340019519792},{"$f":"D219+$C$16","v":19.122440019519793},{"$f":"IF($B$3-(E219+E216)>=$B$9,$B$3-(E219+E216),0)","v":0},{"$f":"IF(F219>0,D219+$C$16,0)","v":0}]
[13,0,0,16.504240019519791,17.813340019519792,{"$f":"IF($B$3-(E220+E215)>=$B$9,$B$3-(E220+E215),0)","v":0},0]
[12,0,0,15.195140019519791,16.504240019519791,{"$f":"IF($B$3-(E221+E214)>=$B$9,$B$3-(E221+E214),0)","v":0},0]
[11,0,0,13.88604001951979,15.195140019519791,{"$f":"IF($B$3-(E222+E213)>=$B$9,$B$3-(E222+E213),0)","v":0},0]
[10,0,0,12.576940019519789,13.88604001951979,{"$f":"IF($B$3-(E223+E212)>=$B$9,$B$3-(E223+E212),0)","v":0},0]
[9,0,0,11.267840019519788,12.576940019519789,{"$f":"IF($B$3-(E224+E211)>=$B$9,$B$3-(E224+E211),0)","v":0},0]
[8,0,0,9.9587400195197873,11.267840019519788,{"$f":"IF($B$3-(E225+E210)>=$B$9,$B$3-(E225+E210),0)","v":0},0]
[7,0,0,8.6496400195197882,9.9587400195197873,{"$f":"IF($B$3-(E226+E209)>=$B$9,$B$3-(E226+E209),0)","v":8.2519960960425465E-2},9.9587400195197873]
[6,6,8,7.3405400195197883,8.6496400195197882,{"$f":"IF($B$3-(E227+E208)>=$B$9,$B$3-(E227+E208),0)","v":2.7007199609604235},8.6496400195197882]
[5,6,8,6.0314400195197884,7.3405400195197883,{"$f":"IF($B$3-(E228+E207)>=$B$9,$B$3-(E228+E207),0)","v":5.3189199609604234},7.3405400195197883]
[4,6,8,4.7223400195197884,6.0314400195197884,{"$f":"IF($B$3-(E229+E206)>=$B$9,$B$3-(E229+E206),0)","v":7.9371199609604233},6.0314400195197884]
[3,6,8,3.4132400195197885,4.7223400195197884,{"$f":"IF($B$3-(E230+E205)>=$B$9,$B$3-(E230+E205),0)","v":10.555319960960423},4.7223400195197884]
[2,{"$f":"IF(F231-$C$16>=$B$9,IF(D231<MIN($K$53,$L$53),$B$6,$B$196),0)","v":6},8,{"$f":"D232+$C$16","v":2.1041400195197886},3.4132400195197885,{"$f":"IF($B$3-(E231+E204)>=$B$9,$B$3-(E231+E204),0)","v":13.173519960960423},3.4132400195197885]
[1,{"$f":"IF(D232<MIN(K53,L53),$B$6,$B$196)","v":6},{"$f":"IF(B232/12*$B$14*$B$5<$B$19, 0, B232/12*$B$14*$B$5)","v":8},{"$f":"IF($B$18=\"yes\", $Q$50, $M$53)","v":0.79504001951978864},{"$f":"D232+$C$16","v":2.1041400195197886},{"$f":"$B$3-(E232+E203)","v":15.791719960960423},{"$f":"IF(F232>0,D232+$C$16,0)","v":2.1041400195197886}]
[]
["Board Feet",{"$f":"IF(MIN(F177:F190),0,SUM(C203:C232))","v":104}]
["Boards Sawn ",{"$f":"IF(MIN(F177:F190),0,COUNTIF(B203:B232,\">0\"))","v":13}]
["Actual Cant Width",{"$f":"IF(B237+B238<C99, 0,IF(B237+B238>=B96, B96, 0))","v":0}]
["Cant Left X Position",{"$f":"$C$3-MAX(G203:G216)","v":4.1259980480212732E-2}]
["Cant Right X Position",{"$f":"$C$3-MAX(G219:G232)","v":4.1259980480212732E-2}]
[]
[null,"Board Count","Volume","Cant Height","Cant Width","Mode"]
["Split Taper With Min Open Cut",{"$f":"B101+B59","v":26},{"$f":"B100+B58","v":285.19314274813541},{"$f":"IF(B62<B8,0,B8)","v":6},{"$f":"IF(B102<0,0,B9)","v":0},1]
["Split Taper Cheek & Billet",{"$f":"B152","v":15},{"$f":"B151","v":151.28795863318118},{"$f":"IF(B153<0,0,B8)","v":6},{"$f":"IF(B154<0,0,B9)","v":0},2]
["Split Taper NO min Open Cut",{"$f":"B235+B193","v":22},{"$f":"B234+B192","v":257.00263615186145},{"$f":"IF(B196<0,0,B196)","v":6},{"$f":"IF(B236<0,0,B9)","v":0},3]
["Best Solution",{"$f":"IF(AND(C241>C243, C241>C242),B241,  IF(C242>C243, B242, B243))","v":26},{"$f":"IF(AND($C$241>$C$243,$C$241>$C$242),C$241,IF($C$242>$C$243,C$242,C$243))","v":285.19314274813541},{"$f":"IF(AND($C$241>$C$243,$C$241>$C$242),D$241,IF($C$242>$C$243,D$242,D$243))","v":6},{"$f":"IF(AND($C$241>$C$243,$C$241>$C$242),E$241,IF($C$242>$C$243,E$242,E$243))","v":0},{"$f":"IF(AND($C$241>$C$243,$C$241>$C$242),F$241,IF($C$242>$C$243,F$242,F$243))","v":1}]
[{"$f":"B18","v":"AUTO"},{"$f":"IF($A$245=\"AUTO\",B244,IF($A$245=\"YES\",B241,B243))","v":26},{"$f":"IF($A$245=\"AUTO\",C$244,IF($A$245=\"YES\",C$241,C$243))","v":285.19314274813541},{"$f":"IF($A$245=\"AUTO\",D$244,IF($A$245=\"YES\",D$241,D$243))","v":6},{"$f":"IF($A$245=\"AUTO\",E$244,IF($A$245=\"YES\",E$241,E$243))","v":0}]
[]
[]
["Full Taper Sawing Method"]
[null,null,"Faces 1 and 3 "]
[null,null,null,"Saw",null,"Center","Max Next"]
["Board","Width","Board Feet","Depth","Next ","Remaining","Position"]
[1,{"$f":"2*SQRT(POWER($C$3,2)-POWER($C$3-D252,2))","v":6},{"$f":"B252/12*$B$11*$B$5","v":8},{"$f":"$C$3-SQRT(POWER($C$3,2)-POWER($C$6,2))","v":0.46060798583054385},{"$f":"D252+$C$13","v":1.7697079858305438},{"$f":"$B$3-E252","v":18.230292014169457},{"$f":"IF(F252>0,D252+$C$13,0)","v":1.7697079858305438}]
[{"$f":"A252+1","v":2},{"$f":"IF((F283-$C$13)>$B$8,(2*SQRT(POWER($C$3,2)-POWER($C$3-D253,2))),0)","v":11.359981225600412},15.146641634133884,{"$f":"D252+$C$13","v":1.7697079858305438},{"$f":"D253+$C$13","v":3.0788079858305437},{"$f":"IF($B$3-(E253+E283)>$B$8,$B$3-(E253+E283),0)","v":15.151484028338913},{"$f":"IF(F253>0,D253+$C$13,0)","v":3.0788079858305437}]
[3,{"$f":"IF((F282-$C$13)>$B$8,(2*SQRT(POWER($C$3,2)-POWER($C$3-D254,2))),0)","v":14.435664321810332},19.247552429080443,{"$f":"D253+$C$13","v":3.0788079858305437},{"$f":"D254+$C$13","v":4.3879079858305436},{"$f":"IF($B$3-(E254+E282)>$B$8,$B$3-(E254+E282),0)","v":12.533284028338912},4.3879079858305436]
[4,{"$f":"IF((F281-$C$13)>$B$8,(2*SQRT(POWER($C$3,2)-POWER($C$3-D255,2))),0)","v":16.553479782147971},22.071306376197295,4.3879079858305436,5.6970079858305436,{"$f":"IF($B$3-(E255+E281)>$B$8,$B$3-(E255+E281),0)","v":9.9150840283389137},5.6970079858305436]
[5,{"$f":"IF((F280-$C$13)>$B$8,(2*SQRT(POWER($C$3,2)-POWER($C$3-D256,2))),0)","v":18.05372645477868},24.07163527303824,5.6970079858305436,7.0061079858305435,{"$f":"IF($B$3-(E256+E280)>$B$8,$B$3-(E256+E280),0)","v":7.296884028338912},7.0061079858305435]
[6,{"$f":"IF((F279-$C$13)>$B$8,(2*SQRT(POWER($C$3,2)-POWER($C$3-D257,2))),0)","v":0},0,7.0061079858305435,8.3152079858305434,{"$f":"IF($B$3-(E257+E279)>$B$8,$B$3-(E257+E279),0)","v":0},0]
[7,{"$f":"IF((F278-$C$13)>$B$8,(2*SQRT(POWER($C$3,2)-POWER($C$3-D258,2))),0)","v":0},0,8.3152079858305434,9.6243079858305443,{"$f":"IF($B$3-(E258+E278)>$B$8,$B$3-(E258+E278),0)","v":0},0]
[8,{"$f":"IF((F277-$C$13)>$B$8,(2*SQRT(POWER($C$3,2)-POWER($C$3-D259,2))),0)","v":0},0,9.6243079858305443,10.933407985830545,{"$f":"IF($B$3-(E259+E277)>$B$8,$B$3-(E259+E277),0)","v":0},0]
[9,{"$f":"IF((F276-$C$13)>$B$8,(2*SQRT(POWER($C$3,2)-POWER($C$3-D260,2))),0)","v":0},0,10.933407985830545,12.242507985830546,{"$f":"IF($B$3-(E260+E276)>$B$8,$B$3-(E260+E276),0)","v":0},0]
[10,{"$f":"IF((F275-$C$13)>$B$8,(2*SQRT(POWER($C$3,2)-POWER($C$3-D261,2))),0)","v":0},0,12.242507985830546,13.551607985830547,{"$f":"IF($B$3-(E261+E275)>$B$8,$B$3-(E261+E275),0)","v":0},0]
[11,{"$f":"IF((F274-$C$13)>$B$8,(2*SQRT(POWER($C$3,2)-POWER($C$3-D262,2))),0)","v":0},0,13.551607985830547,14.860707985830548,{"$f":"IF($B$3-(E262+E274)>$B$8,$B$3-(E262+E274),0)","v":0},0]
[12,{"$f":"IF((F273-$C$13)>$B$8,(2*SQRT(POWER($C$3,2)-POWER($C$3-D263,2))),0)","v":0},0,14.860707985830548,16.169807985830548,{"$f":"IF($B$3-(E263+E273)>$B$8,$B$3-(E263+E273),0)","v":0},0]
[13,{"$f":"IF((F272-$C$13)>$B$8,(2*SQRT(POWER($C$3,2)-POWER($C$3-D264,2))),0)","v":0},0,16.169807985830548,17.478907985830549,{"$f":"IF($B$3-(E264+E272)>$B$8,$B$3-(E264+E272),0)","v":0},0]
[14,{"$f":"IF((F271-$C$13)>$B$8,(2*SQRT(POWER($C$3,2)-POWER($C$3-D265,2))),0)","v":0},0,17.478907985830549,18.78800798583055,{"$f":"IF($B$3-(E265+E271)>$B$8,$B$3-(E265+E271),0)","v":0},0]
[]
[]
[]
[]
[{"$f":"A271+1","v":14},{"$f":"IF((F265-$C$13)>=$B$8,2*SQRT(POWER($C$3,2)-POWER($C$3-D270,2)),0)","v":0},{"$f":"B270/12*$B$11*$B$5","v":0},{"$f":"D271+$C$13","v":17.478907985830549},{"$f":"D270+$C$13","v":18.78800798583055},{"$f":"IF($B$3-(E270+E265)>=$B$8,$B$3-(E270+E265),0)","v":0},{"$f":"IF(F270>0,D270+$C$13,0)","v":0}]
[13,{"$f":"IF((F264-$C$13)>=$B$8,2*SQRT(POWER($C$3,2)-POWER($C$3-D271,2)),0)","v":0},0,16.169807985830548,17.478907985830549,{"$f":"IF($B$3-(E271+E264)>=$B$8,$B$3-(E271+E264),0)","v":0},0]
[12,{"$f":"IF((F263-$C$13)>=$B$8,2*SQRT(POWER($C$3,2)-POWER($C$3-D272,2)),0)","v":0},0,14.860707985830548,16.169807985830548,{"$f":"IF($B$3-(E272+E263)>=$B$8,$B$3-(E272+E263),0)","v":0},0]
[11,{"$f":"IF((F262-$C$13)>=$B$8,2*SQRT(POWER($C$3,2)-POWER($C$3-D273,2)),0)","v":0},0,13.551607985830547,14.860707985830548,{"$f":"IF($B$3-(E273+E262)>=$B$8,$B$3-(E273+E262),0)","v":0},0]
[10,{"$f":"IF((F261-$C$13)>=$B$8,2*SQRT(POWER($C$3,2)-POWER($C$3-D274,2)),0)","v":0},0,12.242507985830546,13.551607985830547,{"$f":"IF($B$3-(E274+E261)>=$B$8,$B$3-(E274+E261),0)","v":0},0]
[9,{"$f":"IF((F260-$C$13)>=$B$8,2*SQRT(POWER($C$3,2)-POWER($C$3-D275,2)),0)","v":0},0,10.933407985830545,12.242507985830546,{"$f":"IF($B$3-(E275+E260)>=$B$8,$B$3-(E275+E260),0)","v":0},0]
[8,{"$f":"IF((F259-$C$13)>=$B$8,2*SQRT(POWER($C$3,2)-POWER($C$3-D276,2)),0)","v":0},0,9.6243079858305443,10.933407985830545,{"$f":"IF($B$3-(E276+E259)>=$B$8,$B$3-(E276+E259),0)","v":0},0]
[7,{"$f":"IF((F258-$C$13)>=$B$8,2*SQRT(POWER($C$3,2)-POWER($C$3-D277,2)),0)","v":0},0,8.3152079858305434,9.6243079858305443,{"$f":"IF($B$3-(E277+E258)>=$B$8,$B$3-(E277+E258),0)","v":0},0]
[6,{"$f":"IF((F257-$C$13)>=$B$8,2*SQRT(POWER($C$3,2)-POWER($C$3-D278,2)),0)","v":0},0,7.0061079858305435,8.3152079858305434,{"$f":"IF($B$3-(E278+E257)>=$B$8,$B$3-(E278+E257),0)","v":0},0]
[5,{"$f":"IF((F256-$C$13)>=$B$8,2*SQRT(POWER($C$3,2)-POWER($C$3-D279,2)),0)","v":0},0,5.6970079858305436,7.0061079858305435,{"$f":"IF($B$3-(E279+E256)>=$B$8,$B$3-(E279+E256),0)","v":0},0]
[4,{"$f":"IF((F255-$C$13)>=$B$8,2*SQRT(POWER($C$3,2)-POWER($C$3-D280,2)),0)","v":16.553479782147971},22.071306376197295,4.3879079858305436,5.6970079858305436,{"$f":"IF($B$3-(E280+E255)>=$B$8,$B$3-(E280+E255),0)","v":8.6059840283389129},5.6970079858305436]
[3,{"$f":"IF((F254-$C$13)>=$B$8,2*SQRT(POWER($C$3,2)-POWER($C$3-D281,2)),0)","v":14.435664321810332},19.247552429080443,3.0788079858305437,4.3879079858305436,{"$f":"IF($B$3-(E281+E254)>=$B$8,$B$3-(E281+E254),0)","v":11.224184028338913},4.3879079858305436]
[2,{"$f":"IF((F253-$C$13)>=$B$8,2*SQRT(POWER($C$3,2)-POWER($C$3-D282,2)),0)","v":11.359981225600412},15.146641634133884,{"$f":"D283+$C$13","v":1.7697079858305438},{"$f":"D282+$C$13","v":3.0788079858305437},{"$f":"IF($B$3-(E282+E253)>=$B$8,$B$3-(E282+E253),0)","v":13.842384028338913},3.0788079858305437]
[1,{"$f":"IF(F283>0,2*SQRT(POWER($C$3,2)-POWER($C$3-D283,2)),0)","v":6},8,{"$f":"$C$3-SQRT(POWER($C$3,2)-POWER($C$6,2))","v":0.46060798583054385},{"$f":"D283+$C$13","v":1.7697079858305438},{"$f":"$B$3-(E283+E252)","v":16.460584028338914},{"$f":"IF(F283>0,D283+$C$13,0)","v":1.7697079858305438}]
[" "]
["Board Feet",{"$f":"IF($B$18=\"yes\",SUM(C252:C283)+Q262,SUM(C252:C283))","v":153.00263615186148}]
["Boards Sawn ",{"$f":"IF($B$18=\"yes\",COUNTIF(B252:B283,\">0\")+Q261, COUNTIF(B252:B283,\">0\"))","v":9}]
["Cant Top Y Position",{"$f":"$C$3-MAX(G252:G265)","v":2.9938920141694565},null,"Faces 2 and 4 Full length Cant opening Face Calculations"]
["Cant Bot Y Position",{"$f":"$C$3-MAX(G270:G283)","v":4.3029920141694564}]
["Actual Cant Height",{"$f":"IF(B287+B288>=B8,B8,IF(B287+B288<B8,0,B287+B288))","v":6},null,"depth","Upper ","Lower","Maximum "]
[null,null,null,"F","T","B","Position"]
[null,null,null,{"$f":"$C$3-SQRT(POWER($C$3,2)-POWER($C$6,2))","v":0.46060798583054385},{"$f":"$C$3-SQRT(POWER($C$3,2)-POWER($B$287,2))","v":0.45868926155885248},{"$f":"$C$3-SQRT(POWER($C$3,2)-POWER($B$288,2))","v":0.97313677261066012},{"$f":"MAX(D291:F291)","v":0.97313677261066012}]
[]
[null,null,"Faces 2 and 4 "]
[null,null,null,"Saw",null,"Center","Max Next"]
["Board","Width","Board Feet","Depth","Next ","Remaining","Position"]
[1,{"$f":"IF($B$289<$B$19,0,$B$289)","v":6},{"$f":"IF((B296/12*$B$11*$B$5) < $B$19, 0, B296/12*$B$14*$B$5)","v":8},{"$f":"$G$291","v":0.97313677261066012},{"$f":"D296+$C$15","v":2.15723677261066},{"$f":"$B$3-E296","v":17.842763227389341},{"$f":"IF(F296>0,D296+$C$16,0)","v":2.28223677261066}]
[{"$f":"A296+1","v":2},{"$f":"IF(F297-$C$13>=$B$9,$B$289,0)","v":6},{"$f":"IF((B297/12*$B$11*$B$5) < $B$19, 0, B297/12*$B$14*$B$5)","v":8},{"$f":"D296+$C$16","v":2.28223677261066},{"$f":"D297+$C$15","v":3.46633677261066},{"$f":"IF($B$3-(E297+E325)>$B$9,$B$3-(E297+E325),0)","v":14.251426454778681},{"$f":"IF(F297>0,D297+$C$16,0)","v":3.59133677261066}]
[3,6,8,{"$f":"D297+$C$16","v":3.59133677261066},4.7754367726106599,{"$f":"IF($B$3-(E298+E324)>$B$9,$B$3-(E298+E324),0)","v":11.633226454778679},4.9004367726106599]
[4,6,8,4.9004367726106599,6.0845367726106598,{"$f":"IF($B$3-(E299+E323)>$B$9,$B$3-(E299+E323),0)","v":9.0150264547786811},6.2095367726106598]
[5,6,8,6.2095367726106598,7.3936367726106598,{"$f":"IF($B$3-(E300+E322)>$B$9,$B$3-(E300+E322),0)","v":6.3968264547786795},7.5186367726106598]
[6,6,8,7.5186367726106598,8.7027367726106597,{"$f":"IF($B$3-(E301+E321)>$B$9,$B$3-(E301+E321),0)","v":3.7786264547786814},8.8277367726106597]
[7,0,0,8.8277367726106597,10.011836772610661,{"$f":"IF($B$3-(E302+E320)>$B$9,$B$3-(E302+E320),0)","v":1.1604264547786798},10.136836772610661]
[8,0,0,10.136836772610661,11.320936772610661,{"$f":"IF($B$3-(E303+E319)>$B$9,$B$3-(E303+E319),0)","v":0},0]
[9,0,0,11.445936772610661,12.630036772610662,{"$f":"IF($B$3-(E304+E318)>$B$9,$B$3-(E304+E318),0)","v":0},0]
[10,0,0,12.755036772610662,13.939136772610663,{"$f":"IF($B$3-(E305+E317)>$B$9,$B$3-(E305+E317),0)","v":0},0]
[11,0,0,14.064136772610663,15.248236772610664,{"$f":"IF($B$3-(E306+E316)>$B$9,$B$3-(E306+E316),0)","v":0},0]
[12,0,0,15.373236772610664,16.557336772610665,{"$f":"IF($B$3-(E307+E315)>$B$9,$B$3-(E307+E315),0)","v":0},0]
[13,0,0,16.682336772610665,17.866436772610665,{"$f":"IF($B$3-(E308+E314)>$B$9,$B$3-(E308+E314),0)","v":0},0]
[14,0,0,17.991436772610665,19.175536772610666,{"$f":"IF($B$3-(E309+E313)>$B$9,$B$3-(E309+E313),0)","v":0},0]
[]
[]
[{"$f":"A313+1","v":14},{"$f":"IF(F312-$C$13>=$B$9,$B$289,0)","v":0},{"$f":"IF((B312/12*$B$11*$B$5) < $B$19, 0, B312/12*$B$14*$B$5)","v":0},{"$f":"D313+$C$16","v":17.991436772610665},{"$f":"D312+$C$16","v":19.300536772610666},{"$f":"IF($B$3-(E312+E309)>=$B$9,$B$3-(E312+E309),0)","v":0},{"$f":"IF(F312>0,D312+$C$16,0)","v":0}]
[13,0,0,16.682336772610665,17.991436772610665,{"$f":"IF($B$3-(E313+E308)>=$B$9,$B$3-(E313+E308),0)","v":0},0]
[12,0,0,15.373236772610664,16.682336772610665,{"$f":"IF($B$3-(E314+E307)>=$B$9,$B$3-(E314+E307),0)","v":0},0]
[11,0,0,14.064136772610663,15.373236772610664,{"$f":"IF($B$3-(E315+E306)>=$B$9,$B$3-(E315+E306),0)","v":0},0]
[10,0,0,12.755036772610662,14.064136772610663,{"$f":"IF($B$3-(E316+E305)>=$B$9,$B$3-(E316+E305),0)","v":0},0]
[9,0,0,11.445936772610661,12.755036772610662,{"$f":"IF($B$3-(E317+E304)>=$B$9,$B$3-(E317+E304),0)","v":0},0]
[8,0,0,10.136836772610661,11.445936772610661,{"$f":"IF($B$3-(E318+E303)>=$B$9,$B$3-(E318+E303),0)","v":0},0]
[7,0,0,8.8277367726106597,10.136836772610661,{"$f":"IF($B$3-(E319+E302)>=$B$9,$B$3-(E319+E302),0)","v":0},0]
[6,6,8,7.5186367726106598,8.8277367726106597,{"$f":"IF($B$3-(E320+E301)>=$B$9,$B$3-(E320+E301),0)","v":2.4695264547786806},8.8277367726106597]
[5,6,8,6.2095367726106598,7.5186367726106598,{"$f":"IF($B$3-(E321+E300)>=$B$9,$B$3-(E321+E300),0)","v":5.0877264547786805},7.5186367726106598]
[4,6,8,4.9004367726106599,6.2095367726106598,{"$f":"IF($B$3-(E322+E299)>=$B$9,$B$3-(E322+E299),0)","v":7.7059264547786803},6.2095367726106598]
[3,6,8,3.59133677261066,4.9004367726106599,{"$f":"IF($B$3-(E323+E298)>=$B$9,$B$3-(E323+E298),0)","v":10.32412645477868},4.9004367726106599]
[2,6,8,{"$f":"D325+$C$16","v":2.28223677261066},3.59133677261066,{"$f":"IF($B$3-(E324+E297)>=$B$9,$B$3-(E324+E297),0)","v":12.94232645477868},3.59133677261066]
[1,6,{"$f":"IF((B325/12*$B$11*$B$5) < $B$19, 0, B325/12*$B$14*$B$5)","v":8},{"$f":"$G$291","v":0.97313677261066012},{"$f":"D325+$C$16","v":2.28223677261066},{"$f":"$B$3-(E325+E296)","v":15.56052645477868},{"$f":"IF(F325>0,D325+$C$16,0)","v":2.28223677261066}]
[]
["Board Feet",{"$f":"IF(MIN(F270:F283)<0,0,IF($B$18=\"yes\",SUM(C296:C325)+Q279,SUM(C296:C325)))","v":96}]
["Boards Sawn ",{"$f":"IF(MIN(F270:F283)<0,0,IF($B$18=\"yes\", COUNTIF(B296:B325,\">0\")+Q278,COUNTIF(B296:B325,\">0\")))","v":12}]
["Actual Cant Width",{"$f":"IF(B330+B331<C12, 0, IF(B330+B331>=B9, B9, 0))","v":0}]
["Cant Left X Position",{"$f":"$C$3-MAX(G296:G309)","v":-0.13683677261066052}]
["Cant Right X Position",{"$f":"$C$3-MAX(G312:G325)","v":1.1722632273893403}]
[]
[]
[]
["Experimental Grade Sawing Method (Split Taper)"]
["Largest Square Fit",{"$f":"$C$3*1.414213","v":14.14213}]
["Cut Depth of Largest Square",{"$f":"$C$3-SQRT(POWER($C$3,2)-POWER($B$336/2,2))","v":2.928929376270168}]
[]
["Opening Face Size/Depth Calculations"]
[{"$f":"J24","v":"Width"},"Length","Board","1st Face","2nd Face"]
["(inches)","(feet)","Feet","Depth","Depth"]
[5.9999999999999956,8,3.9999999999999969,{"$f":"O26","v":-0.45301989857476599},{"$f":"D342+$C$12","v":0.73108010142523394}]
[8.0965990115476156,16,10.795465348730154,{"$f":"O27","v":0.85608010142523394},{"$f":"D343+$C$12","v":2.0401801014252339}]
[14.361184767198385,16,19.148246356264512,2.1651801014252339,{"$f":"D344+$C$12","v":3.3492801014252338}]
[16.500832055123908,16,22.001109406831876,3.4742801014252338,{"$f":"D345+$C$12","v":4.6583801014252337}]
[]
["Face 1"]
[null,null,null,"Board","Saw","2nd Face"]
["Board ","Width","Length","Feet","Depth","Depth"]
[1,{"$f":"A342","v":5.9999999999999956},{"$f":"B342","v":8},{"$f":"B350/12*C350*$B$11","v":3.9999999999999969},{"$f":"D342","v":-0.45301989857476599},{"$f":"E350+$C$12","v":0.73108010142523394}]
[2,{"$f":"IF(E350+$C$13>$B$337, 0,$A$343)","v":8.0965990115476156},{"$f":"IF(B351=0,0,B343)","v":16},{"$f":"B351/12*C351*$B$11","v":10.795465348730154},{"$f":"E350+$C$13","v":0.85608010142523394},{"$f":"IF(B351>0, E351+$C$12,0)","v":2.0401801014252339}]
[3,{"$f":"IF(E351+$C$13>$B$337, 0,$A$344)","v":14.361184767198385},{"$f":"IF(B352=0,0,B344)","v":16},{"$f":"B352/12*C352*$B$11","v":19.148246356264512},{"$f":"E351+$C$13","v":2.1651801014252339},{"$f":"IF(B352>0, E352+$C$12,0)","v":3.3492801014252338}]
[4,{"$f":"IF(E352+$C$13>$B$337, 0,$A$345)","v":0},{"$f":"IF(B353=0,0,B345)","v":0},{"$f":"B353/12*C353*$B$11","v":0},{"$f":"E352+$C$13","v":3.4742801014252338},{"$f":"IF(B353>0, E353+$C$12,0)","v":0}]
[" "]
[]
["Face 3"]
[null,null,null,"Board","Saw","2nd Face","Center"]
["Board ","Width","Length","Feet","Depth","Depth","Remaining"]
[1,{"$f":"A342","v":5.9999999999999956},{"$f":"B342","v":8},{"$f":"B359/12*C359*$B$11","v":3.9999999999999969},{"$f":"D342","v":-0.45301989857476599},{"$f":"E359+$C$12","v":0.73108010142523394},{"$f":"$B$3-F350-F359-2*$B$13","v":18.28783979714953}]
[2,{"$f":"IF(E359+$C$13>$B$337, 0,$A$343)","v":8.0965990115476156},{"$f":"IF(B360=0,0,B343)","v":16},{"$f":"B360/12*C360*$B$11","v":10.795465348730154},{"$f":"E359+$C$13","v":0.85608010142523394},{"$f":"E360+$C$12","v":2.0401801014252339},{"$f":"IF(D360>0, G359-2*$C$13, 0)","v":15.66963979714953}]
[3,{"$f":"IF(E360+$C$13>$B$337, 0,$A$344)","v":14.361184767198385},{"$f":"IF(B361=0,0,B344)","v":16},{"$f":"B361/12*C361*$B$11","v":19.148246356264512},{"$f":"E360+$C$13","v":2.1651801014252339},{"$f":"E361+$C$12","v":3.3492801014252338},{"$f":"IF(C361>0, G360-2*$C$13, 0)","v":13.051439797149531}]
[4,{"$f":"IF(E361+$C$13>$B$337, 0,$A$345)","v":0},{"$f":"IF(B362=0,0,B345)","v":0},{"$f":"B362/12*C362*$B$11","v":0},{"$f":"E361+$C$13","v":3.4742801014252338},{"$f":"E362+$C$12","v":4.6583801014252337},{"$f":"IF(C362>0, G361-2*$C$13, 0)","v":0}]
[" "]
[]
["Face 2"]
[null,null,null,"Board","Saw","2nd Face"]
["Board ","Width","Length","Feet","Depth","Depth"]
[1,{"$f":"MIN(G359,A342)","v":5.9999999999999956},{"$f":"B342","v":8},{"$f":"B368/12*C368*$B$11","v":3.9999999999999969},{"$f":"D342","v":-0.45301989857476599},{"$f":"E368+$C$12","v":0.73108010142523394}]
[2,{"$f":"IF(E368+$C$13>$B$337, 0,$A$343)","v":8.0965990115476156},{"$f":"IF(B369=0,0,B343)","v":16},{"$f":"B369/12*C369*$B$11","v":10.795465348730154},{"$f":"E368+$C$13","v":0.85608010142523394},{"$f":"E369+$C$12","v":2.0401801014252339}]
[3,{"$f":"IF(E369+$C$13>$B$337, 0,$A$344)","v":14.361184767198385},{"$f":"IF(B370=0,0,B344)","v":16},{"$f":"B370/12*C370*$B$11","v":19.148246356264512},{"$f":"E369+$C$13","v":2.1651801014252339},{"$f":"E370+$C$12","v":3.3492801014252338}]
[4,{"$f":"IF(E370+$C$13>$B$337, 0,$A$345)","v":0},{"$f":"IF(B371=0,0,B345)","v":0},{"$f":"B371/12*C371*$B$11","v":0},{"$f":"E370+$C$13","v":3.4742801014252338},{"$f":"E371+$C$12","v":4.6583801014252337}]
[" "]
[]
["Face 4"]
[null,null,null,"Board","Saw","2nd Face","Center"]
["Board ","Width","Length","Feet","Depth","Depth","Remaining"]
[1,{"$f":"IF(E350> $B$337,IF(A342<G359,A342,G359),$A$342)","v":5.9999999999999956},{"$f":"B342","v":8},{"$f":"B377/12*C377*$B$11","v":3.9999999999999969},{"$f":"D342","v":-0.45301989857476599},{"$f":"E377+$C$12","v":0.73108010142523394},{"$f":"$B$3-F368-F377-2*$B$13","v":18.28783979714953}]
[2,{"$f":"IF(E377+$C$13>$B$337, 0,$A$343)","v":8.0965990115476156},{"$f":"IF(B378=0,0,B343)","v":16},{"$f":"B378/12*C378*$B$11","v":10.795465348730154},{"$f":"E377+$C$13","v":0.85608010142523394},{"$f":"E378+$C$12","v":2.0401801014252339},{"$f":"IF(C378>0, G377-2*$C$13, 0)","v":15.66963979714953}]
[3,{"$f":"IF(E378+$C$13>$B$337, 0,$A$344)","v":14.361184767198385},{"$f":"IF(B379=0,0,B344)","v":16},{"$f":"B379/12*C379*$B$11","v":19.148246356264512},{"$f":"E378+$C$13","v":2.1651801014252339},{"$f":"E379+$C$12","v":3.3492801014252338},{"$f":"IF(C379>0, G378-2*$C$13, 0)","v":13.051439797149531}]
[4,{"$f":"IF(E379+$C$13>$B$337, 0,$A$345)","v":0},{"$f":"IF(B380=0,0,B345)","v":0},{"$f":"B380/12*C380*$B$11","v":0},{"$f":"E379+$C$13","v":3.4742801014252338},{"$f":"E380+$C$12","v":4.6583801014252337},0]
[]
[]
["Saw The Maximum Fitted Square"]
[]
[null,null,null,"Board","Saw","2nd Face","Cant  ","Remaining",null,"Start","Square"]
["Pass 1","Width","Length","Feet","Depth","Depth","Width","Height","Cut ?","Depth","Width","isResaw?"]
["Face 1",{"$f":"IF($K$387-$C$13<$B$8, 0, $K$387)","v":13.051439797149531},{"$f":"$B$5","v":16},{"$f":"B387/12*C387*$B$11","v":17.401919729532707},{"$f":"J387","v":3.4742801014252338},{"$f":"E387+$C$12","v":4.6583801014252337},{"$f":"K387","v":13.051439797149531},{"$f":"IF(B387=0, K387, G387-$C$13)","v":11.74233979714953},{"$f":"IF(B387>0, 1, 0)","v":1},{"$f":"MAX(F350:F354)+$B$13","v":3.4742801014252338},{"$f":"SMALL(G359:G362,COUNTIF(G359:G362,0)+1)","v":13.051439797149531}]
["Face 2",{"$f":"IF(L388=0,IF(G387-$C$13<$B$9, 0, H387), IF(G387-$C$16<$B$9, 0, H387))","v":11.74233979714953},{"$f":"$B$5","v":16},{"$f":"IF(L388=1,B388/12*C388*$B$14,B388/12*C388*$B$11)","v":15.65645306286604},{"$f":"J387","v":3.4742801014252338},{"$f":"IF(L388=1, E388+$C$15, E388+$C$12)","v":4.6583801014252337},{"$f":"IF(B388=0, K387, IF(L388=1, K387-$C$16,K387-$C$13))","v":11.74233979714953},{"$f":"IF(B388=0, H387, B388)","v":11.74233979714953},{"$f":"IF(B388>0, 1, 0)","v":1},null,null,{"$f":"IF(AND($B$9=0,K387-$C$12<$B$8),1,0)","v":0}]
["Face 3",{"$f":"IF(H388-$C$13<$B$8, 0, G388)","v":11.74233979714953},{"$f":"$B$5","v":16},{"$f":"B389/12*C389*$B$11","v":15.65645306286604},{"$f":"J387","v":3.4742801014252338},{"$f":"E389+$C$12","v":4.6583801014252337},{"$f":"G388","v":11.74233979714953},{"$f":"IF(B389=0, H388, H388-$C$13)","v":10.433239797149529},{"$f":"IF(B389>0, 1, 0)","v":1}]
["Face 4",{"$f":"IF(L390=0,IF(G389-$C$13<$B$9, 0, H389), IF(G389-$C$16<$B$9, 0, H389))","v":10.433239797149529},{"$f":"$B$5","v":16},{"$f":"IF(L390=1,B390/12*C390*$B$14,B390/12*C390*$B$11)","v":13.910986396199371},{"$f":"J387","v":3.4742801014252338},{"$f":"IF(L390=1, E390+$C$15, E390+$C$12)","v":4.6583801014252337},{"$f":"IF(B390=0, G388, IF(L390=1, G388-$C$16,G388-$C$13))","v":10.433239797149529},{"$f":"IF(B390=0, H389, B390)","v":10.433239797149529},{"$f":"IF(B390>0, 1, 0)","v":1},null,null,{"$f":"IF(AND($B$9=0,K387-$C$12<$B$8),1,0)","v":0}]
[null,null,null,null,null,null,null,null,null,"Starting Cant"]
[null,null,null,null,null,null,null,null,null,"Width","Height"]
["Pass 2  ",null,null,null,null,null,null,null,"Cut ?",{"$f":"MIN(G387:G390)","v":10.433239797149529},{"$f":"MIN(H387:H390)","v":10.433239797149529}]
["Face 1",{"$f":"IF(K393-$C$13 < $B$8, 0, J393)","v":10.433239797149529},{"$f":"$B$5","v":16},{"$f":"B394/12*C394*$B$11","v":13.910986396199371},{"$f":"IF(I387=1,E387+$C$13, E387)","v":4.7833801014252337},{"$f":"E394+$C$12","v":5.9674801014252337},{"$f":"J393","v":10.433239797149529},{"$f":"IF(B394=0, K393, K393-$C$13)","v":9.1241397971495282},{"$f":"IF(B394>0, 1, 0)","v":1}]
["Face 2",{"$f":"IF(L395=0,IF(G394-$C$13<$B$9, 0, H394), IF(G394-$C$16<$B$9, 0, H394))","v":9.1241397971495282},{"$f":"$B$5","v":16},{"$f":"IF(L395=1,B395/12*C395*$B$14,B395/12*C395*$B$11)","v":12.165519729532704},{"$f":"IF(I388=1,IF(L395=1,E388+$C$16,E388+$C$13), E388)","v":4.7833801014252337},{"$f":"IF(L395=1, E395+$C$15, E395+$C$12)","v":5.9674801014252337},{"$f":"IF(B395=0, J393, IF(L395=1, J393-$C$16,J393-$C$13))","v":9.1241397971495282},{"$f":"IF(B395=0, H394, B395)","v":9.1241397971495282},{"$f":"IF(B395>0, 1, 0)","v":1},null,null,{"$f":"IF(AND($B$9=0,K393-$C$12<$B$8),1,0)","v":0}]
["Face 3",{"$f":"IF(H395-$C$13<$B$8, 0, G395)","v":9.1241397971495282},{"$f":"$B$5","v":16},{"$f":"B396/12*C396*$B$11","v":12.165519729532704},{"$f":"IF(I389=1,E389+$C$13, E389)","v":4.7833801014252337},{"$f":"E396+$C$12","v":5.9674801014252337},{"$f":"G395","v":9.1241397971495282},{"$f":"IF(B396=0, H395, H395-$C$13)","v":7.8150397971495282},{"$f":"IF(B396>0, 1, 0)","v":1}]
["Face 4",{"$f":"IF(L397=0,IF(G396-$C$13<$B$9, 0, H396), IF(G396-$C$16<$B$9, 0, H396))","v":7.8150397971495282},{"$f":"$B$5","v":16},{"$f":"IF(L397=1,B397/12*C397*$B$14,B397/12*C397*$B$11)","v":10.420053062866037},{"$f":"IF(I390=1,IF(L397=1,E390+$C$16,E390+$C$13), E390)","v":4.7833801014252337},{"$f":"IF(L397=1, E397+$C$15, E397+$C$12)","v":5.9674801014252337},{"$f":"IF(B397=0, G395, IF(L397=1, G395-$C$16,G395-$C$13))","v":7.8150397971495282},{"$f":"IF(B397=0, H396, B397)","v":7.8150397971495282},{"$f":"IF(B397>0, 1, 0)","v":1},null,null,{"$f":"IF(AND($B$9=0,K393-$C$12<$B$8),1,0)","v":0}]
[null,null,null,null,null,null,null,null,null,"Starting Cant"]
[null,null,null,null,null,null,null,null,null,"Width","Height"]
["Pass 3",null,null,null,null,null,null,null,"Cut ?",{"$f":"MIN(G394:G397)","v":7.8150397971495282},{"$f":"MIN(H394:H397)","v":7.8150397971495282}]
["Face 1",{"$f":"IF(K400-$C$13 < $B$8, 0, J400)","v":7.8150397971495282},{"$f":"$B$5","v":16},{"$f":"B401/12*C401*$B$11","v":10.420053062866037},{"$f":"IF(I394=1,E394+$C$13, E394)","v":6.0924801014252337},{"$f":"E401+$C$12","v":7.2765801014252336},{"$f":"J400","v":7.8150397971495282},{"$f":"IF(B401=0, K400, K400-$C$13)","v":6.5059397971495283},{"$f":"IF(B401>0, 1, 0)","v":1}]
["Face 2",{"$f":"IF(L402=0,IF(G401-$C$13<$B$9, 0, H401), IF(G401-$C$16<$B$9, 0, H401))","v":6.5059397971495283},{"$f":"$B$5","v":16},{"$f":"IF(L402=1,B402/12*C402*$B$14,B402/12*C402*$B$11)","v":8.6745863961993717},{"$f":"IF(I395=1,IF(L402=1,E395+$C$16,E395+$C$13), E395)","v":6.0924801014252337},{"$f":"IF(L402=1, E402+$C$15, E402+$C$12)","v":7.2765801014252336},{"$f":"IF(B402=0, J400, IF(L402=1, J400-$C$16,J400-$C$13))","v":6.5059397971495283},{"$f":"IF(B402=0, H401, B402)","v":6.5059397971495283},{"$f":"IF(B402>0, 1, 0)","v":1},null,null,{"$f":"IF(AND($B$9=0,K400-$C$12<$B$8),1,0)","v":0}]
["Face 3",{"$f":"IF(H402-$C$13<$B$8, 0, G402)","v":0},{"$f":"$B$5","v":16},{"$f":"B403/12*C403*$B$11","v":0},{"$f":"IF(I396=1,E396+$C$13, E396)","v":6.0924801014252337},{"$f":"E403+$C$12","v":7.2765801014252336},{"$f":"G402","v":6.5059397971495283},{"$f":"IF(B403=0, H402, H402-$C$13)","v":6.5059397971495283},{"$f":"IF(B403>0, 1, 0)","v":0}]
["Face 4",{"$f":"IF(L404=0,IF(G403-$C$13<$B$9, 0, H403), IF(G403-$C$16<$B$9, 0, H403))","v":6.5059397971495283},{"$f":"$B$5","v":16},{"$f":"IF(L404=1,B404/12*C404*$B$14,B404/12*C404*$B$11)","v":8.6745863961993717},{"$f":"IF(I397=1,IF(L404=1,E397+$C$16,E397+$C$13), E397)","v":6.0924801014252337},{"$f":"IF(L404=1, E404+$C$15, E404+$C$12)","v":7.2765801014252336},{"$f":"IF(B404=0, G402, IF(L404=1, G402-$C$16,G402-$C$13))","v":5.1968397971495284},{"$f":"IF(B404=0, H403, B404)","v":6.5059397971495283},{"$f":"IF(B404>0, 1, 0)","v":1},null,null,{"$f":"IF(AND($B$9=0,K400-$C$12<$B$8),1,0)","v":0}]
[null,null,null,null,null,null,null,null,null,"Starting Cant"]
[null,null,null,null,null,null,null,null,null,"Width","Height"]
["Pass 4",null,null,null,null,null,null,null,"Cut ?",{"$f":"MIN(G401:G404)","v":5.1968397971495284},{"$f":"MIN(H401:H404)","v":6.5059397971495283}]
["Face 1",{"$f":"IF(K407-$C$13 < $B$8, 0, J407)","v":0},{"$f":"$B$5","v":16},{"$f":"B408/12*C408*$B$11","v":0},{"$f":"IF(I401=1,E401+$C$13, E401)","v":7.4015801014252336},{"$f":"E408+$C$12","v":8.5856801014252326},{"$f":"J407","v":5.1968397971495284},{"$f":"IF(B408=0, K407, K407-$C$13)","v":6.5059397971495283},{"$f":"IF(B408>0, 1, 0)","v":0}]
["Face 2",{"$f":"IF(L409=0,IF(G408-$C$13<$B$9, 0, H408), IF(G408-$C$16<$B$9, 0, H408))","v":6.5059397971495283},{"$f":"$B$5","v":16},{"$f":"IF(L409=1,B409/12*C409*$B$14,B409/12*C409*$B$11)","v":8.6745863961993717},{"$f":"IF(I402=1,IF(L409=1,E402+$C$16,E402+$C$13), E402)","v":7.4015801014252336},{"$f":"IF(L409=1, E409+$C$15, E409+$C$12)","v":8.5856801014252326},{"$f":"IF(B409=0, J407, IF(L409=1, J407-$C$16,J407-$C$13))","v":3.8877397971495284},{"$f":"IF(B409=0, H408, B409)","v":6.5059397971495283},{"$f":"IF(B409>0, 1, 0)","v":1},null,null,{"$f":"IF(AND($B$9=0,K407-$C$12<$B$8),1,0)","v":1}]
["Face 3",{"$f":"IF(H409-$C$13<$B$8, 0, G409)","v":0},{"$f":"$B$5","v":16},{"$f":"B410/12*C410*$B$11","v":0},{"$f":"IF(I403=1,E403+$C$13, E403)","v":6.0924801014252337},{"$f":"E410+$C$12","v":7.2765801014252336},{"$f":"G409","v":3.8877397971495284},{"$f":"IF(B410=0, H409, H409-$C$13)","v":6.5059397971495283},{"$f":"IF(B410>0, 1, 0)","v":0}]
["Face 4",{"$f":"IF(L411=0,IF(G410-$C$13<$B$9, 0, H410), IF(G410-$C$16<$B$9, 0, H410))","v":6.5059397971495283},{"$f":"$B$5","v":16},{"$f":"IF(L411=1,B411/12*C411*$B$14,B411/12*C411*$B$11)","v":8.6745863961993717},{"$f":"IF(I404=1,IF(L411=1,E404+$C$16,E404+$C$13), E404)","v":7.4015801014252336},{"$f":"IF(L411=1, E411+$C$15, E411+$C$12)","v":8.5856801014252326},{"$f":"IF(B411=0, G409, IF(L411=1, G409-$C$16,G409-$C$13))","v":2.5786397971495285},{"$f":"IF(B411=0, H410, B411)","v":6.5059397971495283},{"$f":"IF(B411>0, 1, 0)","v":1},null,null,{"$f":"IF(AND($B$9=0,K407-$C$12<$B$8),1,0)","v":1}]
[null,null,null,null,null,null,null,null,null,"Starting Cant"]
[null,null,null,null,null,null,null,null,null,"Width","Height"]
["Pass 5",null,null,null,null,null,null,null,"Cut ?",{"$f":"MIN(G408:G411)","v":2.5786397971495285},{"$f":"MIN(H408:H411)","v":6.5059397971495283}]
["Face 1",{"$f":"IF(K414-$C$13 < $B$8, 0, J414)","v":0},{"$f":"$B$5","v":16},{"$f":"B415/12*C415*$B$11","v":0},{"$f":"IF(I408=1,E408+$C$13, E408)","v":7.4015801014252336},{"$f":"E415+$C$12","v":8.5856801014252326},{"$f":"J414","v":2.5786397971495285},{"$f":"IF(B415=0, K414, K414-$C$13)","v":6.5059397971495283},{"$f":"IF(B415>0, 1, 0)","v":0}]
["Face 2",{"$f":"IF(L416=0,IF(G415-$C$13<$B$9, 0, H415), IF(G415-$C$16<$B$9, 0, H415))","v":6.5059397971495283},{"$f":"$B$5","v":16},{"$f":"IF(L416=1,B416/12*C416*$B$14,B416/12*C416*$B$11)","v":8.6745863961993717},{"$f":"IF(I409=1,IF(L416=1,E409+$C$16,E409+$C$13), E409)","v":8.7106801014252326},{"$f":"IF(L416=1, E416+$C$15, E416+$C$12)","v":9.8947801014252335},{"$f":"IF(B416=0, J414, IF(L416=1, J414-$C$16,J414-$C$13))","v":1.2695397971495286},{"$f":"IF(B416=0, H415, B416)","v":6.5059397971495283},{"$f":"IF(B416>0, 1, 0)","v":1},null,null,{"$f":"IF(AND($B$9=0,K414-$C$12<$B$8),1,0)","v":1}]
["Face 3",{"$f":"IF(H416-$C$13<$B$8, 0, G416)","v":0},{"$f":"$B$5","v":16},{"$f":"B417/12*C417*$B$11","v":0},{"$f":"IF(I410=1,E410+$C$13, E410)","v":6.0924801014252337},{"$f":"E417+$C$12","v":7.2765801014252336},{"$f":"G416","v":1.2695397971495286},{"$f":"IF(B417=0, H416, H416-$C$13)","v":6.5059397971495283},{"$f":"IF(B417>0, 1, 0)","v":0}]
["Face 4",{"$f":"IF(L418=0,IF(G417-$C$13<$B$9, 0, H417), IF(G417-$C$16<$B$9, 0, H417))","v":0},{"$f":"$B$5","v":16},{"$f":"IF(L418=1,B418/12*C418*$B$14,B418/12*C418*$B$11)","v":0},{"$f":"IF(I411=1,IF(L418=1,E411+$C$16,E411+$C$13), E411)","v":8.7106801014252326},{"$f":"IF(L418=1, E418+$C$15, E418+$C$12)","v":9.8947801014252335},{"$f":"IF(B418=0, G416, IF(L418=1, G416-$C$16,G416-$C$13))","v":1.2695397971495286},{"$f":"IF(B418=0, H417, B418)","v":6.5059397971495283},{"$f":"IF(B418>0, 1, 0)","v":0},null,null,{"$f":"IF(AND($B$9=0,K414-$C$12<$B$8),1,0)","v":1}]
[null,null,null,null,null,null,null,null,null,"Starting Cant"]
[null,null,null,null,null,null,null,null,null,"Width","Height"]
["Pass 6",null,null,null,null,null,null,null,"Cut ?",{"$f":"MIN(G415:G418)","v":1.2695397971495286},{"$f":"MIN(H415:H418)","v":6.5059397971495283}]
["Face 1",{"$f":"IF(K421-$C$13 < $B$8, 0, J421)","v":0},{"$f":"$B$5","v":16},{"$f":"B422/12*C422*$B$11","v":0},{"$f":"IF(I415=1,E415+$C$13, E415)","v":7.4015801014252336},{"$f":"E422+$C$12","v":8.5856801014252326},{"$f":"J421","v":1.2695397971495286},{"$f":"IF(B422=0, K421, K421-$C$13)","v":6.5059397971495283},{"$f":"IF(B422>0, 1, 0)","v":0}]
["Face 2",{"$f":"IF(L423=0,IF(G422-$C$13<$B$9, 0, H422), IF(G422-$C$16<$B$9, 0, H422))","v":0},{"$f":"$B$5","v":16},{"$f":"IF(L423=1,B423/12*C423*$B$14,B423/12*C423*$B$11)","v":0},{"$f":"IF(I416=1,IF(L423=1,E416+$C$16,E416+$C$13), E416)","v":10.019780101425233},{"$f":"IF(L423=1, E423+$C$15, E423+$C$12)","v":11.203880101425234},{"$f":"IF(B423=0, J421, IF(L423=1, J421-$C$16,J421-$C$13))","v":1.2695397971495286},{"$f":"IF(B423=0, H422, B423)","v":6.5059397971495283},{"$f":"IF(B423>0, 1, 0)","v":0},null,null,{"$f":"IF(AND($B$9=0,K421-$C$12<$B$8),1,0)","v":1}]
["Face 3",{"$f":"IF(H423-$C$13<$B$8, 0, G423)","v":0},{"$f":"$B$5","v":16},{"$f":"B424/12*C424*$B$11","v":0},{"$f":"IF(I417=1,E417+$C$13, E417)","v":6.0924801014252337},{"$f":"E424+$C$12","v":7.2765801014252336},{"$f":"G423","v":1.2695397971495286},{"$f":"IF(B424=0, H423, H423-$C$13)","v":6.5059397971495283},{"$f":"IF(B424>0, 1, 0)","v":0}]
["Face 4",{"$f":"IF(L425=0,IF(G424-$C$13<$B$9, 0, H424), IF(G424-$C$16<$B$9, 0, H424))","v":0},{"$f":"$B$5","v":16},{"$f":"IF(L425=1,B425/12*C425*$B$14,B425/12*C425*$B$11)","v":0},{"$f":"IF(I418=1,IF(L425=1,E418+$C$16,E418+$C$13), E418)","v":8.7106801014252326},{"$f":"IF(L425=1, E425+$C$15, E425+$C$12)","v":9.8947801014252335},{"$f":"IF(B425=0, G423, IF(L425=1, G423-$C$16,G423-$C$13))","v":1.2695397971495286},{"$f":"IF(B425=0, H424, B425)","v":6.5059397971495283},{"$f":"IF(B425>0, 1, 0)","v":0},null,null,{"$f":"IF(AND($B$9=0,K421-$C$12<$B$8),1,0)","v":1}]
[null,null,null,null,null,null,null,null,null,"Starting Cant"]
[null,null,null,null,null,null,null,null,null,"Width","Height"]
["Pass 7",null,null,null,null,null,null,null,"Cut ?",{"$f":"MIN(G422:G425)","v":1.2695397971495286},{"$f":"MIN(H422:H425)","v":6.5059397971495283}]
["Face 1",{"$f":"IF(K428-$C$13 < $B$8, 0, J428)","v":0},{"$f":"$B$5","v":16},{"$f":"B429/12*C429*$B$11","v":0},{"$f":"IF(I422=1,E422+$C$13, E422)","v":7.4015801014252336},{"$f":"E429+$C$12","v":8.5856801014252326},{"$f":"J428","v":1.2695397971495286},{"$f":"IF(B429=0, K428, K428-$C$13)","v":6.5059397971495283},{"$f":"IF(B429>0, 1, 0)","v":0}]
["Face 2",{"$f":"IF(L430=0,IF(G429-$C$13<$B$9, 0, H429), IF(G429-$C$16<$B$9, 0, H429))","v":0},{"$f":"$B$5","v":16},{"$f":"IF(L430=1,B430/12*C430*$B$14,B430/12*C430*$B$11)","v":0},{"$f":"IF(I423=1,IF(L430=1,E423+$C$16,E423+$C$13), E423)","v":10.019780101425233},{"$f":"IF(L430=1, E430+$C$15, E430+$C$12)","v":11.203880101425234},{"$f":"IF(B430=0, J428, IF(L430=1, J428-$C$16,J428-$C$13))","v":1.2695397971495286},{"$f":"IF(B430=0, H429, B430)","v":6.5059397971495283},{"$f":"IF(B430>0, 1, 0)","v":0},null,null,{"$f":"IF(AND($B$9=0,K428-$C$12<$B$8),1,0)","v":1}]
["Face 3",{"$f":"IF(H430-$C$13<$B$8, 0, G430)","v":0},{"$f":"$B$5","v":16},{"$f":"B431/12*C431*$B$11","v":0},{"$f":"IF(I424=1,E424+$C$13, E424)","v":6.0924801014252337},{"$f":"E431+$C$12","v":7.2765801014252336},{"$f":"G430","v":1.2695397971495286},{"$f":"IF(B431=0, H430, H430-$C$13)","v":6.5059397971495283},{"$f":"IF(B431>0, 1, 0)","v":0}]
["Face 4",{"$f":"IF(L432=0,IF(G431-$C$13<$B$9, 0, H431), IF(G431-$C$16<$B$9, 0, H431))","v":0},{"$f":"$B$5","v":16},{"$f":"IF(L432=1,B432/12*C432*$B$14,B432/12*C432*$B$11)","v":0},{"$f":"IF(I425=1,IF(L432=1,E425+$C$16,E425+$C$13), E425)","v":8.7106801014252326},{"$f":"IF(L432=1, E432+$C$15, E432+$C$12)","v":9.8947801014252335},{"$f":"IF(B432=0, G431, IF(L432=1, G431-$C$16,G431-$C$13))","v":1.2695397971495286},{"$f":"IF(B432=0, H431, B432)","v":6.5059397971495283},{"$f":"IF(B432>0, 1, 0)","v":0},null,null,{"$f":"IF(AND($B$9=0,K428-$C$12<$B$8),1,0)","v":1}]
[null,null,null,null,null,null,null,null,null,"Starting Cant"]
[null,null,null,null,null,null,null,null,null,"Width","Height"]
["Pass 8",null,null,null,null,null,null,null,"Cut ?",{"$f":"MIN(G429:G432)","v":1.2695397971495286},{"$f":"MIN(H429:H432)","v":6.5059397971495283}]
["Face 1",{"$f":"IF(K435-$C$13 < $B$8, 0, J435)","v":0},{"$f":"$B$5","v":16},{"$f":"B436/12*C436*$B$11","v":0},{"$f":"IF(I429=1,E429+$C$13, E429)","v":7.4015801014252336},{"$f":"E436+$C$12","v":8.5856801014252326},{"$f":"J435","v":1.2695397971495286},{"$f":"IF(B436=0, K435, K435-$C$13)","v":6.5059397971495283},{"$f":"IF(B436>0, 1, 0)","v":0}]
["Face 2",{"$f":"IF(L437=0,IF(G436-$C$13<$B$9, 0, H436), IF(G436-$C$16<$B$9, 0, H436))","v":0},{"$f":"$B$5","v":16},{"$f":"IF(L437=1,B437/12*C437*$B$14,B437/12*C437*$B$11)","v":0},{"$f":"IF(I430=1,IF(L437=1,E430+$C$16,E430+$C$13), E430)","v":10.019780101425233},{"$f":"IF(L437=1, E437+$C$15, E437+$C$12)","v":11.203880101425234},{"$f":"IF(B437=0, J435, IF(L437=1, J435-$C$16,J435-$C$13))","v":1.2695397971495286},{"$f":"IF(B437=0, H436, B437)","v":6.5059397971495283},{"$f":"IF(B437>0, 1, 0)","v":0},null,null,{"$f":"IF(AND($B$9=0,K435-$C$12<$B$8),1,0)","v":1}]
["Face 3",{"$f":"IF(H437-$C$13<$B$8, 0, G437)","v":0},{"$f":"$B$5","v":16},{"$f":"B438/12*C438*$B$11","v":0},{"$f":"IF(I431=1,E431+$C$13, E431)","v":6.0924801014252337},{"$f":"E438+$C$12","v":7.2765801014252336},{"$f":"G437","v":1.2695397971495286},{"$f":"IF(B438=0, H437, H437-$C$13)","v":6.5059397971495283},{"$f":"IF(B438>0, 1, 0)","v":0}]
["Face 4",{"$f":"IF(L439=0,IF(G438-$C$13<$B$9, 0, H438), IF(G438-$C$16<$B$9, 0, H438))","v":0},{"$f":"$B$5","v":16},{"$f":"IF(L439=1,B439/12*C439*$B$14,B439/12*C439*$B$11)","v":0},{"$f":"IF(I432=1,IF(L439=1,E432+$C$16,E432+$C$13), E432)","v":8.7106801014252326},{"$f":"IF(L439=1, E439+$C$15, E439+$C$12)","v":9.8947801014252335},{"$f":"IF(B439=0, G438, IF(L439=1, G438-$C$16,G438-$C$13))","v":1.2695397971495286},{"$f":"IF(B439=0, H438, B439)","v":6.5059397971495283},{"$f":"IF(B439>0, 1, 0)","v":0},null,null,{"$f":"IF(AND($B$9=0,K435-$C$12<$B$8),1,0)","v":1}]
[null,null,null,null,null,null,null,null,null,"Starting Cant"]
[null,null,null,null,null,null,null,null,null,"Width","Height"]
["Pass 9",null,null,null,null,null,null,null,"Cut ?",{"$f":"MIN(G436:G439)","v":1.2695397971495286},{"$f":"MIN(H436:H439)","v":6.5059397971495283}]
["Face 1",{"$f":"IF(K442-$C$13 < $B$8, 0, J442)","v":0},{"$f":"$B$5","v":16},{"$f":"B443/12*C443*$B$11","v":0},{"$f":"IF(I436=1,E436+$C$13, E436)","v":7.4015801014252336},{"$f":"E443+$C$12","v":8.5856801014252326},{"$f":"J442","v":1.2695397971495286},{"$f":"IF(B443=0, K442, K442-$C$13)","v":6.5059397971495283},{"$f":"IF(B443>0, 1, 0)","v":0}]
["Face 2",{"$f":"IF(L444=0,IF(G443-$C$13<$B$9, 0, H443), IF(G443-$C$16<$B$9, 0, H443))","v":0},{"$f":"$B$5","v":16},{"$f":"IF(L444=1,B444/12*C444*$B$14,B444/12*C444*$B$11)","v":0},{"$f":"IF(I437=1,IF(L444=1,E437+$C$16,E437+$C$13), E437)","v":10.019780101425233},{"$f":"IF(L444=1, E444+$C$15, E444+$C$12)","v":11.203880101425234},{"$f":"IF(B444=0, J442, IF(L444=1, J442-$C$16,J442-$C$13))","v":1.2695397971495286},{"$f":"IF(B444=0, H443, B444)","v":6.5059397971495283},{"$f":"IF(B444>0, 1, 0)","v":0},null,null,{"$f":"IF(AND($B$9=0,K442-$C$12<$B$8),1,0)","v":1}]
["Face 3",{"$f":"IF(H444-$C$13<$B$8, 0, G444)","v":0},{"$f":"$B$5","v":16},{"$f":"B445/12*C445*$B$11","v":0},{"$f":"IF(I438=1,E438+$C$13, E438)","v":6.0924801014252337},{"$f":"E445+$C$12","v":7.2765801014252336},{"$f":"G444","v":1.2695397971495286},{"$f":"IF(B445=0, H444, H444-$C$13)","v":6.5059397971495283},{"$f":"IF(B445>0, 1, 0)","v":0}]
["Face 4",{"$f":"IF(L446=0,IF(G445-$C$13<$B$9, 0, H445), IF(G445-$C$16<$B$9, 0, H445))","v":0},{"$f":"$B$5","v":16},{"$f":"IF(L446=1,B446/12*C446*$B$14,B446/12*C446*$B$11)","v":0},{"$f":"IF(I439=1,IF(L446=1,E439+$C$16,E439+$C$13), E439)","v":8.7106801014252326},{"$f":"IF(L446=1, E446+$C$15, E446+$C$12)","v":9.8947801014252335},{"$f":"IF(B446=0, G445, IF(L446=1, G445-$C$16,G445-$C$13))","v":1.2695397971495286},{"$f":"IF(B446=0, H445, B446)","v":6.5059397971495283},{"$f":"IF(B446>0, 1, 0)","v":0},null,null,{"$f":"IF(AND($B$9=0,K442-$C$12<$B$8),1,0)","v":1}]
[]
["Grade Saw Results Summary"]
["Board Count",{"$f":"COUNTIF(B387:B446,\">\"&0)+COUNTIF(B350:B380,\">\"&0)","v":26}]
["Board Feet",{"$f":"SUM(D387:D446)+SUM(D350:D380)","v":300.8557230334365},null,null,null,null,null,"= changed for cant resaw ops"]
["Cant Width",{"$f":"IF(J442<$B$9,0,$B$9)","v":0}]
["Cant Height",{"$f":"IF(K442<$B$8, 0, $B$8)","v":6}]
["Cant Volume",{"$f":"$B$5*B452/12 *B451","v":0}]
["Total Volume",{"$f":"B453+B450","v":300.8557230334365}]
[]
["Experimental Grade Sawing Method (Full Taper)"]
["Largest Square Fit",{"$f":"$C$3*1.414213","v":14.14213}]
["Cut Depth of Largest Square",{"$f":"$C$3-SQRT(POWER($C$3,2)-POWER($B$336/2,2))","v":2.928929376270168}]
[]
["Opening Face Size/Depth Calculations"]
["Width","Length","Board","1st Face","2nd Face"]
["(inches)","(feet)","Feet","Depth","Depth"]
[{"$f":"2*SQRT(POWER($C$3,2)-POWER($C$3-D463,2))","v":6},{"$f":"$B$5","v":16},{"$f":"A463/12*B463*$B$11","v":8},{"$f":"$C$3-SQRT(POWER($C$3,2)-POWER($C$6,2))","v":0.46060798583054385},{"$f":"D463+$C$12","v":1.6447079858305438}]
[{"$f":"2*SQRT(POWER($C$3,2)-POWER($C$3-D464,2))","v":11.359981225600412},{"$f":"$B$5","v":16},{"$f":"A464/12*B464*$B$11","v":15.146641634133884},{"$f":"D463+$C$13","v":1.7697079858305438},{"$f":"D464+$C$12","v":2.9538079858305437}]
[14.435664321810332,16,{"$f":"A465/12*B465*$B$11","v":19.247552429080443},{"$f":"D464+$C$13","v":3.0788079858305437},{"$f":"D465+$C$12","v":4.2629079858305436}]
[16.553479782147971,16,{"$f":"A466/12*B466*$B$11","v":22.071306376197295},4.3879079858305436,{"$f":"D466+$C$12","v":5.5720079858305436}]
[]
["Face 1"]
[null,null,null,"Board","Saw","2nd Face"]
["Board ","Width","Length","Feet","Depth","Depth"]
[1,{"$f":"A463","v":6},{"$f":"B463","v":16},{"$f":"B471/12*C471*$B$11","v":8},{"$f":"D463","v":0.46060798583054385},{"$f":"E471+$C$12","v":1.6447079858305438}]
[2,{"$f":"IF(E471+$C$13>$B$458, 0,$A$464)","v":11.359981225600412},{"$f":"IF(B472=0,0,B464)","v":16},{"$f":"B472/12*C472*$B$11","v":15.146641634133884},{"$f":"E471+$C$13","v":1.7697079858305438},{"$f":"IF(B472>0, E472+$C$12,0)","v":2.9538079858305437}]
[3,{"$f":"IF(E472+$C$13>$B$458, 0,$A$465)","v":0},{"$f":"IF(B473=0,0,B465)","v":0},{"$f":"B473/12*C473*$B$11","v":0},{"$f":"E472+$C$13","v":3.0788079858305437},{"$f":"IF(B473>0, E473+$C$12,0)","v":0}]
[4,{"$f":"IF(E473+$C$13>$B$458, 0,$A$466)","v":0},{"$f":"IF(B474=0,0,B466)","v":0},{"$f":"B474/12*C474*$B$11","v":0},{"$f":"E473+$C$13","v":4.3879079858305436},{"$f":"IF(B474>0, E474+$C$12,0)","v":0}]
[" "]
[]
["Face 3"]
[null,null,null,"Board","Saw","2nd Face","Center"]
["Board ","Width","Length","Feet","Depth","Depth","Remaining"]
[1,{"$f":"A463","v":6},{"$f":"B463","v":16},{"$f":"B480/12*C480*$B$11","v":8},{"$f":"D463","v":0.46060798583054385},{"$f":"E480+$C$12","v":1.6447079858305438},{"$f":"$B$3-F471-F480-2*$B$13","v":16.460584028338914}]
[2,{"$f":"IF(E480+$C$13>$B$458, 0,$A$464)","v":11.359981225600412},{"$f":"IF(B481=0,0,B464)","v":16},{"$f":"B481/12*C481*$B$11","v":15.146641634133884},{"$f":"E480+$C$13","v":1.7697079858305438},{"$f":"E481+$C$12","v":2.9538079858305437},{"$f":"IF(D481>0, G480-2*$C$13, 0)","v":13.842384028338914}]
[3,{"$f":"IF(E481+$C$13>$B$458, 0,$A$465)","v":0},{"$f":"IF(B482=0,0,B465)","v":0},{"$f":"B482/12*C482*$B$11","v":0},{"$f":"E481+$C$13","v":3.0788079858305437},{"$f":"E482+$C$12","v":4.2629079858305436},{"$f":"IF(C482>0, G481-2*$C$13, 0)","v":0}]
[4,{"$f":"IF(E482+$C$13>$B$458, 0,$A$466)","v":0},{"$f":"IF(B483=0,0,B466)","v":0},{"$f":"B483/12*C483*$B$11","v":0},{"$f":"E482+$C$13","v":4.3879079858305436},{"$f":"E483+$C$12","v":5.5720079858305436},{"$f":"IF(C483>0, G482-2*$C$13, 0)","v":0}]
[" "]
[]
["Face 2"]
[null,null,null,"Board","Saw","2nd Face"]
["Board ","Width","Length","Feet","Depth","Depth"]
[1,{"$f":"MIN(G480,A463)","v":6},{"$f":"B463","v":16},{"$f":"B489/12*C489*$B$11","v":8},{"$f":"D463","v":0.46060798583054385},{"$f":"E489+$C$12","v":1.6447079858305438}]
[2,{"$f":"IF(E489+$C$13>$B$458, 0,$A$464)","v":11.359981225600412},{"$f":"IF(B490=0,0,B464)","v":16},{"$f":"B490/12*C490*$B$11","v":15.146641634133884},{"$f":"E489+$C$13","v":1.7697079858305438},{"$f":"E490+$C$12","v":2.9538079858305437}]
[3,{"$f":"IF(E490+$C$13>$B$458, 0,$A$465)","v":0},{"$f":"IF(B491=0,0,B465)","v":0},{"$f":"B491/12*C491*$B$11","v":0},{"$f":"E490+$C$13","v":3.0788079858305437},{"$f":"E491+$C$12","v":4.2629079858305436}]
[4,{"$f":"IF(E491+$C$13>$B$458, 0,$A$466)","v":0},{"$f":"IF(B492=0,0,B466)","v":0},{"$f":"B492/12*C492*$B$11","v":0},{"$f":"E491+$C$13","v":4.3879079858305436},{"$f":"E492+$C$12","v":5.5720079858305436}]
[" "]
[]
["Face 4"]
[null,null,null,"Board","Saw","2nd Face","Center"]
["Board ","Width","Length","Feet","Depth","Depth","Remaining"]
[1,{"$f":"MIN(G480,A463)","v":6},{"$f":"B463","v":16},{"$f":"B498/12*C498*$B$11","v":8},{"$f":"D463","v":0.46060798583054385},{"$f":"E498+$C$12","v":1.6447079858305438},{"$f":"$B$3-F489-F498-2*$B$13","v":16.460584028338914}]
[2,{"$f":"IF(E498+$C$13>$B$458, 0,$A$464)","v":11.359981225600412},{"$f":"IF(B499=0,0,B464)","v":16},{"$f":"B499/12*C499*$B$11","v":15.146641634133884},{"$f":"E498+$C$13","v":1.7697079858305438},{"$f":"E499+$C$12","v":2.9538079858305437},{"$f":"IF(D499>0,G498-2*$C$13,0)","v":13.842384028338914}]
[3,{"$f":"IF(E499+$C$13>$B$458, 0,$A$465)","v":0},{"$f":"IF(B500=0,0,B465)","v":0},{"$f":"B500/12*C500*$B$11","v":0},{"$f":"E499+$C$13","v":3.0788079858305437},{"$f":"E500+$C$12","v":4.2629079858305436},{"$f":"IF(D500>0,G499-2*$C$13,0)","v":0}]
[4,{"$f":"IF(E500+$C$13>$B$458, 0,$A$466)","v":0},{"$f":"IF(B501=0,0,B466)","v":0},{"$f":"B501/12*C501*$B$11","v":0},{"$f":"E500+$C$13","v":4.3879079858305436},{"$f":"E501+$C$12","v":5.5720079858305436},0]
[]
[]
["Saw The Maximum Fitted Square"]
[]
[null,null,null,"Board","Saw","2nd Face","Cant  ","Remaining",null,"Start","Square"]
["Pass 1","Width","Length","Feet","Depth","Depth","Width","Height","Cut ?","Depth","Width","isResaw?"]
["Face 1",{"$f":"IF($K$387-$C$13<$B$8, 0, $K$387)","v":13.051439797149531},{"$f":"$B$5","v":16},{"$f":"B508/12*C508*$B$11","v":17.401919729532707},{"$f":"J508","v":3.0788079858305437},{"$f":"E508+$C$12","v":4.2629079858305436},{"$f":"K508","v":13.842384028338914},{"$f":"IF(B508=0, K508, G508-$C$13)","v":12.533284028338915},{"$f":"IF(B508>0, 1, 0)","v":1},{"$f":"MAX(F471:F474)+$B$13","v":3.0788079858305437},{"$f":"SMALL(G480:G483,COUNTIF(G480:G483,0)+1)","v":13.842384028338914}]
["Face 2",{"$f":"IF(L509=0,IF(G508-$C$13<$B$9, 0, H508), IF(G508-$C$16<$B$9, 0, H508))","v":12.533284028338915},{"$f":"$B$5","v":16},{"$f":"IF(L509=1,B509/12*C509*$B$14,B509/12*C509*$B$11)","v":16.711045371118555},{"$f":"J508","v":3.0788079858305437},{"$f":"IF(L509=1,E509+$C$15,E509+$C$12)","v":4.2629079858305436},{"$f":"IF(B509=0, K508, IF(L509=1, K508-$C$16, K508-$C$13))","v":12.533284028338915},{"$f":"IF(B509=0, H508, B509)","v":12.533284028338915},{"$f":"IF(B509>0, 1, 0)","v":1},null,null,{"$f":"IF(AND($B$9=0,K508-$C$13<$B$8),1,0)","v":0}]
["Face 3",{"$f":"IF(H509-$C$13<$B$8, 0, G509)","v":12.533284028338915},{"$f":"$B$5","v":16},{"$f":"B510/12*C510*$B$11","v":16.711045371118555},{"$f":"J508","v":3.0788079858305437},{"$f":"F509","v":4.2629079858305436},{"$f":"G509","v":12.533284028338915},{"$f":"IF(B510=0, H509, H509-$C$13)","v":11.224184028338914},{"$f":"IF(B510>0, 1, 0)","v":1}]
["Face 4",{"$f":"IF(L511=0,IF(G510-$C$13<$B$9, 0, H510), IF(G510-$C$16<$B$9, 0, H510))","v":11.224184028338914},{"$f":"$B$5","v":16},{"$f":"IF(L511=1,B511/12*C511*$B$14,B511/12*C511*$B$11)","v":14.965578704451886},{"$f":"J508","v":3.0788079858305437},{"$f":"IF(L511=1,E511+$C$15,E511+$C$12)","v":4.2629079858305436},{"$f":"IF(B511=0, G509, IF(L511=1, G509-$C$16, G509-$C$13))","v":11.224184028338914},{"$f":"IF(B511=0, H510, B511)","v":11.224184028338914},{"$f":"IF(B511>0, 1, 0)","v":1},null,null,{"$f":"IF(AND($B$9=0,K508-$C$13<$B$8),1,0)","v":0}]
[null,null,null,null,null,null,null,null,null,"Starting Cant"]
[null,null,null,null,null,null,null,null,null,"Width","Height"]
["Pass 2  ",null,null,null,null,null,null,null,"Cut ?",{"$f":"MIN(G508:G511)","v":11.224184028338914},{"$f":"MIN(H508:H511)","v":11.224184028338914}]
["Face 1",{"$f":"IF(K514-$C$13 < $B$8, 0, J514)","v":11.224184028338914},{"$f":"$B$5","v":16},{"$f":"B515/12*C515*$B$11","v":14.965578704451886},{"$f":"IF(I508=1,E508+$C$13, E508)","v":4.3879079858305436},{"$f":"E515+$C$12","v":5.5720079858305436},{"$f":"J514","v":11.224184028338914},{"$f":"IF(B515=0, K514, K514-$C$13)","v":9.9150840283389137},{"$f":"IF(B515>0, 1, 0)","v":1}]
["Face 2",{"$f":"IF(L516=0,IF(G515-$C$13<$B$9, 0, H515), IF(G515-$C$16<$B$9, 0, H515))","v":9.9150840283389137},{"$f":"$B$5","v":16},{"$f":"IF(L516=1,B516/12*C516*$B$14,B516/12*C516*$B$11)","v":13.220112037785219},{"$f":"IF(I509=1,IF(L516=1,E509+$C$16,E509+$C$13), E509)","v":4.3879079858305436},{"$f":"IF(L516=1, E516+$C$15, E516+$C$12)","v":5.5720079858305436},{"$f":"IF(B516=0, J514, IF(L516=1, J514-C$16, J514-$C$13))","v":9.9150840283389137},{"$f":"IF(B516=0, H515, B516)","v":9.9150840283389137},{"$f":"IF(B516>0, 1, 0)","v":1},null,null,{"$f":"IF(AND($B$9=0,K514-$C$13<$B$8),1,0)","v":0}]
["Face 3",{"$f":"IF(H516-$C$13<$B$8, 0, G516)","v":9.9150840283389137},{"$f":"$B$5","v":16},{"$f":"B517/12*C517*$B$11","v":13.220112037785219},{"$f":"IF(I510=1,E510+$C$13, E510)","v":4.3879079858305436},{"$f":"E517+$C$12","v":5.5720079858305436},{"$f":"G516","v":9.9150840283389137},{"$f":"IF(B517=0, H516, H516-$C$13)","v":8.6059840283389129},{"$f":"IF(B517>0, 1, 0)","v":1}]
["Face 4",{"$f":"IF(L518=0,IF(G517-$C$13<$B$9, 0, H517), IF(G517-$C$16<$B$9, 0, H517))","v":8.6059840283389129},{"$f":"$B$5","v":16},{"$f":"IF(L518=1,B518/12*C518*$B$14,B518/12*C518*$B$11)","v":11.47464537111855},{"$f":"IF(I511=1,IF(L518=1,E511+$C$16,E511+$C$13), E511)","v":4.3879079858305436},{"$f":"IF(L518=1, E518+$C$15, E518+$C$12)","v":5.5720079858305436},{"$f":"IF(B518=0, G516, IF(L518=1, G516-$C$16, G516-$C$13))","v":8.6059840283389129},{"$f":"IF(B518=0, H517, B518)","v":8.6059840283389129},{"$f":"IF(B518>0, 1, 0)","v":1},null,null,{"$f":"IF(AND($B$9=0,K514-$C$13<$B$8),1,0)","v":0}]
[null,null,null,null,null,null,null,null,null,"Starting Cant"]
[null,null,null,null,null,null,null,null,null,"Width","Height"]
["Pass 3",null,null,null,null,null,null,null,"Cut ?",{"$f":"MIN(G515:G518)","v":8.6059840283389129},{"$f":"MIN(H515:H518)","v":8.6059840283389129}]
["Face 1",{"$f":"IF(K521-$C$13 < $B$8, 0, J521)","v":8.6059840283389129},{"$f":"$B$5","v":16},{"$f":"B522/12*C522*$B$11","v":11.47464537111855},{"$f":"IF(I515=1,E515+$C$13, E515)","v":5.6970079858305436},{"$f":"E522+$C$12","v":6.8811079858305435},{"$f":"J521","v":8.6059840283389129},{"$f":"IF(B522=0, K521, K521-$C$13)","v":7.2968840283389129},{"$f":"IF(B522>0, 1, 0)","v":1}]
["Face 2",{"$f":"IF(L523=0,IF(G522-$C$13<$B$9, 0, H522), IF(G522-$C$16<$B$9, 0, H522))","v":7.2968840283389129},{"$f":"$B$5","v":16},{"$f":"IF(L523=1,B523/12*C523*$B$14,B523/12*C523*$B$11)","v":9.7291787044518845},{"$f":"IF(I516=1,IF(L523=1,E516+$C$16,E516+$C$13), E516)","v":5.6970079858305436},{"$f":"IF(L523=1, E523+$C$15, E523+$C$12)","v":6.8811079858305435},{"$f":"IF(B523=0, J521, IF(L523=1, J521-$C$16, J521-$C$13))","v":7.2968840283389129},{"$f":"IF(B523=0, H522, B523)","v":7.2968840283389129},{"$f":"IF(B523>0, 1, 0)","v":1},null,null,{"$f":"IF(AND($B$9=0,K521-$C$13<$B$8),1,0)","v":0}]
["Face 3",{"$f":"IF(H523-$C$13<$B$8, 0, G523)","v":0},{"$f":"$B$5","v":16},{"$f":"B524/12*C524*$B$11","v":0},{"$f":"IF(I517=1,E517+$C$13, E517)","v":5.6970079858305436},{"$f":"E524+$C$12","v":6.8811079858305435},{"$f":"G523","v":7.2968840283389129},{"$f":"IF(B524=0, H523, H523-$C$13)","v":7.2968840283389129},{"$f":"IF(B524>0, 1, 0)","v":0}]
["Face 4",{"$f":"IF(L525=0,IF(G524-$C$13<$B$9, 0, H524), IF(G524-$C$16<$B$9, 0, H524))","v":7.2968840283389129},{"$f":"$B$5","v":16},{"$f":"IF(L525=1,B525/12*C525*$B$14,B525/12*C525*$B$11)","v":9.7291787044518845},{"$f":"IF(I518=1,IF(L525=1,E518+$C$16,E518+$C$13), E518)","v":5.6970079858305436},{"$f":"IF(L525=1, E525+$C$15, E525+$C$12)","v":6.8811079858305435},{"$f":"IF(B525=0, G524, IF(L525=1, G524-$C$16, G524-$C$13))","v":5.987784028338913},{"$f":"IF(B525=0, H524, B525)","v":7.2968840283389129},{"$f":"IF(B525>0, 1, 0)","v":1},null,null,{"$f":"IF(AND($B$9=0,K521-$C$13<$B$8),1,0)","v":0}]
[null,null,null,null,null,null,null,null,null,"Starting Cant"]
[null,null,null,null,null,null,null,null,null,"Width","Height"]
["Pass 4",null,null,null,null,null,null,null,"Cut ?",{"$f":"MIN(G522:G525)","v":5.987784028338913},{"$f":"MIN(H522:H525)","v":7.2968840283389129}]
["Face 1",{"$f":"IF(K528-$C$13 < $B$8, 0, J528)","v":0},{"$f":"$B$5","v":16},{"$f":"B529/12*C529*$B$11","v":0},{"$f":"IF(I522=1,E522+$C$13, E522)","v":7.0061079858305435},{"$f":"E529+$C$12","v":8.1902079858305434},{"$f":"J528","v":5.987784028338913},{"$f":"IF(B529=0, K528, K528-$C$13)","v":7.2968840283389129},{"$f":"IF(B529>0, 1, 0)","v":0}]
["Face 2",{"$f":"IF(L530=0,IF(G529-$C$13<$B$9, 0, H529), IF(G529-$C$16<$B$9, 0, H529))","v":7.2968840283389129},{"$f":"$B$5","v":16},{"$f":"IF(L530=1,B530/12*C530*$B$14,B530/12*C530*$B$11)","v":9.7291787044518845},{"$f":"IF(I523=1,IF(L530=1,E523+$C$16,E523+$C$13), E523)","v":7.0061079858305435},{"$f":"IF(L530=1, E530+$C$15, E530+$C$12)","v":8.1902079858305434},{"$f":"IF(B530=0, J528, IF(L530=1, J528-$C$16, J528-$C$13))","v":4.6786840283389131},{"$f":"IF(B530=0, H529, B530)","v":7.2968840283389129},{"$f":"IF(B530>0, 1, 0)","v":1},null,null,{"$f":"IF(AND($B$9=0,K528-$C$13<$B$8),1,0)","v":1}]
["Face 3",{"$f":"IF(H530-$C$13<$B$8, 0, G530)","v":0},{"$f":"$B$5","v":16},{"$f":"B531/12*C531*$B$11","v":0},{"$f":"IF(I524=1,E524+$C$13, E524)","v":5.6970079858305436},{"$f":"E531+$C$12","v":6.8811079858305435},{"$f":"G530","v":4.6786840283389131},{"$f":"IF(B531=0, H530, H530-$C$13)","v":7.2968840283389129},{"$f":"IF(B531>0, 1, 0)","v":0}]
["Face 4",{"$f":"IF(L532=0,IF(G531-$C$13<$B$9, 0, H531), IF(G531-$C$16<$B$9, 0, H531))","v":7.2968840283389129},{"$f":"$B$5","v":16},{"$f":"IF(L532=1,B532/12*C532*$B$14,B532/12*C532*$B$11)","v":9.7291787044518845},{"$f":"IF(I525=1,IF(L532=1,E525+$C$16,E525+$C$13), E525)","v":7.0061079858305435},{"$f":"IF(L532=1, E532+$C$15, E532+$C$12)","v":8.1902079858305434},{"$f":"IF(B532=0, G531, IF(L532=1, G531-$C$16, G531-$C$13))","v":3.3695840283389131},{"$f":"IF(B532=0, H531, B532)","v":7.2968840283389129},{"$f":"IF(B532>0, 1, 0)","v":1},null,null,{"$f":"IF(AND($B$9=0,K528-$C$13<$B$8),1,0)","v":1}]
[null,null,null,null,null,null,null,null,null,"Starting Cant"]
[null,null,null,null,null,null,null,null,null,"Width","Height"]
["Pass 5",null,null,null,null,null,null,null,"Cut ?",{"$f":"MIN(G529:G532)","v":3.3695840283389131},{"$f":"MIN(H529:H532)","v":7.2968840283389129}]
["Face 1",{"$f":"IF(K535-$C$13 < $B$8, 0, J535)","v":0},{"$f":"$B$5","v":16},{"$f":"B536/12*C536*$B$11","v":0},{"$f":"IF(I529=1,E529+$C$13, E529)","v":7.0061079858305435},{"$f":"E536+$C$12","v":8.1902079858305434},{"$f":"J535","v":3.3695840283389131},{"$f":"IF(B536=0, K535, K535-$C$13)","v":7.2968840283389129},{"$f":"IF(B536>0, 1, 0)","v":0}]
["Face 2",{"$f":"IF(L537=0,IF(G536-$C$13<$B$9, 0, H536), IF(G536-$C$16<$B$9, 0, H536))","v":7.2968840283389129},{"$f":"$B$5","v":16},{"$f":"IF(L537=1,B537/12*C537*$B$14,B537/12*C537*$B$11)","v":9.7291787044518845},{"$f":"IF(I530=1,IF(L537=1,E530+$C$16,E530+$C$13), E530)","v":8.3152079858305434},{"$f":"IF(L537=1, E537+$C$15, E537+$C$12)","v":9.4993079858305443},{"$f":"IF(B537=0, J535, IF(L537=1, J535-$C$16, J535-$C$13))","v":2.0604840283389132},{"$f":"IF(B537=0, H536, B537)","v":7.2968840283389129},{"$f":"IF(B537>0, 1, 0)","v":1},null,null,{"$f":"IF(AND($B$9=0,K535-$C$13<$B$8),1,0)","v":1}]
["Face 3",{"$f":"IF(H537-$C$13<$B$8, 0, G537)","v":0},{"$f":"$B$5","v":16},{"$f":"B538/12*C538*$B$11","v":0},{"$f":"IF(I531=1,E531+$C$13, E531)","v":5.6970079858305436},{"$f":"E538+$C$12","v":6.8811079858305435},{"$f":"G537","v":2.0604840283389132},{"$f":"IF(B538=0, H537, H537-$C$13)","v":7.2968840283389129},{"$f":"IF(B538>0, 1, 0)","v":0}]
["Face 4",{"$f":"IF(L539=0,IF(G538-$C$13<$B$9, 0, H538), IF(G538-$C$16<$B$9, 0, H538))","v":7.2968840283389129},{"$f":"$B$5","v":16},{"$f":"IF(L539=1,B539/12*C539*$B$14,B539/12*C539*$B$11)","v":9.7291787044518845},{"$f":"IF(I532=1,IF(L539=1,E532+$C$16,E532+$C$13), E532)","v":8.3152079858305434},{"$f":"IF(L539=1, E539+$C$15, E539+$C$12)","v":9.4993079858305443},{"$f":"IF(B539=0, G538, IF(L539=1, G538-$C$16, G538-$C$13))","v":0.75138402833891327},{"$f":"IF(B539=0, H538, B539)","v":7.2968840283389129},{"$f":"IF(B539>0, 1, 0)","v":1},null,null,{"$f":"IF(AND($B$9=0,K535-$C$13<$B$8),1,0)","v":1}]
[null,null,null,null,null,null,null,null,null,"Starting Cant"]
[null,null,null,null,null,null,null,null,null,"Width","Height"]
["Pass 6",null,null,null,null,null,null,null,"Cut ?",{"$f":"MIN(G536:G539)","v":0.75138402833891327},{"$f":"MIN(H536:H539)","v":7.2968840283389129}]
["Face 1",{"$f":"IF(K542-$C$13 < $B$8, 0, J542)","v":0},{"$f":"$B$5","v":16},{"$f":"B543/12*C543*$B$11","v":0},{"$f":"IF(I536=1,E536+$C$13, E536)","v":7.0061079858305435},{"$f":"E543+$C$12","v":8.1902079858305434},{"$f":"J542","v":0.75138402833891327},{"$f":"IF(B543=0, K542, K542-$C$13)","v":7.2968840283389129},{"$f":"IF(B543>0, 1, 0)","v":0}]
["Face 2",{"$f":"IF(L544=0,IF(G543-$C$13<$B$9, 0, H543), IF(G543-$C$16<$B$9, 0, H543))","v":0},{"$f":"$B$5","v":16},{"$f":"IF(L544=1,B544/12*C544*$B$14,B544/12*C544*$B$11)","v":0},{"$f":"IF(I537=1,IF(L544=1,E537+$C$16,E537+$C$13), E537)","v":9.6243079858305443},{"$f":"IF(L544=1, E544+$C$15, E544+$C$12)","v":10.808407985830545},{"$f":"IF(B544=0, J542, IF(L544=1, J542-$C$16, J542-$C$13))","v":0.75138402833891327},{"$f":"IF(B544=0, H543, B544)","v":7.2968840283389129},{"$f":"IF(B544>0, 1, 0)","v":0},null,null,{"$f":"IF(AND($B$9=0,K542-$C$13<$B$8),1,0)","v":1}]
["Face 3",{"$f":"IF(H544-$C$13<$B$8, 0, G544)","v":0},{"$f":"$B$5","v":16},{"$f":"B545/12*C545*$B$11","v":0},{"$f":"IF(I538=1,E538+$C$13, E538)","v":5.6970079858305436},{"$f":"E545+$C$12","v":6.8811079858305435},{"$f":"G544","v":0.75138402833891327},{"$f":"IF(B545=0, H544, H544-$C$13)","v":7.2968840283389129},{"$f":"IF(B545>0, 1, 0)","v":0}]
["Face 4",{"$f":"IF(L546=0,IF(G545-$C$13<$B$9, 0, H545), IF(G545-$C$16<$B$9, 0, H545))","v":0},{"$f":"$B$5","v":16},{"$f":"IF(L546=1,B546/12*C546*$B$14,B546/12*C546*$B$11)","v":0},{"$f":"IF(I539=1,IF(L546=1,E539+$C$16,E539+$C$13), E539)","v":9.6243079858305443},{"$f":"IF(L546=1, E546+$C$15, E546+$C$12)","v":10.808407985830545},{"$f":"IF(B546=0, G545, IF(L546=1, G545-$C$16, G545-$C$13))","v":0.75138402833891327},{"$f":"IF(B546=0, H545, B546)","v":7.2968840283389129},{"$f":"IF(B546>0, 1, 0)","v":0},null,null,{"$f":"IF(AND($B$9=0,K542-$C$13<$B$8),1,0)","v":1}]
[null,null,null,null,null,null,null,null,null,"Starting Cant"]
[null,null,null,null,null,null,null,null,null,"Width","Height"]
["Pass 7",null,null,null,null,null,null,null,"Cut ?",{"$f":"MIN(G543:G546)","v":0.75138402833891327},{"$f":"MIN(H543:H546)","v":7.2968840283389129}]
["Face 1",{"$f":"IF(K549-$C$13 < $B$8, 0, J549)","v":0},{"$f":"$B$5","v":16},{"$f":"B550/12*C550*$B$11","v":0},{"$f":"IF(I543=1,E543+$C$13, E543)","v":7.0061079858305435},{"$f":"E550+$C$12","v":8.1902079858305434},{"$f":"J549","v":0.75138402833891327},{"$f":"IF(B550=0, K549, K549-$C$13)","v":7.2968840283389129},{"$f":"IF(B550>0, 1, 0)","v":0}]
["Face 2",{"$f":"IF(L551=0,IF(G550-$C$13<$B$9, 0, H550), IF(G550-$C$16<$B$9, 0, H550))","v":0},{"$f":"$B$5","v":16},{"$f":"IF(L551=1,B551/12*C551*$B$14,B551/12*C551*$B$11)","v":0},{"$f":"IF(I544=1,IF(L551=1,E544+$C$16,E544+$C$13), E544)","v":9.6243079858305443},{"$f":"IF(L551=1, E551+$C$15, E551+$C$12)","v":10.808407985830545},{"$f":"IF(B551=0, J549, IF(L551=1, J549-$C$16, J549-$C$13))","v":0.75138402833891327},{"$f":"IF(B551=0, H550, B551)","v":7.2968840283389129},{"$f":"IF(B551>0, 1, 0)","v":0},null,null,{"$f":"IF(AND($B$9=0,K549-$C$13<$B$8),1,0)","v":1}]
["Face 3",{"$f":"IF(H551-$C$13<$B$8, 0, G551)","v":0},{"$f":"$B$5","v":16},{"$f":"B552/12*C552*$B$11","v":0},{"$f":"IF(I545=1,E545+$C$13, E545)","v":5.6970079858305436},{"$f":"E552+$C$12","v":6.8811079858305435},{"$f":"G551","v":0.75138402833891327},{"$f":"IF(B552=0, H551, H551-$C$13)","v":7.2968840283389129},{"$f":"IF(B552>0, 1, 0)","v":0}]
["Face 4",{"$f":"IF(L553=0,IF(G552-$C$13<$B$9, 0, H552), IF(G552-$C$16<$B$9, 0, H552))","v":0},{"$f":"$B$5","v":16},{"$f":"IF(L553=1,B553/12*C553*$B$14,B553/12*C553*$B$11)","v":0},{"$f":"IF(I546=1,IF(L553=1,E546+$C$16,E546+$C$13), E546)","v":9.6243079858305443},{"$f":"IF(L553=1, E553+$C$15, E553+$C$12)","v":10.808407985830545},{"$f":"IF(B553=0, G552, IF(L553=1, G552-$C$16, G552-$C$13))","v":0.75138402833891327},{"$f":"IF(B553=0, H552, B553)","v":7.2968840283389129},{"$f":"IF(B553>0, 1, 0)","v":0},null,null,{"$f":"IF(AND($B$9=0,K549-$C$13<$B$8),1,0)","v":1}]
[null,null,null,null,null,null,null,null,null,"Starting Cant"]
[null,null,null,null,null,null,null,null,null,"Width","Height"]
["Pass 8",null,null,null,null,null,null,null,"Cut ?",{"$f":"MIN(G550:G553)","v":0.75138402833891327},{"$f":"MIN(H550:H553)","v":7.2968840283389129}]
["Face 1",{"$f":"IF(K556-$C$13 < $B$8, 0, J556)","v":0},{"$f":"$B$5","v":16},{"$f":"B557/12*C557*$B$11","v":0},{"$f":"IF(I550=1,E550+$C$13, E550)","v":7.0061079858305435},{"$f":"E557+$C$12","v":8.1902079858305434},{"$f":"J556","v":0.75138402833891327},{"$f":"IF(B557=0, K556, K556-$C$13)","v":7.2968840283389129},{"$f":"IF(B557>0, 1, 0)","v":0}]
["Face 2",{"$f":"IF(L558=0,IF(G557-$C$13<$B$9, 0, H557), IF(G557-$C$16<$B$9, 0, H557))","v":0},{"$f":"$B$5","v":16},{"$f":"IF(L558=1,B558/12*C558*$B$14,B558/12*C558*$B$11)","v":0},{"$f":"IF(I551=1,IF(L558=1,E551+$C$16,E551+$C$13), E551)","v":9.6243079858305443},{"$f":"IF(L558=1, E558+$C$15, E558+$C$12)","v":10.808407985830545},{"$f":"IF(B558=0, J556, IF(L558=1, J556-$C$16, J556-$C$13))","v":0.75138402833891327},{"$f":"IF(B558=0, H557, B558)","v":7.2968840283389129},{"$f":"IF(B558>0, 1, 0)","v":0},null,null,{"$f":"IF(AND($B$9=0,K556-$C$13<$B$8),1,0)","v":1}]
["Face 3",{"$f":"IF(H558-$C$13<$B$8, 0, G558)","v":0},{"$f":"$B$5","v":16},{"$f":"B559/12*C559*$B$11","v":0},{"$f":"IF(I552=1,E552+$C$13, E552)","v":5.6970079858305436},{"$f":"E559+$C$12","v":6.8811079858305435},{"$f":"G558","v":0.75138402833891327},{"$f":"IF(B559=0, H558, H558-$C$13)","v":7.2968840283389129},{"$f":"IF(B559>0, 1, 0)","v":0}]
["Face 4",{"$f":"IF(L560=0,IF(G559-$C$13<$B$9, 0, H559), IF(G559-$C$16<$B$9, 0, H559))","v":0},{"$f":"$B$5","v":16},{"$f":"IF(L560=1,B560/12*C560*$B$14,B560/12*C560*$B$11)","v":0},{"$f":"IF(I553=1,IF(L560=1,E553+$C$16,E553+$C$13), E553)","v":9.6243079858305443},{"$f":"IF(L560=1, E560+$C$15, E560+$C$12)","v":10.808407985830545},{"$f":"IF(B560=0, G559, IF(L560=1, G559-$C$16, G559-$C$13))","v":0.75138402833891327},{"$f":"IF(B560=0, H559, B560)","v":7.2968840283389129},{"$f":"IF(B560>0, 1, 0)","v":0},null,null,{"$f":"IF(AND($B$9=0,K556-$C$13<$B$8),1,0)","v":1}]
[null,null,null,null,null,null,null,null,null,"Starting Cant"]
[null,null,null,null,null,null,null,null,null,"Width","Height"]
["Pass 9",null,null,null,null,null,null,null,"Cut ?",{"$f":"MIN(G557:G560)","v":0.75138402833891327},{"$f":"MIN(H557:H560)","v":7.2968840283389129}]
["Face 1",{"$f":"IF(K563-$C$13 < $B$8, 0, J563)","v":0},{"$f":"$B$5","v":16},{"$f":"B564/12*C564*$B$11","v":0},{"$f":"IF(I557=1,E557+$C$13, E557)","v":7.0061079858305435},{"$f":"E564+$C$12","v":8.1902079858305434},{"$f":"J563","v":0.75138402833891327},{"$f":"IF(B564=0, K563, K563-$C$13)","v":7.2968840283389129},{"$f":"IF(B564>0, 1, 0)","v":0}]
["Face 2",{"$f":"IF(L565=0,IF(G564-$C$13<$B$9, 0, H564), IF(G564-$C$16<$B$9, 0, H564))","v":0},{"$f":"$B$5","v":16},{"$f":"IF(L565=1,B565/12*C565*$B$14,B565/12*C565*$B$11)","v":0},{"$f":"IF(I558=1,IF(L565=1,E558+$C$16,E558+$C$13), E558)","v":9.6243079858305443},{"$f":"IF(L565=1, E565+$C$15, E565+$C$12)","v":10.808407985830545},{"$f":"IF(B565=0, J563, IF(L565=1, J563-$C$16, J563-$C$13))","v":0.75138402833891327},{"$f":"IF(B565=0, H564, B565)","v":7.2968840283389129},{"$f":"IF(B565>0, 1, 0)","v":0},null,null,{"$f":"IF(AND($B$9=0,K563-$C$13<$B$8),1,0)","v":1}]
["Face 3",{"$f":"IF(H565-$C$13<$B$8, 0, G565)","v":0},{"$f":"$B$5","v":16},{"$f":"B566/12*C566*$B$11","v":0},{"$f":"IF(I559=1,E559+$C$13, E559)","v":5.6970079858305436},{"$f":"E566+$C$12","v":6.8811079858305435},{"$f":"G565","v":0.75138402833891327},{"$f":"IF(B566=0, H565, H565-$C$13)","v":7.2968840283389129},{"$f":"IF(B566>0, 1, 0)","v":0}]
["Face 4",{"$f":"IF(L567=0,IF(G566-$C$13<$B$9, 0, H566), IF(G566-$C$16<$B$9, 0, H566))","v":0},{"$f":"$B$5","v":16},{"$f":"IF(L567=1,B567/12*C567*$B$14,B567/12*C567*$B$11)","v":0},{"$f":"IF(I560=1,IF(L567=1,E560+$C$16,E560+$C$13), E560)","v":9.6243079858305443},{"$f":"IF(L567=1, E567+$C$15, E567+$C$12)","v":10.808407985830545},{"$f":"IF(B567=0, G566, IF(L567=1, G566-$C$16, G566-$C$13))","v":0.75138402833891327},{"$f":"IF(B567=0, H566, B567)","v":7.2968840283389129},{"$f":"IF(B567>0, 1, 0)","v":0},null,null,{"$f":"IF(AND($B$9=0,K563-$C$13<$B$8),1,0)","v":1}]
[]
["Grade Saw Results Summary"]
["Board Count",{"$f":"COUNTIF(B508:B567,\">\"&0)+COUNTIF(B471:B501,\">\"&0)","v":23}]
["Board Feet",{"$f":"SUM(D508:D567)+SUM(D471:D501)","v":281.10632146172804}]
["Cant Width",{"$f":"IF(J563<$B$9,0,$B$9)","v":0},null,null,null,null,null,"= changed for cant resaw ops"]
["Cant Height",{"$f":"IF(K563<$B$8, 0, $B$8)","v":6}]
["Cant Volume",{"$f":"$B5*B573/12 *B572","v":0}]
["Total Volume",{"$f":"B574+B571","v":281.10632146172804}]

{"sheet":"Grade Yield Lookup","index":4,"n_rows":769,"n_cols":26,"rows_kept":769,"cut":false,"hidden":true,"merged":[[1,11,1,17],[1,20,1,24],[8,11,8,17]]}
[]
[null,null,null,null,null,null,null,null,null,null,null,"Interactive Grade Recovery Lookup",null,null,null,null,null,null,null,null,"Batch Sawing Grade Recovery Lookup"]
[]
["Note: Orange data in the recovery lookup tableindicates that the values",null,null,null,null,null,null,null,null,null,null,"Diameter",{"$f":"FLOOR('Interactive Sawing'!D9,1)","v":20},null,null,null,"Method",{"$f":"Costs!F5","v":"Revised"},null,"Diameter",{"$f":"FLOOR(BatchProcess!B5,1)","v":14}]
[null,"are average values over the range within the same species and grade.",null,null,null,null,null,null,null,null,null,"Log Grade",{"$f":"'USFS-TCF-Converter'!B6","v":"Factory-2"},null,null,null,null,null,null,"Log Grade",{"$f":"BatchProcess!B4","v":"Factory-2"}]
[null,"This is meant to compensate for missing data for some diameters",null,null,null,null,null,null,null,null,null,"Species ",{"$f":"'Interactive Sawing'!D7","v":"ROAK"},null,null,null,null,null,null,"Species ",{"$f":"BatchProcess!B3","v":"ROAK"}]
[null,"and low sample count for others.",null,null,null,null,null,null,null,null,null,"Total BDFT",{"$f":"'Interactive Sawing'!H9","v":300.8557230334365},null,null,null,null,null,null,"Total BDFT",{"$f":"BatchProcess!G6","v":137.33863084745357}]
[]
[null,null,null,null,null,null,null,null,null,null,null,"Total Board Feet by NHLA Grade"]
[null,null,null,null,null,null,null,null,null,null,null,{"$f":"MAX(L13:L769)","v":40.6462475853642},{"$f":"MAX(M13:M769)","v":30.612661547296483},5.0250016469786924,114.72141297669883,62.876823014519253,29.054811181685327,17.91876508089376,null,{"$f":"MAX(T13:T769)","v":10.892009472217438},10.731349437773412,4.0968212280778076,42.696364352868827,38.001864856648481,22.918344574707863,8.0018769251597277]
[]
["Diameter","Grade","Model","Species","FAS","F1F","SEL","1C","2C","3A","3B","FAS","F1F","SEL","1C","2C","3A","3B",null,"FAS","F1F","SEL","1C","2C","3A","3B"]
[13,"Factory-1","Original","ROAK",0.185,0.16500000000000001,5.0999999999999997E-2,0.214,0.22600000000000001,0.15,8.9999999999999993E-3,{"$f":"IF(AND($B13=$M$5,$D13=$M$6,$A13=$M$4,C13=$R$4),E13*$M$7,0)","v":0},{"$f":"IF(AND($B13=$M$5,$D13=$M$6,$A13=$M$4,C13=$R$4),F13*$M$7,0)","v":0},{"$f":"IF(AND($B13=$M$5,$D13=$M$6,$A13=$M$4,C13=$R$4),G13*$M$7,0)","v":0},{"$f":"IF(AND($B13=$M$5,$D13=$M$6,$A13=$M$4,C13=$R$4),H13*$M$7,0)","v":0},{"$f":"IF(AND($B13=$M$5,$D13=$M$6,$A13=$M$4,C13=$R$4),I13*$M$7,0)","v":0},{"$f":"IF(AND($B13=$M$5,$D13=$M$6,$A13=$M$4,C13=$R$4),J13*$M$7,0)","v":0},{"$f":"IF(AND($B13=$M$5,$D13=$M$6,$A13=$M$4,C13=$R$4),K13*$M$7,0)","v":0},null,{"$f":"IF(AND($B13=$U$5,$D13=$U$6,$A13=$U$4,C13=$R$4),E13*$U$7,0)","v":0},{"$f":"IF(AND($B13=$U$5,$D13=$U$6,$A13=$U$4,C13=$R$4),F13*$U$7,0)","v":0},{"$f":"IF(AND($B13=$U$5,$D13=$U$6,$A13=$U$4,C13=$R$4),G13*$U$7,0)","v":0},{"$f":"IF(AND($B13=$U$5,$D13=$U$6,$A13=$U$4,C13=$R$4),H13*$U$7,0)","v":0},{"$f":"IF(AND($B13=$U$5,$D13=$U$6,$A13=$U$4,C13=$R$4),I13*$U$7,0)","v":0},{"$f":"IF(AND($B13=$U$5,$D13=$U$6,$A13=$U$4,C13=$R$4),J13*$U$7,0)","v":0},{"$f":"IF(AND($B13=$U$5,$D13=$U$6,$A13=$U$4,C13=$R$4),K13*$U$7,0)","v":0}]
[{"$f":"A13+1","v":14},"Factory-1","Original","ROAK",0.247,0.15,3.3000000000000002E-2,0.27700000000000002,0.17799999999999999,9.4E-2,2.1000000000000001E-2,{"$f":"IF(AND($B14=$M$5,$D14=$M$6,$A14=$M$4,C14=$R$4),E14*$M$7,0)","v":0},{"$f":"IF(AND($B14=$M$5,$D14=$M$6,$A14=$M$4,C14=$R$4),F14*$M$7,0)","v":0},{"$f":"IF(AND($B14=$M$5,$D14=$M$6,$A14=$M$4,C14=$R$4),G14*$M$7,0)","v":0},{"$f":"IF(AND($B14=$M$5,$D14=$M$6,$A14=$M$4,C14=$R$4),H14*$M$7,0)","v":0},{"$f":"IF(AND($B14=$M$5,$D14=$M$6,$A14=$M$4,C14=$R$4),I14*$M$7,0)","v":0},{"$f":"IF(AND($B14=$M$5,$D14=$M$6,$A14=$M$4,C14=$R$4),J14*$M$7,0)","v":0},{"$f":"IF(AND($B14=$M$5,$D14=$M$6,$A14=$M$4,C14=$R$4),K14*$M$7,0)","v":0},null,{"$f":"IF(AND($B14=$U$5,$D14=$U$6,$A14=$U$4,C14=$R$4),E14*$U$7,0)","v":0},{"$f":"IF(AND($B14=$U$5,$D14=$U$6,$A14=$U$4,C14=$R$4),F14*$U$7,0)","v":0},{"$f":"IF(AND($B14=$U$5,$D14=$U$6,$A14=$U$4,C14=$R$4),G14*$U$7,0)","v":0},{"$f":"IF(AND($B14=$U$5,$D14=$U$6,$A14=$U$4,C14=$R$4),H14*$U$7,0)","v":0},{"$f":"IF(AND($B14=$U$5,$D14=$U$6,$A14=$U$4,C14=$R$4),I14*$U$7,0)","v":0},{"$f":"IF(AND($B14=$U$5,$D14=$U$6,$A14=$U$4,C14=$R$4),J14*$U$7,0)","v":0},{"$f":"IF(AND($B14=$U$5,$D14=$U$6,$A14=$U$4,C14=$R$4),K14*$U$7,0)","v":0}]
[15,"Factory-1","Original","ROAK",0.252,0.15,3.5000000000000003E-2,0.245,0.219,0.08,1.9E-2,0,0,0,0,0,0,0,null,0,0,0,0,0,0,0]
[16,"Factory-1","Original","ROAK",0.247,0.126,3.3000000000000002E-2,0.27400000000000002,0.222,8.7999999999999995E-2,0.01,0,0,0,0,0,0,0,null,0,0,0,0,0,0,0]
[17,"Factory-1","Original","ROAK",0.32100000000000001,0.14799999999999999,3.6999999999999998E-2,0.26100000000000001,0.16700000000000001,5.5E-2,1.0999999999999999E-2,0,0,0,0,0,0,0,null,0,0,0,0,0,0,0]
[18,"Factory-1","Original","ROAK",0.28699999999999998,0.161,2.5000000000000001E-2,0.27300000000000002,0.154,8.3000000000000004E-2,1.7000000000000001E-2,0,0,0,0,0,0,0,null,0,0,0,0,0,0,0]
[19,"Factory-1","Original","ROAK",0.379,0.13300000000000001,2.8000000000000001E-2,0.23599999999999999,0.154,5.2999999999999999E-2,1.7000000000000001E-2,0,0,0,0,0,0,0,null,0,0,0,0,0,0,0]
[20,"Factory-1","Original","ROAK",0.33800000000000002,0.15,1.7000000000000001E-2,0.28599999999999998,0.13500000000000001,5.8999999999999997E-2,1.4999999999999999E-2,0,0,0,0,0,0,0,null,0,0,0,0,0,0,0]
[21,"Factory-1","Original","ROAK",0.309,0.13600000000000001,1.4E-2,0.33,0.13800000000000001,4.8000000000000001E-2,2.5000000000000001E-2,0,0,0,0,0,0,0,null,0,0,0,0,0,0,0]
[22,"Factory-1","Original","ROAK",0.33,0.16400000000000001,1.7000000000000001E-2,0.252,0.154,5.1999999999999998E-2,3.1E-2,0,0,0,0,0,0,0,null,0,0,0,0,0,0,0]
[23,"Factory-1","Original","ROAK",0.34599999999999997,0.154,3.2000000000000001E-2,0.26400000000000001,0.129,5.0999999999999997E-2,2.4E-2,0,0,0,0,0,0,0,null,0,0,0,0,0,0,0]
[24,"Factory-1","Original","ROAK",0.309,0.13600000000000001,3.5000000000000003E-2,0.317,0.10199999999999999,7.2999999999999995E-2,2.8000000000000001E-2,0,0,0,0,0,0,0,null,0,0,0,0,0,0,0]
[25,"Factory-1","Original","ROAK",0.40699999999999997,0.123,0.04,0.26400000000000001,8.7999999999999995E-2,5.2999999999999999E-2,2.5000000000000001E-2,0,0,0,0,0,0,0,null,0,0,0,0,0,0,0]
[26,"Factory-1","Original","ROAK",0.25800000000000001,0.105,4.2000000000000003E-2,0.38,0.14199999999999999,4.9000000000000002E-2,2.4E-2,0,0,0,0,0,0,0,null,0,0,0,0,0,0,0]
[27,"Factory-1","Original","ROAK",0.24099999999999999,9.6000000000000002E-2,7.9000000000000001E-2,0.40500000000000003,0.11799999999999999,6.0999999999999999E-2,0,0,0,0,0,0,0,0,null,0,0,0,0,0,0,0]
[28,"Factory-1","Original","ROAK",0.40100000000000002,0.124,1.4E-2,0.308,0.112,3.5000000000000003E-2,6.0000000000000001E-3,0,0,0,0,0,0,0,null,0,0,0,0,0,0,0]
[29,"Factory-1","Original","ROAK",0.26900000000000002,0.189,0,0.38400000000000001,8.4000000000000005E-2,5.1999999999999998E-2,2.1999999999999999E-2,0,0,0,0,0,0,0,null,0,0,0,0,0,0,0]
[30,"Factory-1","Original","ROAK",0.22900000000000001,9.2999999999999999E-2,7.4999999999999997E-2,0.503,5.1999999999999998E-2,4.8000000000000001E-2,0,0,0,0,0,0,0,0,null,0,0,0,0,0,0,0]
[31,"Factory-1","Original","ROAK",0.56100000000000005,0.112,0.05,0.20100000000000001,5.3999999999999999E-2,2.1999999999999999E-2,0,0,0,0,0,0,0,0,null,0,0,0,0,0,0,0]
[10,"Factory-2","Original","ROAK",2.4E-2,6.9000000000000006E-2,5.0999999999999997E-2,0.32800000000000001,0.26500000000000001,0.23599999999999999,2.7E-2,0,0,0,0,0,0,0,null,0,0,0,0,0,0,0]
[{"$f":"A32+1","v":11},"Factory-2","Original","ROAK",5.0999999999999997E-2,5.8000000000000003E-2,4.8000000000000001E-2,0.20300000000000001,0.33400000000000002,0.22500000000000001,8.1000000000000003E-2,0,0,0,0,0,0,0,null,0,0,0,0,0,0,0]
[12,"Factory-2","Original","ROAK",6.4000000000000001E-2,6.9000000000000006E-2,2.8000000000000001E-2,0.25,0.34100000000000003,0.189,5.8999999999999997E-2,0,0,0,0,0,0,0,null,0,0,0,0,0,0,0]
[13,"Factory-2","Original","ROAK",4.7E-2,5.1999999999999998E-2,2.9000000000000001E-2,0.316,0.313,0.17399999999999999,6.9000000000000006E-2,0,0,0,0,0,0,0,null,0,0,0,0,0,0,0]
[14,"Factory-2","Original","ROAK",9.1999999999999998E-2,8.4000000000000005E-2,3.2000000000000001E-2,0.30399999999999999,0.28499999999999998,0.17199999999999999,3.1E-2,0,0,0,0,0,0,0,null,0,0,0,0,0,0,0]
[15,"Factory-2","Original","ROAK",0.11700000000000001,7.4999999999999997E-2,2.3E-2,0.29599999999999999,0.29499999999999998,0.14899999999999999,4.4999999999999998E-2,0,0,0,0,0,0,0,null,0,0,0,0,0,0,0]
[16,"Factory-2","Original","ROAK",9.8000000000000004E-2,0.112,2.9000000000000001E-2,0.34100000000000003,0.26700000000000002,0.109,4.3999999999999997E-2,0,0,0,0,0,0,0,null,0,0,0,0,0,0,0]
[17,"Factory-2","Original","ROAK",0.123,0.08,1.6E-2,0.36899999999999999,0.22500000000000001,0.124,6.3E-2,0,0,0,0,0,0,0,null,0,0,0,0,0,0,0]
[18,"Factory-2","Original","ROAK",{"$f":"(E39+E41)/2","v":0.121},{"$f":"(F39+F41)/2","v":7.4500000000000011E-2},2.0500000000000001E-2,0.38200000000000001,0.23049999999999998,0.11299999999999999,5.8499999999999996E-2,0,0,0,0,0,0,0,null,0,0,0,0,0,0,0]
[19,"Factory-2","Original","ROAK",0.11899999999999999,6.9000000000000006E-2,2.5000000000000001E-2,0.39500000000000002,0.23599999999999999,0.10199999999999999,5.3999999999999999E-2,0,0,0,0,0,0,0,null,0,0,0,0,0,0,0]
[20,"Factory-2","Original","ROAK",0.107,0.11700000000000001,1.2E-2,0.32500000000000001,0.217,0.11600000000000001,0.106,0,0,0,0,0,0,0,null,0,0,0,0,0,0,0]
[21,"Factory-2","Original","ROAK",{"$f":"(E42+E44)/2","v":0.126},{"$f":"(F42+F44)/2","v":0.1095},1.4500000000000001E-2,0.35450000000000004,0.219,0.10300000000000001,7.3499999999999996E-2,0,0,0,0,0,0,0,null,0,0,0,0,0,0,0]
[22,"Factory-2","Original","ROAK",0.14499999999999999,0.10199999999999999,1.7000000000000001E-2,0.38400000000000001,0.221,0.09,4.1000000000000002E-2,0,0,0,0,0,0,0,null,0,0,0,0,0,0,0]
[23,"Factory-2","Original","ROAK",{"$f":"AVERAGE(E43:E44)","v":0.13550000000000001},{"$f":"AVERAGE(F43:F44)","v":0.10575},1.575E-2,0.36925000000000002,0.22,9.6500000000000002E-2,5.7249999999999995E-2,0,0,0,0,0,0,0,null,0,0,0,0,0,0,0]
[24,"Factory-2","Original","ROAK",{"$f":"AVERAGE(E44:E45)","v":0.14024999999999999},0.103875,1.6375000000000001E-2,0.37662499999999999,0.2205,9.325E-2,4.9125000000000002E-2,0,0,0,0,0,0,0,null,0,0,0,0,0,0,0]
[25,"Factory-2","Original","ROAK",0.221,0.152,4.0000000000000001E-3,0.39,0.2,3.3000000000000002E-2,0,0,0,0,0,0,0,0,null,0,0,0,0,0,0,0]
[26,"Factory-2","Original","ROAK",{"$f":"AVERAGE(E46:E47)","v":0.18062499999999998},{"$f":"AVERAGE(F46:F47)","v":0.12793749999999998},1.01875E-2,0.3833125,0.21024999999999999,6.3125000000000001E-2,2.4562500000000001E-2,0,0,0,0,0,0,0,null,0,0,0,0,0,0,0]
[27,"Factory-2","Original","ROAK",{"$f":"AVERAGE(E47:E48)","v":0.2008125},{"$f":"AVERAGE(F47:F48)","v":0.13996874999999998},7.0937500000000002E-3,0.38665625000000003,0.205125,4.8062500000000001E-2,1.228125E-2,0,0,0,0,0,0,0,null,0,0,0,0,0,0,0]
[28,"Factory-2","Original","ROAK",{"$f":"AVERAGE(E46:E49)","v":0.18567187499999999},0.13094531249999997,9.4140625000000006E-3,0.38414843750000005,0.20896874999999998,5.9359375000000006E-2,2.1492187500000003E-2,0,0,0,0,0,0,0,null,0,0,0,0,0,0,0]
[29,"Factory-2","Original","ROAK",{"$f":"AVERAGE(E47:E50)","v":0.19702734374999997},0.13771289062499997,7.6738281250000005E-3,0.38602929687499998,0.20608593749999998,5.0886718750000004E-2,1.4583984375000001E-2,0,0,0,0,0,0,0,null,0,0,0,0,0,0,0]
[30,"Factory-2","Original","ROAK",0.20599999999999999,0.154,3.5000000000000003E-2,0.36399999999999999,0.19700000000000001,3.1E-2,1.2999999999999999E-2,0,0,0,0,0,0,0,null,0,0,0,0,0,0,0]
[8,"Factory-3","Original","ROAK",0,0,3.1E-2,4.9000000000000002E-2,0.27700000000000002,0.42,0.223,0,0,0,0,0,0,0,null,0,0,0,0,0,0,0]
[{"$f":"A53+1","v":9},"Factory-3","Original","ROAK",0,0.01,1.6E-2,0.126,0.35799999999999998,0.36399999999999999,0.126,0,0,0,0,0,0,0,null,0,0,0,0,0,0,0]
[10,"Factory-3","Original","ROAK",1.4E-2,5.0000000000000001E-3,1.0999999999999999E-2,8.7999999999999995E-2,0.38,0.374,0.128,0,0,0,0,0,0,0,null,0,0,0,0,0,0,0]
[11,"Factory-3","Original","ROAK",6.0000000000000001E-3,1.2E-2,1.2E-2,0.14299999999999999,0.40300000000000002,0.317,0.107,0,0,0,0,0,0,0,null,0,0,0,0,0,0,0]
[12,"Factory-3","Original","ROAK",3.0000000000000001E-3,1.2E-2,1.0999999999999999E-2,0.14899999999999999,0.34699999999999998,0.35099999999999998,0.127,0,0,0,0,0,0,0,null,0,0,0,0,0,0,0]
[13,"Factory-3","Original","ROAK",1.2E-2,0.03,8.0000000000000002E-3,0.22700000000000001,0.35099999999999998,0.253,0.11899999999999999,0,0,0,0,0,0,0,null,0,0,0,0,0,0,0]
[14,"Factory-3","Original","ROAK",0.01,1.6E-2,1.2999999999999999E-2,0.214,0.375,0.215,0.157,0,0,0,0,0,0,0,null,0,0,0,0,0,0,0]
[15,"Factory-3","Original","ROAK",0,3.4000000000000002E-2,8.0000000000000002E-3,0.27600000000000002,0.34399999999999997,0.23699999999999999,0.10100000000000001,0,0,0,0,0,0,0,null,0,0,0,0,0,0,0]
[16,"Factory-3","Original","ROAK",3.5000000000000003E-2,0.06,1.0999999999999999E-2,0.27400000000000002,0.31900000000000001,0.184,0.11700000000000001,0,0,0,0,0,0,0,null,0,0,0,0,0,0,0]
[17,"Factory-3","Original","ROAK",9.4E-2,8.4000000000000005E-2,1.4999999999999999E-2,0.29599999999999999,0.34799999999999998,9.8000000000000004E-2,6.5000000000000002E-2,0,0,0,0,0,0,0,null,0,0,0,0,0,0,0]
[18,"Factory-3","Original","ROAK",5.0999999999999997E-2,4.9000000000000002E-2,0,0.253,0.32,0.13300000000000001,0.19400000000000001,0,0,0,0,0,0,0,null,0,0,0,0,0,0,0]
[19,"Factory-3","Original","ROAK",0.109,4.2999999999999997E-2,0,0.19800000000000001,0.35299999999999998,0.224,7.2999999999999995E-2,0,0,0,0,0,0,0,null,0,0,0,0,0,0,0]
[20,"Factory-3","Original","ROAK",5.8000000000000003E-2,3.5999999999999997E-2,1.6E-2,0.28899999999999998,0.29499999999999998,0.16400000000000001,0.14199999999999999,0,0,0,0,0,0,0,null,0,0,0,0,0,0,0]
[21,"Factory-3","Original","ROAK",1.2E-2,2.8000000000000001E-2,0,0.35499999999999998,0.30299999999999999,0.13400000000000001,0.16800000000000001,0,0,0,0,0,0,0,null,0,0,0,0,0,0,0]
[22,"Factory-3","Original","ROAK",0,0,0,0.125,0.31900000000000001,0.48299999999999998,7.2999999999999995E-2,0,0,0,0,0,0,0,null,0,0,0,0,0,0,0]
[23,"Factory-3","Original","ROAK",0,5.3999999999999999E-2,0,0.40300000000000002,0.38800000000000001,0.11600000000000001,3.9E-2,0,0,0,0,0,0,0,null,0,0,0,0,0,0,0]
[24,"Factory-3","Original","ROAK",0,0,0.02,0.27500000000000002,0.32500000000000001,0.19,0.19,0,0,0,0,0,0,0,null,0,0,0,0,0,0,0]
[25,"Factory-3","Original","ROAK",0.10199999999999999,9.8000000000000004E-2,0,0.52600000000000002,0.214,0.06,0,0,0,0,0,0,0,0,null,0,0,0,0,0,0,0]
[26,"Factory-3","Original","ROAK",5.3999999999999999E-2,0.04,0,0.38600000000000001,0.33200000000000002,7.3999999999999996E-2,0.114,0,0,0,0,0,0,0,null,0,0,0,0,0,0,0]
[27,"Factory-3","Original","ROAK",0,0.184,0,0.39700000000000002,0.25900000000000001,8.5000000000000006E-2,7.4999999999999997E-2,0,0,0,0,0,0,0,null,0,0,0,0,0,0,0]
[28,"Factory-3","Original","ROAK",{"$f":"AVERAGE(E$65:E$72)","v":2.8249999999999997E-2},5.5E-2,4.5000000000000005E-3,0.34450000000000003,0.30437500000000001,0.16325000000000001,0.10012499999999999,0,0,0,0,0,0,0,null,0,0,0,0,0,0,0]
[29,"Factory-3","Original","ROAK",2.8249999999999997E-2,5.5E-2,4.5000000000000005E-3,0.34450000000000003,0.30437500000000001,0.16325000000000001,0.10012499999999999,0,0,0,0,0,0,0,null,0,0,0,0,0,0,0]
[30,"Factory-3","Original","ROAK",2.8249999999999997E-2,5.5E-2,4.5000000000000005E-3,0.34450000000000003,0.30437500000000001,0.16325000000000001,0.10012499999999999,0,0,0,0,0,0,0,null,0,0,0,0,0,0,0]
[13,"Factory-1","Original","WOAK",0.13,0.13300000000000001,3.4000000000000002E-2,0.30199999999999999,0.193,0.14000000000000001,6.8000000000000005E-2,0,0,0,0,0,0,0,null,0,0,0,0,0,0,0]
[14,"Factory-1","Original","WOAK",0.21,0.16900000000000001,5.6000000000000001E-2,0.219,0.183,0.126,3.4000000000000002E-2,0,0,0,0,0,0,0,null,0,0,0,0,0,0,0]
[15,"Factory-1","Original","WOAK",0.153,0.11899999999999999,3.3000000000000002E-2,0.252,0.252,0.126,6.0999999999999999E-2,{"$f":"IF(AND($B78=$M$5,$D78=$M$6,$A78=$M$4,C78=$R$4),E78*$M$7,0)","v":0},{"$f":"IF(AND($B78=$M$5,$D78=$M$6,$A78=$M$4,C78=$R$4),F78*$M$7,0)","v":0},{"$f":"IF(AND($B78=$M$5,$D78=$M$6,$A78=$M$4,C78=$R$4),G78*$M$7,0)","v":0},{"$f":"IF(AND($B78=$M$5,$D78=$M$6,$A78=$M$4,C78=$R$4),H78*$M$7,0)","v":0},{"$f":"IF(AND($B78=$M$5,$D78=$M$6,$A78=$M$4,C78=$R$4),I78*$M$7,0)","v":0},{"$f":"IF(AND($B78=$M$5,$D78=$M$6,$A78=$M$4,C78=$R$4),J78*$M$7,0)","v":0},{"$f":"IF(AND($B78=$M$5,$D78=$M$6,$A78=$M$4,C78=$R$4),K78*$M$7,0)","v":0},null,{"$f":"IF(AND($B78=$U$5,$D78=$U$6,$A78=$U$4,C78=$R$4),E78*$U$7,0)","v":0},{"$f":"IF(AND($B78=$U$5,$D78=$U$6,$A78=$U$4,C78=$R$4),F78*$U$7,0)","v":0},{"$f":"IF(AND($B78=$U$5,$D78=$U$6,$A78=$U$4,C78=$R$4),G78*$U$7,0)","v":0},{"$f":"IF(AND($B78=$U$5,$D78=$U$6,$A78=$U$4,C78=$R$4),H78*$U$7,0)","v":0},{"$f":"IF(AND($B78=$U$5,$D78=$U$6,$A78=$U$4,C78=$R$4),I78*$U$7,0)","v":0},{"$f":"IF(AND($B78=$U$5,$D78=$U$6,$A78=$U$4,C78=$R$4),J78*$U$7,0)","v":0},{"$f":"IF(AND($B78=$U$5,$D78=$U$6,$A78=$U$4,C78=$R$4),K78*$U$7,0)","v":0}]
[16,"Factory-1","Original","WOAK",0.224,0.13500000000000001,3.5000000000000003E-2,0.28299999999999997,0.191,7.4999999999999997E-2,5.7000000000000002E-2,0,0,0,0,0,0,0,null,0,0,0,0,0,0,0]
[17,"Factory-1","Original","WOAK",0.188,0.107,7.0999999999999994E-2,0.222,0.28100000000000003,9.4E-2,3.6999999999999998E-2,0,0,0,0,0,0,0,null,0,0,0,0,0,0,0]
[18,"Factory-1","Original","WOAK",0.13700000000000001,8.5000000000000006E-2,2.8000000000000001E-2,0.218,0.29399999999999998,0.13900000000000001,9.9000000000000005E-2,0,0,0,0,0,0,0,null,0,0,0,0,0,0,0]
[19,"Factory-1","Original","WOAK",0.154,9.1999999999999998E-2,3.3000000000000002E-2,0.36499999999999999,0.26400000000000001,7.0999999999999994E-2,2.1000000000000001E-2,0,0,0,0,0,0,0,null,0,0,0,0,0,0,0]
[20,"Factory-1","Original","WOAK",0.20200000000000001,0.13500000000000001,4.2000000000000003E-2,0.255,0.214,8.5000000000000006E-2,6.7000000000000004E-2,0,0,0,0,0,0,0,null,0,0,0,0,0,0,0]
[21,"Factory-1","Original","WOAK",0.16800000000000001,0.151,5.8000000000000003E-2,0.28199999999999997,0.184,9.5000000000000001E-2,6.2E-2,0,0,0,0,0,0,0,null,0,0,0,0,0,0,0]
[22,"Factory-1","Original","WOAK",0.14199999999999999,0.19400000000000001,3.2000000000000001E-2,0.40300000000000002,0.16800000000000001,4.3999999999999997E-2,1.7000000000000001E-2,0,0,0,0,0,0,0,null,0,0,0,0,0,0,0]
[23,"Factory-1","Original","WOAK",0.17,0.09,4.5999999999999999E-2,0.28999999999999998,0.33800000000000002,4.3999999999999997E-2,2.1999999999999999E-2,0,0,0,0,0,0,0,null,0,0,0,0,0,0,0]
[24,"Factory-1","Original","WOAK",0.13100000000000001,0.16600000000000001,8.9999999999999993E-3,0.41099999999999998,0.20200000000000001,5.2999999999999999E-2,2.8000000000000001E-2,0,0,0,0,0,0,0,null,0,0,0,0,0,0,0]
[26,"Factory-1","Original","WOAK",0.19,0.114,3.1E-2,0.35099999999999998,0.14799999999999999,0.13500000000000001,3.1E-2,0,0,0,0,0,0,0,null,0,0,0,0,0,0,0]
[27,"Factory-1","Original","WOAK",0.22700000000000001,2.3E-2,3.1E-2,0.57699999999999996,0.14199999999999999,0,0,0,0,0,0,0,0,0,null,0,0,0,0,0,0,0]
[28,"Factory-1","Original","WOAK",{"$f":"AVERAGE(E$86:E$89)","v":0.17950000000000002},9.8250000000000004E-2,2.9249999999999998E-2,0.40725,0.20750000000000002,5.8000000000000003E-2,2.0250000000000001E-2,0,0,0,0,0,0,0,null,0,0,0,0,0,0,0]
[29,"Factory-1","Original","WOAK",0.17950000000000002,9.8250000000000004E-2,2.9249999999999998E-2,0.40725,0.20750000000000002,5.8000000000000003E-2,2.0250000000000001E-2,0,0,0,0,0,0,0,null,0,0,0,0,0,0,0]
[30,"Factory-1","Original","WOAK",0.17950000000000002,9.8250000000000004E-2,2.9249999999999998E-2,0.40725,0.20750000000000002,5.8000000000000003E-2,2.0250000000000001E-2,0,0,0,0,0,0,0,null,0,0,0,0,0,0,0]
[10,"Factory-2","Original","WOAK",0,0,4.4999999999999998E-2,9.5000000000000001E-2,0.41199999999999998,0.24399999999999999,0.20399999999999999,0,0,0,0,0,0,0,null,0,0,0,0,0,0,0]
[11,"Factory-2","Original","WOAK",1.4999999999999999E-2,4.2000000000000003E-2,4.2000000000000003E-2,0.13500000000000001,0.33700000000000002,0.22,0.20899999999999999,0,0,0,0,0,0,0,null,0,0,0,0,0,0,0]
[12,"Factory-2","Original","WOAK",1.0999999999999999E-2,6.2E-2,1.2999999999999999E-2,0.19400000000000001,0.39200000000000002,0.18099999999999999,0.14699999999999999,0,0,0,0,0,0,0,null,0,0,0,0,0,0,0]
[13,"Factory-2","Original","WOAK",2.3E-2,4.3999999999999997E-2,1.0999999999999999E-2,0.17699999999999999,0.39500000000000002,0.215,0.13500000000000001,0,0,0,0,0,0,0,null,0,0,0,0,0,0,0]
[14,"Factory-2","Original","WOAK",3.4000000000000002E-2,4.2000000000000003E-2,1.2E-2,0.221,0.38,0.20799999999999999,0.10299999999999999,0,0,0,0,0,0,0,null,0,0,0,0,0,0,0]
[15,"Factory-2","Original","WOAK",3.7999999999999999E-2,4.3999999999999997E-2,3.5000000000000003E-2,0.26,0.36699999999999999,0.151,0.105,0,0,0,0,0,0,0,null,0,0,0,0,0,0,0]
[16,"Factory-2","Original","WOAK",6.8000000000000005E-2,7.9000000000000001E-2,2.1999999999999999E-2,0.27100000000000002,0.34899999999999998,0.13,8.1000000000000003E-2,0,0,0,0,0,0,0,null,0,0,0,0,0,0,0]
[17,"Factory-2","Original","WOAK",6.4000000000000001E-2,0.05,1.7999999999999999E-2,0.31,0.33700000000000002,0.113,0.108,0,0,0,0,0,0,0,null,0,0,0,0,0,0,0]
[18,"Factory-2","Original","WOAK",5.0999999999999997E-2,3.7999999999999999E-2,2.7E-2,0.34,0.34799999999999998,0.122,7.3999999999999996E-2,0,0,0,0,0,0,0,null,0,0,0,0,0,0,0]
[19,"Factory-2","Original","WOAK",9.6000000000000002E-2,4.2000000000000003E-2,0.02,0.32900000000000001,0.33600000000000002,0.124,5.2999999999999999E-2,0,0,0,0,0,0,0,null,0,0,0,0,0,0,0]
[20,"Factory-2","Original","WOAK",7.1999999999999995E-2,4.7E-2,1.4E-2,0.43,0.28799999999999998,8.6999999999999994E-2,6.2E-2,0,0,0,0,0,0,0,null,0,0,0,0,0,0,0]
[21,"Factory-2","Original","WOAK",5.6000000000000001E-2,0.09,2.7E-2,0.36699999999999999,0.31900000000000001,8.3000000000000004E-2,5.8000000000000003E-2,0,0,0,0,0,0,0,null,0,0,0,0,0,0,0]
[22,"Factory-2","Original","WOAK",8.2000000000000003E-2,6.3E-2,1.7999999999999999E-2,0.34499999999999997,0.29499999999999998,0.14299999999999999,5.3999999999999999E-2,0,0,0,0,0,0,0,null,0,0,0,0,0,0,0]
[23,"Factory-2","Original","WOAK",1.0999999999999999E-2,3.3000000000000002E-2,0.01,0.373,0.48599999999999999,8.6999999999999994E-2,0,0,0,0,0,0,0,0,null,0,0,0,0,0,0,0]
[24,"Factory-2","Original","WOAK",6.8000000000000005E-2,7.8E-2,0,0.33800000000000002,0.42299999999999999,3.3000000000000002E-2,0.06,0,0,0,0,0,0,0,null,0,0,0,0,0,0,0]
[25,"Factory-2","Original","WOAK",3.4000000000000002E-2,6.9000000000000006E-2,0,0.42799999999999999,0.23300000000000001,0.153,8.3000000000000004E-2,0,0,0,0,0,0,0,null,0,0,0,0,0,0,0]
[26,"Factory-2","Original","WOAK",{"$f":"AVERAGE(E$103:E$108)","v":5.3833333333333344E-2},6.3333333333333339E-2,1.1499999999999998E-2,0.38016666666666671,0.34066666666666667,9.7666666666666666E-2,5.2833333333333336E-2,0,0,0,0,0,0,0,null,0,0,0,0,0,0,0]
[27,"Factory-2","Original","WOAK",5.3833333333333344E-2,6.3333333333333339E-2,1.1499999999999998E-2,0.38016666666666671,0.34066666666666667,9.7666666666666666E-2,5.2833333333333336E-2,0,0,0,0,0,0,0,null,0,0,0,0,0,0,0]
[28,"Factory-2","Original","WOAK",5.3833333333333344E-2,6.3333333333333339E-2,1.1499999999999998E-2,0.38016666666666671,0.34066666666666667,9.7666666666666666E-2,5.2833333333333336E-2,0,0,0,0,0,0,0,null,0,0,0,0,0,0,0]
[29,"Factory-2","Original","WOAK",5.3833333333333344E-2,6.3333333333333339E-2,1.1499999999999998E-2,0.38016666666666671,0.34066666666666667,9.7666666666666666E-2,5.2833333333333336E-2,0,0,0,0,0,0,0,null,0,0,0,0,0,0,0]
[30,"Factory-2","Original","WOAK",5.3833333333333344E-2,6.3333333333333339E-2,1.1499999999999998E-2,0.38016666666666671,0.34066666666666667,9.7666666666666666E-2,5.2833333333333336E-2,0,0,0,0,0,0,0,null,0,0,0,0,0,0,0]
[8,"Factory-3","Original","WOAK",0,0,0,1.7000000000000001E-2,9.7000000000000003E-2,0.251,0.63500000000000001,0,0,0,0,0,0,0,null,0,0,0,0,0,0,0]
[9,"Factory-3","Original","WOAK",3.0000000000000001E-3,1.6E-2,2E-3,2.1999999999999999E-2,0.184,0.246,0.52700000000000002,0,0,0,0,0,0,0,null,0,0,0,0,0,0,0]
[10,"Factory-3","Original","WOAK",0,6.0000000000000001E-3,8.9999999999999993E-3,4.7E-2,0.27500000000000002,0.27500000000000002,0.38800000000000001,0,0,0,0,0,0,0,null,0,0,0,0,0,0,0]
[11,"Factory-3","Original","WOAK",0,0,3.0000000000000001E-3,5.8999999999999997E-2,0.39800000000000002,0.29199999999999998,0.248,0,0,0,0,0,0,0,null,0,0,0,0,0,0,0]
[12,"Factory-3","Original","WOAK",8.0000000000000002E-3,1.0999999999999999E-2,1E-3,7.9000000000000001E-2,0.376,0.29699999999999999,0.22800000000000001,0,0,0,0,0,0,0,null,0,0,0,0,0,0,0]
[13,"Factory-3","Original","WOAK",7.0000000000000001E-3,5.0000000000000001E-3,2E-3,8.7999999999999995E-2,0.436,0.22500000000000001,0.23699999999999999,0,0,0,0,0,0,0,null,0,0,0,0,0,0,0]
[14,"Factory-3","Original","WOAK",1.2999999999999999E-2,1.6E-2,8.0000000000000002E-3,0.13100000000000001,0.436,0.22,0.17599999999999999,0,0,0,0,0,0,0,null,0,0,0,0,0,0,0]
[15,"Factory-3","Original","WOAK",7.0000000000000001E-3,1.9E-2,1E-3,0.183,0.47599999999999998,0.183,0.13100000000000001,0,0,0,0,0,0,0,null,0,0,0,0,0,0,0]
[16,"Factory-3","Original","WOAK",0.01,8.9999999999999993E-3,1.6E-2,0.17,0.48799999999999999,0.17,0.13700000000000001,0,0,0,0,0,0,0,null,0,0,0,0,0,0,0]
[17,"Factory-3","Original","WOAK",0.01,2.9000000000000001E-2,1.2999999999999999E-2,0.19700000000000001,0.47099999999999997,0.16700000000000001,0.113,0,0,0,0,0,0,0,null,0,0,0,0,0,0,0]
[18,"Factory-3","Original","WOAK",7.0000000000000001E-3,1.4999999999999999E-2,0,0.31,0.41599999999999998,0.154,9.8000000000000004E-2,0,0,0,0,0,0,0,null,0,0,0,0,0,0,0]
[19,"Factory-3","Original","WOAK",4.1000000000000002E-2,5.5E-2,3.0000000000000001E-3,0.29699999999999999,0.307,0.14499999999999999,0.152,0,0,0,0,0,0,0,null,0,0,0,0,0,0,0]
[20,"Factory-3","Original","WOAK",1.6E-2,3.7999999999999999E-2,0,0.255,0.434,0.14699999999999999,0.11,0,0,0,0,0,0,0,null,0,0,0,0,0,0,0]
[21,"Factory-3","Original","WOAK",3.5999999999999997E-2,7.1999999999999995E-2,8.0000000000000002E-3,0.42299999999999999,0.41799999999999998,4.2999999999999997E-2,0,0,0,0,0,0,0,0,null,0,0,0,0,0,0,0]
[22,"Factory-3","Original","WOAK",3.1E-2,7.9000000000000001E-2,0,0.28199999999999997,0.40200000000000002,0.17499999999999999,3.1E-2,0,0,0,0,0,0,0,null,0,0,0,0,0,0,0]
[23,"Factory-3","Original","WOAK",0,0,0,5.0999999999999997E-2,5.0999999999999997E-2,0.55000000000000004,0.34799999999999998,0,0,0,0,0,0,0,null,0,0,0,0,0,0,0]
[24,"Factory-3","Original","WOAK",0,6.6000000000000003E-2,0,0.38500000000000001,0.34799999999999998,0.13100000000000001,7.0000000000000007E-2,0,0,0,0,0,0,0,null,0,0,0,0,0,0,0]
[25,"Factory-3","Original","WOAK",{"$f":"AVERAGE(E$126:E$130)","v":1.6599999999999997E-2},5.1000000000000004E-2,1.6000000000000001E-3,0.2792,0.3306,0.2092,0.11179999999999998,0,0,0,0,0,0,0,null,0,0,0,0,0,0,0]
[26,"Factory-3","Original","WOAK",1.6599999999999997E-2,5.1000000000000004E-2,1.6000000000000001E-3,0.2792,0.3306,0.2092,0.11179999999999998,0,0,0,0,0,0,0,null,0,0,0,0,0,0,0]
[27,"Factory-3","Original","WOAK",1.6599999999999997E-2,5.1000000000000004E-2,1.6000000000000001E-3,0.2792,0.3306,0.2092,0.11179999999999998,0,0,0,0,0,0,0,null,0,0,0,0,0,0,0]
[28,"Factory-3","Original","WOAK",1.6599999999999997E-2,5.1000000000000004E-2,1.6000000000000001E-3,0.2792,0.3306,0.2092,0.11179999999999998,0,0,0,0,0,0,0,null,0,0,0,0,0,0,0]
[29,"Factory-3","Original","WOAK",1.6599999999999997E-2,5.1000000000000004E-2,1.6000000000000001E-3,0.2792,0.3306,0.2092,0.11179999999999998,0,0,0,0,0,0,0,null,0,0,0,0,0,0,0]
[30,"Factory-3","Original","WOAK",1.6599999999999997E-2,5.1000000000000004E-2,1.6000000000000001E-3,0.2792,0.3306,0.2092,0.11179999999999998,0,0,0,0,0,0,0,null,0,0,0,0,0,0,0]
[13,"Factory-1","Original","YPOP",8.0000000000000002E-3,8.1000000000000003E-2,5.5E-2,0.35899999999999999,0.26300000000000001,0.158,7.5999999999999998E-2,0,0,0,0,0,0,0,null,0,0,0,0,0,0,0]
[14,"Factory-1","Original","YPOP",2.8000000000000001E-2,0.115,6.5000000000000002E-2,0.39,0.31900000000000001,5.8000000000000003E-2,2.5000000000000001E-2,0,0,0,0,0,0,0,null,0,0,0,0,0,0,0]
[15,"Factory-1","Original","YPOP",3.1E-2,5.6000000000000001E-2,8.3000000000000004E-2,0.39300000000000002,0.34399999999999997,6.5000000000000002E-2,2.8000000000000001E-2,0,0,0,0,0,0,0,null,0,0,0,0,0,0,0]
[16,"Factory-1","Original","YPOP",0.06,0.112,7.1999999999999995E-2,0.38500000000000001,0.252,7.5999999999999998E-2,4.2999999999999997E-2,0,0,0,0,0,0,0,null,0,0,0,0,0,0,0]
[17,"Factory-1","Original","YPOP",6.4000000000000001E-2,4.3999999999999997E-2,8.5000000000000006E-2,0.41299999999999998,0.26900000000000002,7.1999999999999995E-2,5.2999999999999999E-2,0,0,0,0,0,0,0,null,0,0,0,0,0,0,0]
[18,"Factory-1","Original","YPOP",3.6999999999999998E-2,0.10299999999999999,9.5000000000000001E-2,0.378,0.28199999999999997,6.9000000000000006E-2,3.5999999999999997E-2,{"$f":"IF(AND($B142=$M$5,$D142=$M$6,$A142=$M$4,C142=$R$4),E142*$M$7,0)","v":0},{"$f":"IF(AND($B142=$M$5,$D142=$M$6,$A142=$M$4,C142=$R$4),F142*$M$7,0)","v":0},{"$f":"IF(AND($B142=$M$5,$D142=$M$6,$A142=$M$4,C142=$R$4),G142*$M$7,0)","v":0},{"$f":"IF(AND($B142=$M$5,$D142=$M$6,$A142=$M$4,C142=$R$4),H142*$M$7,0)","v":0},{"$f":"IF(AND($B142=$M$5,$D142=$M$6,$A142=$M$4,C142=$R$4),I142*$M$7,0)","v":0},{"$f":"IF(AND($B142=$M$5,$D142=$M$6,$A142=$M$4,C142=$R$4),J142*$M$7,0)","v":0},{"$f":"IF(AND($B142=$M$5,$D142=$M$6,$A142=$M$4,C142=$R$4),K142*$M$7,0)","v":0},null,{"$f":"IF(AND($B142=$U$5,$D142=$U$6,$A142=$U$4,C142=$R$4),E142*$U$7,0)","v":0},{"$f":"IF(AND($B142=$U$5,$D142=$U$6,$A142=$U$4,C142=$R$4),F142*$U$7,0)","v":0},{"$f":"IF(AND($B142=$U$5,$D142=$U$6,$A142=$U$4,C142=$R$4),G142*$U$7,0)","v":0},{"$f":"IF(AND($B142=$U$5,$D142=$U$6,$A142=$U$4,C142=$R$4),H142*$U$7,0)","v":0},{"$f":"IF(AND($B142=$U$5,$D142=$U$6,$A142=$U$4,C142=$R$4),I142*$U$7,0)","v":0},{"$f":"IF(AND($B142=$U$5,$D142=$U$6,$A142=$U$4,C142=$R$4),J142*$U$7,0)","v":0},{"$f":"IF(AND($B142=$U$5,$D142=$U$6,$A142=$U$4,C142=$R$4),K142*$U$7,0)","v":0}]
[19,"Factory-1","Original","YPOP",6.3E-2,5.6000000000000001E-2,0.11799999999999999,0.42899999999999999,0.23400000000000001,5.8999999999999997E-2,4.1000000000000002E-2,0,0,0,0,0,0,0,null,0,0,0,0,0,0,0]
[20,"Factory-1","Original","YPOP",7.5999999999999998E-2,0.08,0.14000000000000001,0.439,0.17699999999999999,6.8000000000000005E-2,0.02,0,0,0,0,0,0,0,null,0,0,0,0,0,0,0]
[21,"Factory-1","Original","YPOP",0.114,0.04,0.10299999999999999,0.41799999999999998,0.188,0.112,2.5000000000000001E-2,0,0,0,0,0,0,0,null,0,0,0,0,0,0,0]
[22,"Factory-1","Original","YPOP",6.4000000000000001E-2,7.8E-2,3.4000000000000002E-2,0.44400000000000001,0.28799999999999998,6.4000000000000001E-2,2.8000000000000001E-2,0,0,0,0,0,0,0,null,0,0,0,0,0,0,0]
[23,"Factory-1","Original","YPOP",0.111,2.4E-2,8.5999999999999993E-2,0.46899999999999997,0.20300000000000001,2.8000000000000001E-2,7.9000000000000001E-2,0,0,0,0,0,0,0,null,0,0,0,0,0,0,0]
[24,"Factory-1","Original","YPOP",7.8E-2,5.8999999999999997E-2,8.1000000000000003E-2,0.36799999999999999,0.35599999999999998,3.3000000000000002E-2,2.5000000000000001E-2,0,0,0,0,0,0,0,null,0,0,0,0,0,0,0]
[25,"Factory-1","Original","YPOP",0.188,0.115,3.6999999999999998E-2,0.52100000000000002,0.112,6.0000000000000001E-3,2.1000000000000001E-2,0,0,0,0,0,0,0,null,0,0,0,0,0,0,0]
[26,"Factory-1","Original","YPOP",0.188,0.115,3.6999999999999998E-2,0.52100000000000002,0.112,6.0000000000000001E-3,2.1000000000000001E-2,0,0,0,0,0,0,0,null,0,0,0,0,0,0,0]
[27,"Factory-1","Original","YPOP",0.188,0.115,3.6999999999999998E-2,0.52100000000000002,0.112,6.0000000000000001E-3,2.1000000000000001E-2,0,0,0,0,0,0,0,null,0,0,0,0,0,0,0]
[28,"Factory-1","Original","YPOP",0.188,0.115,3.6999999999999998E-2,0.52100000000000002,0.112,6.0000000000000001E-3,2.1000000000000001E-2,0,0,0,0,0,0,0,null,0,0,0,0,0,0,0]
[29,"Factory-1","Original","YPOP",0.188,0.115,3.6999999999999998E-2,0.52100000000000002,0.112,6.0000000000000001E-3,2.1000000000000001E-2,0,0,0,0,0,0,0,null,0,0,0,0,0,0,0]
[30,"Factory-1","Original","YPOP",0.188,0.115,3.6999999999999998E-2,0.52100000000000002,0.112,6.0000000000000001E-3,2.1000000000000001E-2,0,0,0,0,0,0,0,null,0,0,0,0,0,0,0]
[10,"Factory-2","Original","YPOP",1.4E-2,0.01,3.4000000000000002E-2,0.309,0.32700000000000001,0.20599999999999999,0.1,0,0,0,0,0,0,0,null,0,0,0,0,0,0,0]
[11,"Factory-2","Original","YPOP",4.0000000000000001E-3,3.2000000000000001E-2,7.0000000000000001E-3,0.27100000000000002,0.32600000000000001,0.23599999999999999,0.124,0,0,0,0,0,0,0,null,0,0,0,0,0,0,0]
[12,"Factory-2","Original","YPOP",7.0000000000000001E-3,2.8000000000000001E-2,2.9000000000000001E-2,0.29199999999999998,0.36699999999999999,0.20300000000000001,7.3999999999999996E-2,0,0,0,0,0,0,0,null,0,0,0,0,0,0,0]
[13,"Factory-2","Original","YPOP",8.9999999999999993E-3,2.5999999999999999E-2,3.1E-2,0.309,0.36899999999999999,0.19600000000000001,0.06,0,0,0,0,0,0,0,null,0,0,0,0,0,0,0]
[14,"Factory-2","Original","YPOP",8.9999999999999993E-3,3.7999999999999999E-2,2.7E-2,0.318,0.36499999999999999,0.16200000000000001,8.1000000000000003E-2,0,0,0,0,0,0,0,null,0,0,0,0,0,0,0]
[15,"Factory-2","Original","YPOP",1.9E-2,3.5000000000000003E-2,4.8000000000000001E-2,0.32800000000000001,0.311,0.19700000000000001,6.2E-2,0,0,0,0,0,0,0,null,0,0,0,0,0,0,0]
[16,"Factory-2","Original","YPOP",1.6E-2,2.5999999999999999E-2,6.0999999999999999E-2,0.34100000000000003,0.308,0.20899999999999999,3.9E-2,0,0,0,0,0,0,0,null,0,0,0,0,0,0,0]
[17,"Factory-2","Original","YPOP",2.3E-2,3.5999999999999997E-2,2.5000000000000001E-2,0.46300000000000002,0.29899999999999999,0.11799999999999999,3.5999999999999997E-2,0,0,0,0,0,0,0,null,0,0,0,0,0,0,0]
[18,"Factory-2","Original","YPOP",2.7E-2,3.3000000000000002E-2,0.06,0.38900000000000001,0.317,0.11,6.4000000000000001E-2,0,0,0,0,0,0,0,null,0,0,0,0,0,0,0]
[19,"Factory-2","Original","YPOP",5.8999999999999997E-2,0.04,8.4000000000000005E-2,0.39500000000000002,0.312,9.2999999999999999E-2,1.7000000000000001E-2,0,0,0,0,0,0,0,null,0,0,0,0,0,0,0]
[20,"Factory-2","Original","YPOP",0.03,0.01,4.2000000000000003E-2,0.41199999999999998,0.36499999999999999,9.5000000000000001E-2,4.5999999999999999E-2,0,0,0,0,0,0,0,null,0,0,0,0,0,0,0]
[21,"Factory-2","Original","YPOP",2.3E-2,3.1E-2,4.5999999999999999E-2,0.51700000000000002,0.27500000000000002,9.0999999999999998E-2,1.7000000000000001E-2,0,0,0,0,0,0,0,null,0,0,0,0,0,0,0]
[22,"Factory-2","Original","YPOP",2.1999999999999999E-2,8.0000000000000002E-3,2.1999999999999999E-2,0.35199999999999998,0.39100000000000001,0.14299999999999999,6.2E-2,0,0,0,0,0,0,0,null,0,0,0,0,0,0,0]
[23,"Factory-2","Original","YPOP",2.1999999999999999E-2,8.0000000000000002E-3,2.1999999999999999E-2,0.35199999999999998,0.39100000000000001,0.14299999999999999,6.2E-2,0,0,0,0,0,0,0,null,0,0,0,0,0,0,0]
[24,"Factory-2","Original","YPOP",1.4E-2,0,0.05,0.48399999999999999,0.34499999999999997,7.0000000000000007E-2,3.6999999999999998E-2,0,0,0,0,0,0,0,null,0,0,0,0,0,0,0]
[25,"Factory-2","Original","YPOP",1.4E-2,0,0.05,0.48399999999999999,0.34499999999999997,7.0000000000000007E-2,3.6999999999999998E-2,0,0,0,0,0,0,0,null,0,0,0,0,0,0,0]
[26,"Factory-2","Original","YPOP",{"$f":"AVERAGE(E$172,E$170,E$169,E$168,E$167,E$166)","v":3.9166666666666669E-2},1.2166666666666668E-2,7.2499999999999995E-2,0.43883333333333324,0.30483333333333335,8.7666666666666671E-2,4.4833333333333336E-2,0,0,0,0,0,0,0,null,0,0,0,0,0,0,0]
[27,"Factory-2","Original","YPOP",0.14000000000000001,2.5999999999999999E-2,0.245,0.44400000000000001,8.2000000000000003E-2,8.9999999999999993E-3,5.3999999999999999E-2,0,0,0,0,0,0,0,null,0,0,0,0,0,0,0]
[28,"Factory-2","Original","YPOP",{"$f":"AVERAGE(E$172,E$170,E$169,E$168,E$167,E$166)","v":3.9166666666666669E-2},1.2166666666666668E-2,7.2499999999999995E-2,0.43883333333333324,0.30483333333333335,8.7666666666666671E-2,4.4833333333333336E-2,0,0,0,0,0,0,0,null,0,0,0,0,0,0,0]
[29,"Factory-2","Original","YPOP",3.9166666666666669E-2,1.2166666666666668E-2,7.2499999999999995E-2,0.43883333333333324,0.30483333333333335,8.7666666666666671E-2,4.4833333333333336E-2,0,0,0,0,0,0,0,null,0,0,0,0,0,0,0]
[20,"Factory-2","Original","YPOP",3.9166666666666669E-2,1.2166666666666668E-2,7.2499999999999995E-2,0.43883333333333324,0.30483333333333335,8.7666666666666671E-2,4.4833333333333336E-2,0,0,0,0,0,0,0,null,0,0,0,0,0,0,0]
[8,"Factory-3","Original","YPOP",0,2E-3,2E-3,0.05,0.17199999999999999,0.54100000000000004,0.23300000000000001,0,0,0,0,0,0,0,null,0,0,0,0,0,0,0]
[9,"Factory-3","Original","YPOP",0,2E-3,3.0000000000000001E-3,7.0999999999999994E-2,0.20599999999999999,0.497,0.221,0,0,0,0,0,0,0,null,0,0,0,0,0,0,0]
[10,"Factory-3","Original","YPOP",0,1E-3,0,0.1,0.30299999999999999,0.47099999999999997,0.125,0,0,0,0,0,0,0,null,0,0,0,0,0,0,0]
[11,"Factory-3","Original","YPOP",1E-3,4.0000000000000001E-3,3.0000000000000001E-3,0.115,0.309,0.41899999999999998,0.14899999999999999,0,0,0,0,0,0,0,null,0,0,0,0,0,0,0]
[12,"Factory-3","Original","YPOP",0,8.9999999999999993E-3,5.0000000000000001E-3,0.14299999999999999,0.35099999999999998,0.38500000000000001,0.107,0,0,0,0,0,0,0,null,0,0,0,0,0,0,0]
[13,"Factory-3","Original","YPOP",0,0.01,1E-3,0.186,0.379,0.34899999999999998,7.4999999999999997E-2,0,0,0,0,0,0,0,null,0,0,0,0,0,0,0]
[14,"Factory-3","Original","YPOP",1E-3,5.0000000000000001E-3,7.0000000000000001E-3,0.217,0.36899999999999999,0.33700000000000002,6.4000000000000001E-2,0,0,0,0,0,0,0,null,0,0,0,0,0,0,0]
[15,"Factory-3","Original","YPOP",1E-3,1.2999999999999999E-2,7.0000000000000001E-3,0.24,0.41899999999999998,0.26300000000000001,5.7000000000000002E-2,0,0,0,0,0,0,0,null,0,0,0,0,0,0,0]
[16,"Factory-3","Original","YPOP",2E-3,1.0999999999999999E-2,2.5000000000000001E-2,0.311,0.38700000000000001,0.21099999999999999,5.2999999999999999E-2,0,0,0,0,0,0,0,null,0,0,0,0,0,0,0]
[17,"Factory-3","Original","YPOP",1.0999999999999999E-2,7.0000000000000001E-3,1.7999999999999999E-2,0.40100000000000002,0.35899999999999999,0.15,5.3999999999999999E-2,0,0,0,0,0,0,0,null,0,0,0,0,0,0,0]
[18,"Factory-3","Original","YPOP",0.01,2.5999999999999999E-2,2.5000000000000001E-2,0.40300000000000002,0.29599999999999999,0.219,2.1000000000000001E-2,0,0,0,0,0,0,0,null,0,0,0,0,0,0,0]
[19,"Factory-3","Original","YPOP",4.0000000000000001E-3,1.7999999999999999E-2,2.5000000000000001E-2,0.35599999999999998,0.35599999999999998,0.20599999999999999,3.5000000000000003E-2,0,0,0,0,0,0,0,null,0,0,0,0,0,0,0]
[20,"Factory-3","Original","YPOP",3.5000000000000003E-2,5.0000000000000001E-3,2.5999999999999999E-2,0.54200000000000004,0.23599999999999999,0.14399999999999999,1.2E-2,0,0,0,0,0,0,0,null,0,0,0,0,0,0,0]
[21,"Factory-3","Original","YPOP",0,0.215,0,0.433,0.33300000000000002,1.9E-2,0,0,0,0,0,0,0,0,null,0,0,0,0,0,0,0]
[22,"Factory-3","Original","YPOP",0.09,9.2999999999999999E-2,4.9000000000000002E-2,0.379,0.16800000000000001,0.129,9.1999999999999998E-2,0,0,0,0,0,0,0,null,0,0,0,0,0,0,0]
[23,"Factory-3","Original","YPOP",0,0,0,0.29199999999999998,0.41299999999999998,0.24,5.5E-2,0,0,0,0,0,0,0,null,0,0,0,0,0,0,0]
[24,"Factory-3","Original","YPOP",0,0,0,0.38100000000000001,0.495,0.124,0,0,0,0,0,0,0,0,null,0,0,0,0,0,0,0]
[25,"Factory-3","Original","YPOP",0,0,0,0.38100000000000001,0.495,0.124,0,0,0,0,0,0,0,0,null,0,0,0,0,0,0,0]
[26,"Factory-3","Original","YPOP",0,0,0,0.217,0.503,6.3E-2,0.217,0,0,0,0,0,0,0,null,0,0,0,0,0,0,0]
[27,"Factory-3","Original","YPOP",0,0.04,0.02,0.439,0.34,0.111,0.05,0,0,0,0,0,0,0,null,0,0,0,0,0,0,0]
[28,"Factory-3","Original","YPOP",{"$f":"AVERAGE(E$189:E$195)","v":1.2857142857142857E-2},4.9714285714285711E-2,9.8571428571428577E-3,0.36028571428571432,0.3924285714285714,0.11571428571428573,5.9142857142857143E-2,0,0,0,0,0,0,0,null,0,0,0,0,0,0,0]
[29,"Factory-3","Original","YPOP",1.2857142857142857E-2,4.9714285714285711E-2,9.8571428571428577E-3,0.36028571428571432,0.3924285714285714,0.11571428571428573,5.9142857142857143E-2,0,0,0,0,0,0,0,null,0,0,0,0,0,0,0]
[30,"Factory-3","Original","YPOP",1.2857142857142857E-2,4.9714285714285711E-2,9.8571428571428577E-3,0.36028571428571432,0.3924285714285714,0.11571428571428573,5.9142857142857143E-2,0,0,0,0,0,0,0,null,0,0,0,0,0,0,0]
[13,"Factory-1","Original","HMAP",0.14699999999999999,0.13200000000000001,4.1000000000000002E-2,0.26700000000000002,0.14199999999999999,0.105,0.16600000000000001,0,0,0,0,0,0,0,null,0,0,0,0,0,0,0]
[14,"Factory-1","Original","HMAP",0.23200000000000001,0.127,4.3999999999999997E-2,0.247,0.151,7.0000000000000007E-2,0.129,0,0,0,0,0,0,0,null,0,0,0,0,0,0,0]
[15,"Factory-1","Original","HMAP",0.24199999999999999,0.11700000000000001,3.5000000000000003E-2,0.23699999999999999,0.14099999999999999,8.5000000000000006E-2,0.14299999999999999,0,0,0,0,0,0,0,null,0,0,0,0,0,0,0]
[16,"Factory-1","Original","HMAP",0.19500000000000001,0.115,3.1E-2,0.27500000000000002,0.17,6.9000000000000006E-2,0.14499999999999999,0,0,0,0,0,0,0,null,0,0,0,0,0,0,0]
[17,"Factory-1","Original","HMAP",0.20899999999999999,0.13,3.4000000000000002E-2,0.28100000000000003,0.16600000000000001,5.8999999999999997E-2,0.121,0,0,0,0,0,0,0,null,0,0,0,0,0,0,0]
[18,"Factory-1","Original","HMAP",0.24299999999999999,0.13300000000000001,3.1E-2,0.25,0.157,0.06,0.127,0,0,0,0,0,0,0,null,0,0,0,0,0,0,0]
[19,"Factory-1","Original","HMAP",0.214,0.11700000000000001,2.5999999999999999E-2,0.28100000000000003,0.17299999999999999,6.5000000000000002E-2,0.124,0,0,0,0,0,0,0,null,0,0,0,0,0,0,0]
[20,"Factory-1","Original","HMAP",0.26600000000000001,0.13100000000000001,2.7E-2,0.25800000000000001,0.156,7.0999999999999994E-2,9.0999999999999998E-2,{"$f":"IF(AND($B206=$M$5,$D206=$M$6,$A206=$M$4,C206=$R$4),E206*$M$7,0)","v":0},{"$f":"IF(AND($B206=$M$5,$D206=$M$6,$A206=$M$4,C206=$R$4),F206*$M$7,0)","v":0},{"$f":"IF(AND($B206=$M$5,$D206=$M$6,$A206=$M$4,C206=$R$4),G206*$M$7,0)","v":0},{"$f":"IF(AND($B206=$M$5,$D206=$M$6,$A206=$M$4,C206=$R$4),H206*$M$7,0)","v":0},{"$f":"IF(AND($B206=$M$5,$D206=$M$6,$A206=$M$4,C206=$R$4),I206*$M$7,0)","v":0},{"$f":"IF(AND($B206=$M$5,$D206=$M$6,$A206=$M$4,C206=$R$4),J206*$M$7,0)","v":0},{"$f":"IF(AND($B206=$M$5,$D206=$M$6,$A206=$M$4,C206=$R$4),K206*$M$7,0)","v":0},null,{"$f":"IF(AND($B206=$U$5,$D206=$U$6,$A206=$U$4,C206=$R$4),E206*$U$7,0)","v":0},{"$f":"IF(AND($B206=$U$5,$D206=$U$6,$A206=$U$4,C206=$R$4),F206*$U$7,0)","v":0},{"$f":"IF(AND($B206=$U$5,$D206=$U$6,$A206=$U$4,C206=$R$4),G206*$U$7,0)","v":0},{"$f":"IF(AND($B206=$U$5,$D206=$U$6,$A206=$U$4,C206=$R$4),H206*$U$7,0)","v":0},{"$f":"IF(AND($B206=$U$5,$D206=$U$6,$A206=$U$4,C206=$R$4),I206*$U$7,0)","v":0},{"$f":"IF(AND($B206=$U$5,$D206=$U$6,$A206=$U$4,C206=$R$4),J206*$U$7,0)","v":0},{"$f":"IF(AND($B206=$U$5,$D206=$U$6,$A206=$U$4,C206=$R$4),K206*$U$7,0)","v":0}]
[21,"Factory-1","Original","HMAP",0.27700000000000002,0.13900000000000001,2.8000000000000001E-2,0.26800000000000002,0.14399999999999999,7.0999999999999994E-2,7.2999999999999995E-2,0,0,0,0,0,0,0,null,0,0,0,0,0,0,0]
[22,"Factory-1","Original","HMAP",0.20899999999999999,8.8999999999999996E-2,3.2000000000000001E-2,0.316,0.192,7.1999999999999995E-2,0.09,0,0,0,0,0,0,0,null,0,0,0,0,0,0,0]
[23,"Factory-1","Original","HMAP",0.35699999999999998,0.125,2.8000000000000001E-2,0.24199999999999999,0.105,6.8000000000000005E-2,7.4999999999999997E-2,0,0,0,0,0,0,0,null,0,0,0,0,0,0,0]
[24,"Factory-1","Original","HMAP",0.52800000000000002,5.1999999999999998E-2,1.6E-2,0.23599999999999999,8.8999999999999996E-2,6.3E-2,1.6E-2,0,0,0,0,0,0,0,null,0,0,0,0,0,0,0]
[25,"Factory-1","Original","HMAP",0.315,7.6999999999999999E-2,1.7999999999999999E-2,0.245,0.216,5.6000000000000001E-2,7.2999999999999995E-2,0,0,0,0,0,0,0,null,0,0,0,0,0,0,0]
[26,"Factory-1","Original","HMAP",0.499,0.109,2.8000000000000001E-2,0.184,0.16900000000000001,0.01,2E-3,0,0,0,0,0,0,0,null,0,0,0,0,0,0,0]
[27,"Factory-1","Original","HMAP",{"$f":"AVERAGE(E$207:E$212)","v":0.36416666666666669},9.849999999999999E-2,2.4999999999999998E-2,0.24849999999999997,0.1525,5.6666666666666671E-2,5.4833333333333338E-2,0,0,0,0,0,0,0,null,0,0,0,0,0,0,0]
[28,"Factory-1","Original","HMAP",0.36416666666666669,9.849999999999999E-2,2.4999999999999998E-2,0.24849999999999997,0.1525,5.6666666666666671E-2,5.4833333333333338E-2,0,0,0,0,0,0,0,null,0,0,0,0,0,0,0]
[29,"Factory-1","Original","HMAP",0.36416666666666669,9.849999999999999E-2,2.4999999999999998E-2,0.24849999999999997,0.1525,5.6666666666666671E-2,5.4833333333333338E-2,0,0,0,0,0,0,0,null,0,0,0,0,0,0,0]
[30,"Factory-1","Original","HMAP",0.36416666666666669,9.849999999999999E-2,2.4999999999999998E-2,0.24849999999999997,0.1525,5.6666666666666671E-2,5.4833333333333338E-2,0,0,0,0,0,0,0,null,0,0,0,0,0,0,0]
[10,"Factory-2","Original","HMAP",2.8000000000000001E-2,3.6999999999999998E-2,2.5000000000000001E-2,0.253,0.193,0.112,0.35199999999999998,0,0,0,0,0,0,0,null,0,0,0,0,0,0,0]
[11,"Factory-2","Original","HMAP",3.2000000000000001E-2,5.5E-2,2.5000000000000001E-2,0.22800000000000001,0.21099999999999999,0.115,0.33400000000000002,0,0,0,0,0,0,0,null,0,0,0,0,0,0,0]
[12,"Factory-2","Original","HMAP",5.2999999999999999E-2,4.7E-2,0.02,0.25900000000000001,0.22,0.113,0.28799999999999998,0,0,0,0,0,0,0,null,0,0,0,0,0,0,0]
[13,"Factory-2","Original","HMAP",4.2000000000000003E-2,4.3999999999999997E-2,1.7999999999999999E-2,0.249,0.25600000000000001,0.128,0.26300000000000001,0,0,0,0,0,0,0,null,0,0,0,0,0,0,0]
[14,"Factory-2","Original","HMAP",4.7E-2,4.7E-2,2.8000000000000001E-2,0.29499999999999998,0.253,0.107,0.223,0,0,0,0,0,0,0,null,0,0,0,0,0,0,0]
[15,"Factory-2","Original","HMAP",6.6000000000000003E-2,6.9000000000000006E-2,2.8000000000000001E-2,0.28100000000000003,0.253,9.7000000000000003E-2,0.20599999999999999,0,0,0,0,0,0,0,null,0,0,0,0,0,0,0]
[16,"Factory-2","Original","HMAP",0.06,5.1999999999999998E-2,2.7E-2,0.311,0.26800000000000002,9.7000000000000003E-2,0.185,0,0,0,0,0,0,0,null,0,0,0,0,0,0,0]
[17,"Factory-2","Original","HMAP",6.3E-2,8.5000000000000006E-2,2.4E-2,0.31900000000000001,0.223,0.111,0.17499999999999999,0,0,0,0,0,0,0,null,0,0,0,0,0,0,0]
[18,"Factory-2","Original","HMAP",5.8000000000000003E-2,7.8E-2,1.7000000000000001E-2,0.33100000000000002,0.246,9.0999999999999998E-2,0.17899999999999999,0,0,0,0,0,0,0,null,0,0,0,0,0,0,0]
[19,"Factory-2","Original","HMAP",0.10299999999999999,0.108,0.02,0.30599999999999999,0.25600000000000001,0.104,0.10299999999999999,0,0,0,0,0,0,0,null,0,0,0,0,0,0,0]
[20,"Factory-2","Original","HMAP",8.8999999999999996E-2,0.11,2.7E-2,0.30099999999999999,0.22,0.107,0.14599999999999999,0,0,0,0,0,0,0,null,0,0,0,0,0,0,0]
[21,"Factory-2","Original","HMAP",0.193,6.4000000000000001E-2,3.2000000000000001E-2,0.28899999999999998,0.184,0.10100000000000001,0.13700000000000001,0,0,0,0,0,0,0,null,0,0,0,0,0,0,0]
[22,"Factory-2","Original","HMAP",0.14199999999999999,9.6000000000000002E-2,3.5000000000000003E-2,0.23200000000000001,0.25700000000000001,0.11,0.128,0,0,0,0,0,0,0,null,0,0,0,0,0,0,0]
[23,"Factory-2","Original","HMAP",0.22700000000000001,4.8000000000000001E-2,0.01,0.19500000000000001,0.30299999999999999,5.3999999999999999E-2,0.16300000000000001,0,0,0,0,0,0,0,null,0,0,0,0,0,0,0]
[24,"Factory-2","Original","HMAP",{"$f":"AVERAGE(E$226:E$230)","v":0.15079999999999999},8.5199999999999998E-2,2.4799999999999999E-2,0.2646,0.24399999999999999,9.5199999999999993E-2,0.13540000000000002,0,0,0,0,0,0,0,null,0,0,0,0,0,0,0]
[25,"Factory-2","Original","HMAP",0.15079999999999999,8.5199999999999998E-2,2.4799999999999999E-2,0.2646,0.24399999999999999,9.5199999999999993E-2,0.13540000000000002,0,0,0,0,0,0,0,null,0,0,0,0,0,0,0]
[26,"Factory-2","Original","HMAP",0.15079999999999999,8.5199999999999998E-2,2.4799999999999999E-2,0.2646,0.24399999999999999,9.5199999999999993E-2,0.13540000000000002,0,0,0,0,0,0,0,null,0,0,0,0,0,0,0]
[27,"Factory-2","Original","HMAP",0.15079999999999999,8.5199999999999998E-2,2.4799999999999999E-2,0.2646,0.24399999999999999,9.5199999999999993E-2,0.13540000000000002,0,0,0,0,0,0,0,null,0,0,0,0,0,0,0]
[28,"Factory-2","Original","HMAP",0.15079999999999999,8.5199999999999998E-2,2.4799999999999999E-2,0.2646,0.24399999999999999,9.5199999999999993E-2,0.13540000000000002,0,0,0,0,0,0,0,null,0,0,0,0,0,0,0]
[29,"Factory-2","Original","HMAP",0.15079999999999999,8.5199999999999998E-2,2.4799999999999999E-2,0.2646,0.24399999999999999,9.5199999999999993E-2,0.13540000000000002,0,0,0,0,0,0,0,null,0,0,0,0,0,0,0]
[30,"Factory-2","Original","HMAP",0.15079999999999999,8.5199999999999998E-2,2.4799999999999999E-2,0.2646,0.24399999999999999,9.5199999999999993E-2,0.13540000000000002,0,0,0,0,0,0,0,null,0,0,0,0,0,0,0]
[8,"Factory-3","Original","HMAP",0,4.0000000000000001E-3,1.7000000000000001E-2,0.06,0.26100000000000001,0.153,0.505,0,0,0,0,0,0,0,null,0,0,0,0,0,0,0]
[9,"Factory-3","Original","HMAP",1.4E-2,7.0000000000000001E-3,5.0000000000000001E-3,0.106,0.21099999999999999,0.24199999999999999,0.41499999999999998,0,0,0,0,0,0,0,null,0,0,0,0,0,0,0]
[10,"Factory-3","Original","HMAP",3.0000000000000001E-3,8.0000000000000002E-3,1.4E-2,0.13500000000000001,0.24199999999999999,0.2,0.39800000000000002,0,0,0,0,0,0,0,null,0,0,0,0,0,0,0]
[11,"Factory-3","Original","HMAP",0,6.0000000000000001E-3,8.0000000000000002E-3,0.11,0.27300000000000002,0.189,0.41399999999999998,0,0,0,0,0,0,0,null,0,0,0,0,0,0,0]
[12,"Factory-3","Original","HMAP",6.0000000000000001E-3,1.0999999999999999E-2,0.02,0.14000000000000001,0.29099999999999998,0.21199999999999999,0.32,0,0,0,0,0,0,0,null,0,0,0,0,0,0,0]
[13,"Factory-3","Original","HMAP",7.0000000000000001E-3,1.0999999999999999E-2,1.0999999999999999E-2,0.14099999999999999,0.29299999999999998,0.192,0.34499999999999997,0,0,0,0,0,0,0,null,0,0,0,0,0,0,0]
[14,"Factory-3","Original","HMAP",0.01,8.9999999999999993E-3,2.1999999999999999E-2,0.152,0.28999999999999998,0.16400000000000001,0.35299999999999998,0,0,0,0,0,0,0,null,0,0,0,0,0,0,0]
[15,"Factory-3","Original","HMAP",8.0000000000000002E-3,5.3999999999999999E-2,1.6E-2,0.23,0.28299999999999997,0.14499999999999999,0.26400000000000001,0,0,0,0,0,0,0,null,0,0,0,0,0,0,0]
[16,"Factory-3","Original","HMAP",1.2E-2,2.8000000000000001E-2,1.2E-2,0.29499999999999998,0.29699999999999999,0.14399999999999999,0.21199999999999999,0,0,0,0,0,0,0,null,0,0,0,0,0,0,0]
[17,"Factory-3","Original","HMAP",7.0000000000000001E-3,4.4999999999999998E-2,2.3E-2,0.22800000000000001,0.32,0.20399999999999999,0.17299999999999999,0,0,0,0,0,0,0,null,0,0,0,0,0,0,0]
[18,"Factory-3","Original","HMAP",1.4999999999999999E-2,6.0999999999999999E-2,1.4999999999999999E-2,0.23799999999999999,0.29799999999999999,0.16300000000000001,0.21,0,0,0,0,0,0,0,null,0,0,0,0,0,0,0]
[19,"Factory-3","Original","HMAP",2.1000000000000001E-2,7.8E-2,1.2E-2,0.32200000000000001,0.29299999999999998,0.10100000000000001,0.17299999999999999,0,0,0,0,0,0,0,null,0,0,0,0,0,0,0]
[20,"Factory-3","Original","HMAP",0,2.1999999999999999E-2,3.2000000000000001E-2,0.22800000000000001,0.36699999999999999,0.17100000000000001,0.18,0,0,0,0,0,0,0,null,0,0,0,0,0,0,0]
[21,"Factory-3","Original","HMAP",1.2E-2,0.03,5.0000000000000001E-3,0.378,0.29099999999999998,0.12,0.16400000000000001,0,0,0,0,0,0,0,null,0,0,0,0,0,0,0]
[22,"Factory-3","Original","HMAP",{"$f":"AVERAGE(E$247:E$251)","v":1.0999999999999999E-2},4.7199999999999999E-2,1.7400000000000002E-2,0.27880000000000005,0.31379999999999997,0.15179999999999999,0.18,0,0,0,0,0,0,0,null,0,0,0,0,0,0,0]
[23,"Factory-3","Original","HMAP",1.0999999999999999E-2,4.7199999999999999E-2,1.7400000000000002E-2,0.27880000000000005,0.31379999999999997,0.15179999999999999,0.18,0,0,0,0,0,0,0,null,0,0,0,0,0,0,0]
[24,"Factory-3","Original","HMAP",1.0999999999999999E-2,4.7199999999999999E-2,1.7400000000000002E-2,0.27880000000000005,0.31379999999999997,0.15179999999999999,0.18,0,0,0,0,0,0,0,null,0,0,0,0,0,0,0]
[25,"Factory-3","Original","HMAP",1.0999999999999999E-2,4.7199999999999999E-2,1.7400000000000002E-2,0.27880000000000005,0.31379999999999997,0.15179999999999999,0.18,0,0,0,0,0,0,0,null,0,0,0,0,0,0,0]
[26,"Factory-3","Original","HMAP",1.0999999999999999E-2,4.7199999999999999E-2,1.7400000000000002E-2,0.27880000000000005,0.31379999999999997,0.15179999999999999,0.18,0,0,0,0,0,0,0,null,0,0,0,0,0,0,0]
[27,"Factory-3","Original","HMAP",1.0999999999999999E-2,4.7199999999999999E-2,1.7400000000000002E-2,0.27880000000000005,0.31379999999999997,0.15179999999999999,0.18,0,0,0,0,0,0,0,null,0,0,0,0,0,0,0]
[28,"Factory-3","Original","HMAP",1.0999999999999999E-2,4.7199999999999999E-2,1.7400000000000002E-2,0.27880000000000005,0.31379999999999997,0.15179999999999999,0.18,0,0,0,0,0,0,0,null,0,0,0,0,0,0,0]
[29,"Factory-3","Original","HMAP",1.0999999999999999E-2,4.7199999999999999E-2,1.7400000000000002E-2,0.27880000000000005,0.31379999999999997,0.15179999999999999,0.18,0,0,0,0,0,0,0,null,0,0,0,0,0,0,0]
[30,"Factory-3","Original","HMAP",1.0999999999999999E-2,4.7199999999999999E-2,1.7400000000000002E-2,0.27880000000000005,0.31379999999999997,0.15179999999999999,0.18,0,0,0,0,0,0,0,null,0,0,0,0,0,0,0]
[8,"Construction","Original","WOAK",0,0,0,0,0.22,0.38,0.4,{"$f":"IF(AND($B261=$M$5,$D261=$M$6,$A261=$M$4,C261=$R$4),E261*$M$7,0)","v":0},{"$f":"IF(AND($B261=$M$5,$D261=$M$6,$A261=$M$4,C261=$R$4),F261*$M$7,0)","v":0},{"$f":"IF(AND($B261=$M$5,$D261=$M$6,$A261=$M$4,C261=$R$4),G261*$M$7,0)","v":0},{"$f":"IF(AND($B261=$M$5,$D261=$M$6,$A261=$M$4,C261=$R$4),H261*$M$7,0)","v":0},{"$f":"IF(AND($B261=$M$5,$D261=$M$6,$A261=$M$4,C261=$R$4),I261*$M$7,0)","v":0},{"$f":"IF(AND($B261=$M$5,$D261=$M$6,$A261=$M$4,C261=$R$4),J261*$M$7,0)","v":0},{"$f":"IF(AND($B261=$M$5,$D261=$M$6,$A261=$M$4,C261=$R$4),K261*$M$7,0)","v":0},null,{"$f":"IF(AND($B261=$U$5,$D261=$U$6,$A261=$U$4,C261=$R$4),E261*$U$7,0)","v":0},{"$f":"IF(AND($B261=$U$5,$D261=$U$6,$A261=$U$4,C261=$R$4),F261*$U$7,0)","v":0},{"$f":"IF(AND($B261=$U$5,$D261=$U$6,$A261=$U$4,C261=$R$4),G261*$U$7,0)","v":0},{"$f":"IF(AND($B261=$U$5,$D261=$U$6,$A261=$U$4,C261=$R$4),H261*$U$7,0)","v":0},{"$f":"IF(AND($B261=$U$5,$D261=$U$6,$A261=$U$4,C261=$R$4),I261*$U$7,0)","v":0},{"$f":"IF(AND($B261=$U$5,$D261=$U$6,$A261=$U$4,C261=$R$4),J261*$U$7,0)","v":0},{"$f":"IF(AND($B261=$U$5,$D261=$U$6,$A261=$U$4,C261=$R$4),K261*$U$7,0)","v":0}]
[9,"Construction","Original","WOAK",0,0,0,0,0.27,0.37,0.36,0,0,0,0,0,0,0,null,0,0,0,0,0,0,0]
[10,"Construction","Original","WOAK",0,0,0,0.02,0.31,0.35,0.32,0,0,0,0,0,0,0,null,0,0,0,0,0,0,0]
[11,"Construction","Original","WOAK",0,0,0,0.05,0.34,0.33,0.28000000000000003,0,0,0,0,0,0,0,null,0,0,0,0,0,0,0]
[12,"Construction","Original","WOAK",0,0,0.01,7.0000000000000007E-2,0.37,0.31,0.24,0,0,0,0,0,0,0,null,0,0,0,0,0,0,0]
[13,"Construction","Original","WOAK",0,0,0.01,0.09,0.4,0.28999999999999998,0.21,0,0,0,0,0,0,0,null,0,0,0,0,0,0,0]
[14,"Construction","Original","WOAK",0,0,0.01,0.11,0.42,0.28000000000000003,0.18,0,0,0,0,0,0,0,null,0,0,0,0,0,0,0]
[15,"Construction","Original","WOAK",0,0,0,0.13,0.45,0.26,0.16,0,0,0,0,0,0,0,null,0,0,0,0,0,0,0]
[16,"Construction","Original","WOAK",0,0,0,0.15,0.47,0.24,0.14000000000000001,0,0,0,0,0,0,0,null,0,0,0,0,0,0,0]
[17,"Construction","Original","WOAK",0,0.01,0,0.16,0.48,0.22,0.13,0,0,0,0,0,0,0,null,0,0,0,0,0,0,0]
[18,"Construction","Original","WOAK",0,0.01,0,0.18,0.49,0.21,0.11,0,0,0,0,0,0,0,null,0,0,0,0,0,0,0]
[19,"Construction","Original","WOAK",0,0.01,0,0.19,0.51,0.19,0.1,0,0,0,0,0,0,0,null,0,0,0,0,0,0,0]
[20,"Construction","Original","WOAK",0,0.01,0,0.2,0.52,0.18,0.09,{"$f":"IF(AND($B273=$M$5,$D273=$M$6,$A273=$M$4,C273=$R$4),E273*$M$7,0)","v":0},{"$f":"IF(AND($B273=$M$5,$D273=$M$6,$A273=$M$4,C273=$R$4),F273*$M$7,0)","v":0},{"$f":"IF(AND($B273=$M$5,$D273=$M$6,$A273=$M$4,C273=$R$4),G273*$M$7,0)","v":0},{"$f":"IF(AND($B273=$M$5,$D273=$M$6,$A273=$M$4,C273=$R$4),H273*$M$7,0)","v":0},{"$f":"IF(AND($B273=$M$5,$D273=$M$6,$A273=$M$4,C273=$R$4),I273*$M$7,0)","v":0},{"$f":"IF(AND($B273=$M$5,$D273=$M$6,$A273=$M$4,C273=$R$4),J273*$M$7,0)","v":0},{"$f":"IF(AND($B273=$M$5,$D273=$M$6,$A273=$M$4,C273=$R$4),K273*$M$7,0)","v":0},null,{"$f":"IF(AND($B273=$U$5,$D273=$U$6,$A273=$U$4,C273=$R$4),E273*$U$7,0)","v":0},{"$f":"IF(AND($B273=$U$5,$D273=$U$6,$A273=$U$4,C273=$R$4),F273*$U$7,0)","v":0},{"$f":"IF(AND($B273=$U$5,$D273=$U$6,$A273=$U$4,C273=$R$4),G273*$U$7,0)","v":0},{"$f":"IF(AND($B273=$U$5,$D273=$U$6,$A273=$U$4,C273=$R$4),H273*$U$7,0)","v":0},{"$f":"IF(AND($B273=$U$5,$D273=$U$6,$A273=$U$4,C273=$R$4),I273*$U$7,0)","v":0},{"$f":"IF(AND($B273=$U$5,$D273=$U$6,$A273=$U$4,C273=$R$4),J273*$U$7,0)","v":0},{"$f":"IF(AND($B273=$U$5,$D273=$U$6,$A273=$U$4,C273=$R$4),K273*$U$7,0)","v":0}]
[21,"Construction","Original","WOAK",0,0.01,0,0.21,0.52,0.16,0.1,0,0,0,0,0,0,0,null,0,0,0,0,0,0,0]
[22,"Construction","Original","WOAK",0,0.01,0,0.22,0.52,0.15,0.1,0,0,0,0,0,0,0,null,0,0,0,0,0,0,0]
[23,"Construction","Original","WOAK",0,0.01,0,0.22,0.52,0.14000000000000001,0.11,0,0,0,0,0,0,0,null,0,0,0,0,0,0,0]
[24,"Construction","Original","WOAK",0,0.01,0,0.23,0.52,0.12,0.12,0,0,0,0,0,0,0,null,0,0,0,0,0,0,0]
[9,"Construction","Original","ROAK",0,0,0,0,0.02,0.21,0.77,0,0,0,0,0,0,0,null,0,0,0,0,0,0,0]
[10,"Construction","Original","ROAK",0,0,0,0.02,0.06,0.22,0.7,0,0,0,0,0,0,0,null,0,0,0,0,0,0,0]
[11,"Construction","Original","ROAK",0,0,0,0.03,0.1,0.23,0.64,0,0,0,0,0,0,0,null,0,0,0,0,0,0,0]
[12,"Construction","Original","ROAK",0,0,0,0.05,0.14000000000000001,0.24,0.56999999999999995,0,0,0,0,0,0,0,null,0,0,0,0,0,0,0]
[13,"Construction","Original","ROAK",0,0,0.01,7.0000000000000007E-2,0.17,0.25,0.5,0,0,0,0,0,0,0,null,0,0,0,0,0,0,0]
[14,"Construction","Original","ROAK",0,0,0.01,0.1,0.2,0.25,0.44,0,0,0,0,0,0,0,null,0,0,0,0,0,0,0]
[15,"Construction","Original","ROAK",0,0,0.01,0.12,0.23,0.25,0.39,0,0,0,0,0,0,0,null,0,0,0,0,0,0,0]
[16,"Construction","Original","ROAK",0.01,0,0.01,0.15,0.25,0.25,0.33,0,0,0,0,0,0,0,null,0,0,0,0,0,0,0]
[17,"Construction","Original","ROAK",0.01,0,0.01,0.18,0.27,0.25,0.28000000000000003,0,0,0,0,0,0,0,null,0,0,0,0,0,0,0]
[18,"Construction","Original","ROAK",0.01,0,0.02,0.21,0.28999999999999998,0.24,0.23,0,0,0,0,0,0,0,null,0,0,0,0,0,0,0]
[19,"Construction","Original","ROAK",0.01,0,0.02,0.24,0.3,0.24,0.19,0,0,0,0,0,0,0,null,0,0,0,0,0,0,0]
[8,"Construction","Original","YPOP",0,0,0,0.02,7.0000000000000007E-2,0.89,0.02,0,0,0,0,0,0,0,null,0,0,0,0,0,0,0]
[9,"Construction","Original","YPOP",0,0,0,0.03,0.14000000000000001,0.81,0.02,0,0,0,0,0,0,0,null,0,0,0,0,0,0,0]
[10,"Construction","Original","YPOP",0,0,0,0.05,0.21,0.72,0.02,0,0,0,0,0,0,0,null,0,0,0,0,0,0,0]
[11,"Construction","Original","YPOP",0,0,0,7.0000000000000007E-2,0.27,0.64,0.02,0,0,0,0,0,0,0,null,0,0,0,0,0,0,0]
[12,"Construction","Original","YPOP",0,0,0,0.09,0.32,0.56999999999999995,0.02,0,0,0,0,0,0,0,null,0,0,0,0,0,0,0]
[13,"Construction","Original","YPOP",0,0.01,0,0.12,0.35,0.5,0.02,0,0,0,0,0,0,0,null,0,0,0,0,0,0,0]
[14,"Construction","Original","YPOP",0,0.01,0,0.15,0.38,0.44,0.02,0,0,0,0,0,0,0,null,0,0,0,0,0,0,0]
[15,"Construction","Original","YPOP",0,0.02,0,0.18,0.39,0.39,0.02,0,0,0,0,0,0,0,null,0,0,0,0,0,0,0]
[16,"Construction","Original","YPOP",0,0.02,0,0.22,0.39,0.35,0.02,0,0,0,0,0,0,0,null,0,0,0,0,0,0,0]
[17,"Construction","Original","YPOP",0,0.02,0,0.26,0.39,0.31,0.02,0,0,0,0,0,0,0,null,0,0,0,0,0,0,0]
[18,"Construction","Original","YPOP",0,0.03,0,0.3,0.37,0.28000000000000003,0.02,0,0,0,0,0,0,0,null,0,0,0,0,0,0,0]
[19,"Construction","Original","YPOP",0,0.04,0,0.35,0.34,0.25,0.02,0,0,0,0,0,0,0,null,0,0,0,0,0,0,0]
[20,"Construction","Original","YPOP",0,0.05,0,0.4,0.3,0.23,0.02,0,0,0,0,0,0,0,null,0,0,0,0,0,0,0]
[13,"Factory-1","Original","SMAP",0.17199999999999999,0.14599999999999999,0.05,0.27300000000000002,0.255,6.7000000000000004E-2,3.6999999999999998E-2,0,0,0,0,0,0,0,null,0,0,0,0,0,0,0]
[14,"Factory-1","Original","SMAP",0.216,0.19600000000000001,5.8000000000000003E-2,0.155,0.32200000000000001,3.6999999999999998E-2,1.6E-2,0,0,0,0,0,0,0,null,0,0,0,0,0,0,0]
[15,"Factory-1","Original","SMAP",0.254,0.17,7.9000000000000001E-2,0.18099999999999999,0.34399999999999997,6.0999999999999999E-2,1.0999999999999999E-2,0,0,0,0,0,0,0,null,0,0,0,0,0,0,0]
[16,"Factory-1","Original","SMAP",0.254,0.16300000000000001,4.5999999999999999E-2,0.20799999999999999,0.27700000000000002,0.03,2.1999999999999999E-2,0,0,0,0,0,0,0,null,0,0,0,0,0,0,0]
[17,"Factory-1","Original","SMAP",0.255,0.151,3.2000000000000001E-2,0.26900000000000002,0.26,3.1E-2,1.2E-2,0,0,0,0,0,0,0,null,0,0,0,0,0,0,0]
[18,"Factory-1","Original","SMAP",0.308,0.183,8.2000000000000003E-2,0.20699999999999999,0.185,2.3E-2,1.2E-2,0,0,0,0,0,0,0,null,0,0,0,0,0,0,0]
[19,"Factory-1","Original","SMAP",0.311,0.13900000000000001,4.2000000000000003E-2,0.191,0.27800000000000002,3.1E-2,8.0000000000000002E-3,0,0,0,0,0,0,0,null,0,0,0,0,0,0,0]
[20,"Factory-1","Original","SMAP",0.34399999999999997,0.19400000000000001,5.6000000000000001E-2,0.19,0.19500000000000001,1.7999999999999999E-2,3.0000000000000001E-3,0,0,0,0,0,0,0,null,0,0,0,0,0,0,0]
[21,"Factory-1","Original","SMAP",0.32300000000000001,0.19500000000000001,3.5000000000000003E-2,0.23699999999999999,0.182,1.4999999999999999E-2,1.2999999999999999E-2,0,0,0,0,0,0,0,null,0,0,0,0,0,0,0]
[22,"Factory-1","Original","SMAP",0.191,6.6000000000000003E-2,2.3E-2,0.42799999999999999,0.14899999999999999,0.08,6.3E-2,0,0,0,0,0,0,0,null,0,0,0,0,0,0,0]
[23,"Factory-1","Original","SMAP",{"$f":"AVERAGE(E$308:E$311)","v":0.29225000000000001},0.14850000000000002,3.9E-2,0.26150000000000001,0.20100000000000001,3.6000000000000004E-2,2.1749999999999999E-2,0,0,0,0,0,0,0,null,0,0,0,0,0,0,0]
[24,"Factory-1","Original","SMAP",0.29225000000000001,0.14850000000000002,3.9E-2,0.26150000000000001,0.20100000000000001,3.6000000000000004E-2,2.1749999999999999E-2,0,0,0,0,0,0,0,null,0,0,0,0,0,0,0]
[25,"Factory-1","Original","SMAP",0.29225000000000001,0.14850000000000002,3.9E-2,0.26150000000000001,0.20100000000000001,3.6000000000000004E-2,2.1749999999999999E-2,0,0,0,0,0,0,0,null,0,0,0,0,0,0,0]
[26,"Factory-1","Original","SMAP",0.29225000000000001,0.14850000000000002,3.9E-2,0.26150000000000001,0.20100000000000001,3.6000000000000004E-2,2.1749999999999999E-2,0,0,0,0,0,0,0,null,0,0,0,0,0,0,0]
[27,"Factory-1","Original","SMAP",0.29225000000000001,0.14850000000000002,3.9E-2,0.26150000000000001,0.20100000000000001,3.6000000000000004E-2,2.1749999999999999E-2,0,0,0,0,0,0,0,null,0,0,0,0,0,0,0]
[28,"Factory-1","Original","SMAP",0.29225000000000001,0.14850000000000002,3.9E-2,0.26150000000000001,0.20100000000000001,3.6000000000000004E-2,2.1749999999999999E-2,0,0,0,0,0,0,0,null,0,0,0,0,0,0,0]
[29,"Factory-1","Original","SMAP",0.29225000000000001,0.14850000000000002,3.9E-2,0.26150000000000001,0.20100000000000001,3.6000000000000004E-2,2.1749999999999999E-2,0,0,0,0,0,0,0,null,0,0,0,0,0,0,0]
[30,"Factory-1","Original","SMAP",0.29225000000000001,0.14850000000000002,3.9E-2,0.26150000000000001,0.20100000000000001,3.6000000000000004E-2,2.1749999999999999E-2,0,0,0,0,0,0,0,null,0,0,0,0,0,0,0]
[10,"Factory-2","Original","SMAP",0.113,9.5000000000000001E-2,5.1999999999999998E-2,0.182,0.36599999999999999,8.2000000000000003E-2,0.11,0,0,0,0,0,0,0,null,0,0,0,0,0,0,0]
[11,"Factory-2","Original","SMAP",2.9000000000000001E-2,6.9000000000000006E-2,3.5000000000000003E-2,0.215,0.503,6.9000000000000006E-2,0.08,0,0,0,0,0,0,0,null,0,0,0,0,0,0,0]
[12,"Factory-2","Original","SMAP",5.8000000000000003E-2,0.09,4.7E-2,0.22900000000000001,0.45900000000000002,6.9000000000000006E-2,4.8000000000000001E-2,0,0,0,0,0,0,0,null,0,0,0,0,0,0,0]
[13,"Factory-2","Original","SMAP",4.7E-2,9.9000000000000005E-2,4.4999999999999998E-2,0.19900000000000001,0.501,6.0999999999999999E-2,4.8000000000000001E-2,0,0,0,0,0,0,0,null,0,0,0,0,0,0,0]
[14,"Factory-2","Original","SMAP",7.2999999999999995E-2,0.108,4.3999999999999997E-2,0.251,0.40600000000000003,7.1999999999999995E-2,4.5999999999999999E-2,0,0,0,0,0,0,0,null,0,0,0,0,0,0,0]
[15,"Factory-2","Original","SMAP",0.114,0.127,2.5999999999999999E-2,0.254,0.39300000000000002,4.2000000000000003E-2,4.3999999999999997E-2,0,0,0,0,0,0,0,null,0,0,0,0,0,0,0]
[16,"Factory-2","Original","SMAP",8.6999999999999994E-2,0.112,0.03,0.31,0.39400000000000002,4.2000000000000003E-2,2.5000000000000001E-2,0,0,0,0,0,0,0,null,0,0,0,0,0,0,0]
[17,"Factory-2","Original","SMAP",8.3000000000000004E-2,9.0999999999999998E-2,0.03,0.32800000000000001,0.371,5.1999999999999998E-2,4.4999999999999998E-2,0,0,0,0,0,0,0,null,0,0,0,0,0,0,0]
[18,"Factory-2","Original","SMAP",0.14099999999999999,5.7000000000000002E-2,0.04,0.30599999999999999,0.32200000000000001,9.4E-2,0.04,0,0,0,0,0,0,0,null,0,0,0,0,0,0,0]
[19,"Factory-2","Original","SMAP",0.223,0.115,4.2999999999999997E-2,0.27,0.28199999999999997,5.7000000000000002E-2,0.01,0,0,0,0,0,0,0,null,0,0,0,0,0,0,0]
[20,"Factory-2","Original","SMAP",0.36599999999999999,0.191,4.4999999999999998E-2,0.14199999999999999,0.17699999999999999,3.2000000000000001E-2,4.7E-2,0,0,0,0,0,0,0,null,0,0,0,0,0,0,0]
[21,"Factory-2","Original","SMAP",0.30399999999999999,0.14399999999999999,0.08,0.19800000000000001,0.19400000000000001,5.6000000000000001E-2,2.4E-2,0,0,0,0,0,0,0,null,0,0,0,0,0,0,0]
[22,"Factory-2","Original","SMAP",{"$f":"AVERAGE(E$327:E$331)","v":0.22339999999999999},0.1196,4.7599999999999996E-2,0.24879999999999999,0.26919999999999999,5.8199999999999995E-2,3.3199999999999993E-2,0,0,0,0,0,0,0,null,0,0,0,0,0,0,0]
[23,"Factory-2","Original","SMAP",0.22339999999999999,0.1196,4.7599999999999996E-2,0.24879999999999999,0.26919999999999999,5.8199999999999995E-2,3.3199999999999993E-2,0,0,0,0,0,0,0,null,0,0,0,0,0,0,0]
[24,"Factory-2","Original","SMAP",0.22339999999999999,0.1196,4.7599999999999996E-2,0.24879999999999999,0.26919999999999999,5.8199999999999995E-2,3.3199999999999993E-2,0,0,0,0,0,0,0,null,0,0,0,0,0,0,0]
[25,"Factory-2","Original","SMAP",0.22339999999999999,0.1196,4.7599999999999996E-2,0.24879999999999999,0.26919999999999999,5.8199999999999995E-2,3.3199999999999993E-2,0,0,0,0,0,0,0,null,0,0,0,0,0,0,0]
[26,"Factory-2","Original","SMAP",0.22339999999999999,0.1196,4.7599999999999996E-2,0.24879999999999999,0.26919999999999999,5.8199999999999995E-2,3.3199999999999993E-2,0,0,0,0,0,0,0,null,0,0,0,0,0,0,0]
[27,"Factory-2","Original","SMAP",0.22339999999999999,0.1196,4.7599999999999996E-2,0.24879999999999999,0.26919999999999999,5.8199999999999995E-2,3.3199999999999993E-2,{"$f":"IF(AND($B337=$M$5,$D337=$M$6,$A337=$M$4,C337=$R$4),E337*$M$7,0)","v":0},{"$f":"IF(AND($B337=$M$5,$D337=$M$6,$A337=$M$4,C337=$R$4),F337*$M$7,0)","v":0},{"$f":"IF(AND($B337=$M$5,$D337=$M$6,$A337=$M$4,C337=$R$4),G337*$M$7,0)","v":0},{"$f":"IF(AND($B337=$M$5,$D337=$M$6,$A337=$M$4,C337=$R$4),H337*$M$7,0)","v":0},{"$f":"IF(AND($B337=$M$5,$D337=$M$6,$A337=$M$4,C337=$R$4),I337*$M$7,0)","v":0},{"$f":"IF(AND($B337=$M$5,$D337=$M$6,$A337=$M$4,C337=$R$4),J337*$M$7,0)","v":0},{"$f":"IF(AND($B337=$M$5,$D337=$M$6,$A337=$M$4,C337=$R$4),K337*$M$7,0)","v":0},null,{"$f":"IF(AND($B337=$U$5,$D337=$U$6,$A337=$U$4,C337=$R$4),E337*$U$7,0)","v":0},{"$f":"IF(AND($B337=$U$5,$D337=$U$6,$A337=$U$4,C337=$R$4),F337*$U$7,0)","v":0},{"$f":"IF(AND($B337=$U$5,$D337=$U$6,$A337=$U$4,C337=$R$4),G337*$U$7,0)","v":0},{"$f":"IF(AND($B337=$U$5,$D337=$U$6,$A337=$U$4,C337=$R$4),H337*$U$7,0)","v":0},{"$f":"IF(AND($B337=$U$5,$D337=$U$6,$A337=$U$4,C337=$R$4),I337*$U$7,0)","v":0},{"$f":"IF(AND($B337=$U$5,$D337=$U$6,$A337=$U$4,C337=$R$4),J337*$U$7,0)","v":0},{"$f":"IF(AND($B337=$U$5,$D337=$U$6,$A337=$U$4,C337=$R$4),K337*$U$7,0)","v":0}]
[28,"Factory-2","Original","SMAP",0.22339999999999999,0.1196,4.7599999999999996E-2,0.24879999999999999,0.26919999999999999,5.8199999999999995E-2,3.3199999999999993E-2,0,0,0,0,0,0,0,null,0,0,0,0,0,0,0]
[29,"Factory-2","Original","SMAP",0.22339999999999999,0.1196,4.7599999999999996E-2,0.24879999999999999,0.26919999999999999,5.8199999999999995E-2,3.3199999999999993E-2,0,0,0,0,0,0,0,null,0,0,0,0,0,0,0]
[30,"Factory-2","Original","SMAP",0.22339999999999999,0.1196,4.7599999999999996E-2,0.24879999999999999,0.26919999999999999,5.8199999999999995E-2,3.3199999999999993E-2,0,0,0,0,0,0,0,null,0,0,0,0,0,0,0]
[8,"Factory-3","Original","SMAP",0,1E-3,3.0000000000000001E-3,2.5999999999999999E-2,0.64100000000000001,0.14399999999999999,0.185,0,0,0,0,0,0,0,null,0,0,0,0,0,0,0]
[9,"Factory-3","Original","SMAP",2E-3,8.9999999999999993E-3,1.6E-2,6.2E-2,0.68100000000000005,0.124,0.106,0,0,0,0,0,0,0,null,0,0,0,0,0,0,0]
[10,"Factory-3","Original","SMAP",6.0000000000000001E-3,1.0999999999999999E-2,2.4E-2,9.8000000000000004E-2,0.66900000000000004,0.115,7.6999999999999999E-2,0,0,0,0,0,0,0,null,0,0,0,0,0,0,0]
[11,"Factory-3","Original","SMAP",4.0000000000000001E-3,8.0000000000000002E-3,1.4999999999999999E-2,9.5000000000000001E-2,0.70599999999999996,9.7000000000000003E-2,7.4999999999999997E-2,0,0,0,0,0,0,0,null,0,0,0,0,0,0,0]
[12,"Factory-3","Original","SMAP",5.0000000000000001E-3,1.4E-2,1.2E-2,0.13300000000000001,0.63400000000000001,0.13200000000000001,7.0000000000000007E-2,0,0,0,0,0,0,0,null,0,0,0,0,0,0,0]
[13,"Factory-3","Original","SMAP",1.4999999999999999E-2,4.5999999999999999E-2,1.2999999999999999E-2,0.14199999999999999,0.66800000000000004,7.0999999999999994E-2,4.4999999999999998E-2,0,0,0,0,0,0,0,null,0,0,0,0,0,0,0]
[14,"Factory-3","Original","SMAP",1.4E-2,4.4999999999999998E-2,1.0999999999999999E-2,0.17799999999999999,0.59,0.11899999999999999,4.2999999999999997E-2,0,0,0,0,0,0,0,null,0,0,0,0,0,0,0]
[15,"Factory-3","Original","SMAP",6.3E-2,8.4000000000000005E-2,8.9999999999999993E-3,0.31900000000000001,0.41499999999999998,8.2000000000000003E-2,2.8000000000000001E-2,0,0,0,0,0,0,0,null,0,0,0,0,0,0,0]
[16,"Factory-3","Original","SMAP",0,0.107,8.0000000000000002E-3,0.21,0.59099999999999997,7.8E-2,6.0000000000000001E-3,0,0,0,0,0,0,0,null,0,0,0,0,0,0,0]
[17,"Factory-3","Original","SMAP",0.128,0.14000000000000001,3.9E-2,0.21099999999999999,0.28599999999999998,0.16500000000000001,3.1E-2,0,0,0,0,0,0,0,null,0,0,0,0,0,0,0]
[18,"Factory-3","Original","SMAP",0.10199999999999999,0.06,2.1000000000000001E-2,0.38500000000000001,0.28299999999999997,0.06,8.8999999999999996E-2,0,0,0,0,0,0,0,null,0,0,0,0,0,0,0]
[19,"Factory-3","Original","SMAP",{"$f":"AVERAGE(E$347:E$351)","v":6.1399999999999996E-2},8.72E-2,1.7600000000000001E-2,0.2606,0.433,0.1008,3.9400000000000004E-2,0,0,0,0,0,0,0,null,0,0,0,0,0,0,0]
[20,"Factory-3","Original","SMAP",6.1399999999999996E-2,8.72E-2,1.7600000000000001E-2,0.2606,0.433,0.1008,3.9400000000000004E-2,0,0,0,0,0,0,0,null,0,0,0,0,0,0,0]
[21,"Factory-3","Original","SMAP",6.1399999999999996E-2,8.72E-2,1.7600000000000001E-2,0.2606,0.433,0.1008,3.9400000000000004E-2,0,0,0,0,0,0,0,null,0,0,0,0,0,0,0]
[22,"Factory-3","Original","SMAP",6.1399999999999996E-2,8.72E-2,1.7600000000000001E-2,0.2606,0.433,0.1008,3.9400000000000004E-2,0,0,0,0,0,0,0,null,0,0,0,0,0,0,0]
[23,"Factory-3","Original","SMAP",6.1399999999999996E-2,8.72E-2,1.7600000000000001E-2,0.2606,0.433,0.1008,3.9400000000000004E-2,0,0,0,0,0,0,0,null,0,0,0,0,0,0,0]
[24,"Factory-3","Original","SMAP",6.1399999999999996E-2,8.72E-2,1.7600000000000001E-2,0.2606,0.433,0.1008,3.9400000000000004E-2,0,0,0,0,0,0,0,null,0,0,0,0,0,0,0]
[25,"Factory-3","Original","SMAP",6.1399999999999996E-2,8.72E-2,1.7600000000000001E-2,0.2606,0.433,0.1008,3.9400000000000004E-2,0,0,0,0,0,0,0,null,0,0,0,0,0,0,0]
[26,"Factory-3","Original","SMAP",6.1399999999999996E-2,8.72E-2,1.7600000000000001E-2,0.2606,0.433,0.1008,3.9400000000000004E-2,0,0,0,0,0,0,0,null,0,0,0,0,0,0,0]
[27,"Factory-3","Original","SMAP",6.1399999999999996E-2,8.72E-2,1.7600000000000001E-2,0.2606,0.433,0.1008,3.9400000000000004E-2,0,0,0,0,0,0,0,null,0,0,0,0,0,0,0]
[28,"Factory-3","Original","SMAP",6.1399999999999996E-2,8.72E-2,1.7600000000000001E-2,0.2606,0.433,0.1008,3.9400000000000004E-2,0,0,0,0,0,0,0,null,0,0,0,0,0,0,0]
[29,"Factory-3","Original","SMAP",6.1399999999999996E-2,8.72E-2,1.7600000000000001E-2,0.2606,0.433,0.1008,3.9400000000000004E-2,0,0,0,0,0,0,0,null,0,0,0,0,0,0,0]
[30,"Factory-3","Original","SMAP",6.1399999999999996E-2,8.72E-2,1.7600000000000001E-2,0.2606,0.433,0.1008,3.9400000000000004E-2,0,0,0,0,0,0,0,null,0,0,0,0,0,0,0]
[13,"Factory-1","Revised","ROAK",0.21302300592740944,0.15491124319766919,4.3861215757575914E-2,0.24917563563360798,0.21670645977984804,0.11366633722721936,8.6561024766700027E-3,0,0,0,0,0,0,0,null,0,0,0,0,0,0,0]
[14,"Factory-1","Revised","ROAK",0.2333060338136286,0.15324396461837975,3.9287607707496036E-2,0.25011435717820318,0.20757338932403763,0.104526048062815,1.1948599295439831E-2,0,0,0,0,0,0,0,null,0,0,0,0,0,0,0]
[15,"Factory-1","Revised","ROAK",0.25217858362312956,0.15152004284185458,3.5369428481579972E-2,0.25180640348672512,0.19838151325003162,9.594718461857632E-2,1.4796843698102921E-2,0,0,0,0,0,0,0,null,0,0,0,0,0,0,0]
[16,"Factory-1","Revised","ROAK",0.26959857495856304,0.1497434708704716,3.211492750489571E-2,0.2542469206026991,0.18915232946657082,8.7948982859942751E-2,1.719479373685719E-2,0,0,0,0,0,0,0,null,0,0,0,0,0,0,0]
[17,"Factory-1","Revised","ROAK",0.28553076551082929,0.14791874363352617,2.9529233834771497E-2,0.2574274368181998,0.17990739076297688,8.0547907372869251E-2,1.9138522066827063E-2,0,0,0,0,0,0,0,null,0,0,0,0,0,0,0]
[18,"Factory-1","Revised","ROAK",0.29994718932784609,0.14605028202975556,2.7614348751213803E-2,0.26133615272731858,0.17066824685122531,7.3757548003454923E-2,2.0626232309185571E-2,0,0,0,0,0,0,0,null,0,0,0,0,0,0,0]
[19,"Factory-1","Revised","ROAK",0.31282687831010453,0.14414287742851137,2.6369155433590669E-2,0.26595803476453556,0.16145622865248788,6.758856747279772E-2,2.1658257937972276E-2,0,0,0,0,0,0,0,null,0,0,0,0,0,0,0]
[20,"Factory-1","Revised","ROAK",0.3241565533075666,0.14220116515161949,2.5789482159418987E-2,0.27127490039208568,0.15229225717229336,6.204861321541677E-2,2.223702860159912E-2,0,0,0,0,0,0,0,null,0,0,0,0,0,0,0]
[21,"Factory-1","Revised","ROAK",0.33392996227976324,0.14023008104224793,2.5868129963077514E-2,0.27726581185040144,0.143196679175675,5.7142336115618843E-2,2.2366999573216147E-2,0,0,0,0,0,0,0,null,0,0,0,0,0,0,0]
[22,"Factory-1","Revised","ROAK",0.34214825400533877,0.13823465228936507,2.6595073411088944E-2,0.28390684310309378,0.13418916219950627,5.2871420394481609E-2,2.2054594597125332E-2,0,0,0,0,0,0,0,null,0,0,0,0,0,0,0]
[23,"Factory-1","Revised","ROAK",0.34881936150238974,0.13621973930171138,2.7957573154323373E-2,0.29117198420359791,0.12528860783033491,4.9234629246233383E-2,2.1308104761409416E-2,0,0,0,0,0,0,0,null,0,0,0,0,0,0,0]
[24,"Factory-1","Revised","ROAK",0.35395819703673032,0.13419023999108357,2.9940319099132098E-2,0.29903280175495217,0.11651293957167823,4.6227934197913857E-2,2.0137568348509719E-2,0,0,0,0,0,0,0,null,0,0,0,0,0,0,0]
[25,"Factory-1","Revised","ROAK",0.35758600283455011,0.13215095027380336,3.2525641752381797E-2,0.30745918115780613,0.10787901304090979,4.3844577331538355E-2,1.8554633609010503E-2,0,0,0,0,0,0,0,null,0,0,0,0,0,0,0]
[26,"Factory-1","Revised","ROAK",0.35973001270242644,0.1301066541721283,3.5693782506943536E-2,0.31641921923776922,9.9402631653024626E-2,4.2075258051423571E-2,1.6572441676284366E-2,0,0,0,0,0,0,0,null,0,0,0,0,0,0,0]
[27,"Factory-1","Revised","ROAK",0.36042312446832342,0.12806191585596816,3.9423020956864771E-2,0.32587988495496534,9.1098316440603011E-2,4.0908296889233926E-2,1.4205440434041625E-2,0,0,0,0,0,0,0,null,0,0,0,0,0,0,0]
[28,"Factory-1","Revised","ROAK",0.35970350948063456,0.12602119112609869,4.3689983966492943E-2,0.33580687042305385,8.2979394529441267E-2,4.0329799242813533E-2,1.1469251231464955E-2,0,0,0,0,0,0,0,null,0,0,0,0,0,0,0]
[29,"Factory-1","Revised","ROAK",0.35761749040279406,0.12398810929791465,4.8469580292979389E-2,0.34616328864881535,7.505744270212833E-2,4.0323645270373402E-2,8.3804433849947735E-3,0,0,0,0,0,0,0,null,0,0,0,0,0,0,0]
[30,"Factory-1","Revised","ROAK",0.35445518730819409,0.12192070835815534,5.3715472859357627E-2,0.35677933535466516,6.7317909922940899E-2,4.0856724801784615E-2,4.9546613949021691E-3,0,0,0,0,0,0,0,null,0,0,0,0,0,0,0]
[31,"Factory-1","Revised","ROAK",0.35043974031035136,0.11979419454309941,5.9378852370647495E-2,0.36751206397826353,5.9763406991211493E-2,4.1897727440679634E-2,1.2140143657472099E-3,0,0,0,0,0,0,0,null,0,0,0,0,0,0,0]
[32,"Factory-1","Revised","ROAK",0.34466811800592856,0.11784282697889074,6.5157735636434649E-2,0.37678852849520189,5.2205736847539937E-2,4.3248450406696864E-2,8.8603629307436652E-5,0,0,0,0,0,0,0,null,0,0,0,0,0,0,0]
[10,"Factory-2","Revised","ROAK",3.8336548779238644E-2,5.6548198793024224E-2,4.7648277249395153E-2,0.24657661315355436,0.33892281373574373,0.22843638810431247,4.3531160184731271E-2,0,0,0,0,0,0,0,null,0,0,0,0,0,0,0]
[11,"Factory-2","Revised","ROAK",4.8773138029066604E-2,6.2335077595606643E-2,4.2556447878754684E-2,0.26380863235565027,0.32222804196187183,0.2120827786048225,4.8215883574227403E-2,0,0,0,0,0,0,0,null,0,0,0,0,0,0,0]
[12,"Factory-2","Revised","ROAK",5.9094355419216163E-2,6.7870872540483462E-2,3.7881008078958292E-2,0.28029604364325905,0.30626819863657279,0.19634752958113602,5.2241992100374307E-2,0,0,0,0,0,0,0,null,0,0,0,0,0,0,0]
[13,"Factory-2","Revised","ROAK",6.9279391088653455E-2,7.3142537179228667E-2,3.3635028726890503E-2,0.29599992915647155,0.29108105220911595,0.18126681131355118,5.5595250326088586E-2,0,0,0,0,0,0,0,null,0,0,0,0,0,0,0]
[14,"Factory-2","Revised","ROAK",7.9307689358834102E-2,7.8137879863481863E-2,2.9830071865419125E-2,0.3108838648631429,0.27670193464254333,0.16687471276864557,5.8263846637932992E-2,0,0,0,0,0,0,0,null,10.892009472217438,10.731349437773412,4.0968212280778076,42.696364352868827,38.001864856648481,22.918344574707863,8.0018769251597277]
[15,"Factory-2","Revised","ROAK",8.9159095961474658E-2,8.2845647279901458E-2,2.6476124792101204E-2,0.3249144467968319,0.26316324622228704,0.15320299723076367,6.0238441716640029E-2,0,0,0,0,0,0,0,null,0,0,0,0,0,0,0]
[16,"Factory-2","Revised","ROAK",9.8813975560821318E-2,8.7255572877283152E-2,2.3581539387682045E-2,0.33806120423111574,0.25049451428046582,0.14028089366835109,6.1512299994280865E-2,0,0,0,0,0,0,0,null,0,0,0,0,0,0,0]
[17,"Factory-2","Revised","ROAK",0.10825342283957935,9.1358544732403124E-2,2.1152939925534707E-2,0.35029680714737421,0.2387220145916179,0.12813491569841512,6.2081355065075748E-2,0,0,0,0,0,0,0,null,0,0,0,0,0,0,0]
[18,"Factory-2","Revised","ROAK",0.11745927276970368,9.5146582409085148E-2,1.919514750860906E-2,0.36159752057574357,0.22786862510058847,0.11678862755959411,6.1944224076675922E-2,0,0,0,0,0,0,0,null,0,0,0,0,0,0,0]
[19,"Factory-2","Revised","ROAK",0.12641424466057322,9.8612895322291755E-2,1.7711211335990115E-2,0.37194310243336159,0.21795380345138679,0.1062625267496069,6.1102216046789795E-2,0,0,0,0,0,0,0,null,0,0,0,0,0,0,0]
[20,"Factory-2","Revised","ROAK",0.13510212528297777,0.10175196681864102,1.6702363499398094E-2,0.38131703734932415,0.20899327551608932,9.6573902230393111E-2,5.9559329303176672E-2,40.6462475853642,30.612661547296483,5.0250016469786924,114.72141297669883,62.876823014519253,29.054811181685327,17.91876508089376,null,0,0,0,0,0,0,0]
[21,"Factory-2","Revised","ROAK",0.14350781685149017,0.10455957853763968,1.6167996353136631E-2,0.38970665591277714,0.20099892214024531,8.7736799714139252E-2,5.732223049057189E-2,0,0,0,0,0,0,0,null,0,0,0,0,0,0,0]
[22,"Factory-2","Revised","ROAK",0.15161731640558077,0.10703273495585149,1.610573163784542E-2,0.3971030917556696,0.19397917616324512,7.9761844437146651E-2,5.4400104644660982E-2,0,0,0,0,0,0,0,null,0,0,0,0,0,0,0]
[23,"Factory-2","Revised","ROAK",0.15941805007318005,0.10916982572291946,1.6511418365820645E-2,0.40350133494622631,0.18793830567162878,7.2656357820578152E-2,5.0804707399646612E-2,0,0,0,0,0,0,0,null,0,0,0,0,0,0,0]
[24,"Factory-2","Revised","ROAK",0.16689861237551668,0.110970430615199,1.7379191819706423E-2,0.40890020075994177,0.18287723489435614,6.6424219392524034E-2,4.6550110142755813E-2,0,0,0,0,0,0,0,null,0,0,0,0,0,0,0]
[25,"Factory-2","Revised","ROAK",0.17404912365400682,0.1124355142291816,1.8701573855570957E-2,0.41330227140108777,0.17879279629967304,6.106604671985659E-2,4.1652673840623287E-2,0,0,0,0,0,0,0,null,0,0,0,0,0,0,0]
[26,"Factory-2","Revised","ROAK",0.1808609968613733,0.11356717935179052,2.0469484735831357E-2,0.41671377724044695,0.17567858566631459,5.6579134845200031E-2,3.6130841299043433E-2,0,0,0,0,0,0,0,null,0,0,0,0,0,0,0]
[27,"Factory-2","Revised","ROAK",0.18732710805362546,0.114368728811578,2.2672410918373954E-2,0.4191445562337599,0.17352457314313022,5.2957630154331352E-2,3.0004992685201282E-2,{"$f":"IF(AND($B401=$M$5,$D401=$M$6,$A401=$M$4,C401=$R$4),E401*$M$7,0)","v":0},{"$f":"IF(AND($B401=$M$5,$D401=$M$6,$A401=$M$4,C401=$R$4),F401*$M$7,0)","v":0},{"$f":"IF(AND($B401=$M$5,$D401=$M$6,$A401=$M$4,C401=$R$4),G401*$M$7,0)","v":0},{"$f":"IF(AND($B401=$M$5,$D401=$M$6,$A401=$M$4,C401=$R$4),H401*$M$7,0)","v":0},{"$f":"IF(AND($B401=$M$5,$D401=$M$6,$A401=$M$4,C401=$R$4),I401*$M$7,0)","v":0},{"$f":"IF(AND($B401=$M$5,$D401=$M$6,$A401=$M$4,C401=$R$4),J401*$M$7,0)","v":0},{"$f":"IF(AND($B401=$M$5,$D401=$M$6,$A401=$M$4,C401=$R$4),K401*$M$7,0)","v":0},null,{"$f":"IF(AND($B401=$U$5,$D401=$U$6,$A401=$U$4,C401=$R$4),E401*$U$7,0)","v":0},{"$f":"IF(AND($B401=$U$5,$D401=$U$6,$A401=$U$4,C401=$R$4),F401*$U$7,0)","v":0},{"$f":"IF(AND($B401=$U$5,$D401=$U$6,$A401=$U$4,C401=$R$4),G401*$U$7,0)","v":0},{"$f":"IF(AND($B401=$U$5,$D401=$U$6,$A401=$U$4,C401=$R$4),H401*$U$7,0)","v":0},{"$f":"IF(AND($B401=$U$5,$D401=$U$6,$A401=$U$4,C401=$R$4),I401*$U$7,0)","v":0},{"$f":"IF(AND($B401=$U$5,$D401=$U$6,$A401=$U$4,C401=$R$4),J401*$U$7,0)","v":0},{"$f":"IF(AND($B401=$U$5,$D401=$U$6,$A401=$U$4,C401=$R$4),K401*$U$7,0)","v":0}]
[28,"Factory-2","Revised","ROAK",0.19344183410981616,0.11484466132133031,2.5298486202907641E-2,0.42060771198485519,0.17231739706121077,5.0192629493360688E-2,2.3297279826519118E-2,0,0,0,0,0,0,0,null,0,0,0,0,0,0,0]
[29,"Factory-2","Revised","ROAK",0.19920090132450941,0.11500052083451831,2.8334568965349249E-2,0.42111969140101208,0.1720406027634056,4.827231208085625E-2,1.6031402630349193E-2,0,0,0,0,0,0,0,null,0,0,0,0,0,0,0]
[30,"Factory-2","Revised","ROAK",0.2046014686766689,0.11484285626093442,3.1766399608193718E-2,0.42069977012611842,0.17267491481911956,4.7182129609927737E-2,8.2324608990372965E-3,0,0,0,0,0,0,0,null,0,0,0,0,0,0,0]
[31,"Factory-2","Revised","ROAK",0.2096266816245162,0.11437074823505942,3.5576107064750014E-2,0.41933955099246267,0.17418539168758704,4.6901520395624799E-2,0,0,0,0,0,0,0,0,null,0,0,0,0,0,0,0]
[32,"Factory-2","Revised","ROAK",0.21244055716145613,0.11262005506760782,3.9406290907494097E-2,0.41349286801031765,0.17503531051192298,4.7004918341201248E-2,0,0,0,0,0,0,0,0,null,0,0,0,0,0,0,0]
[8,"Factory-3","Revised","ROAK",0,0,2.022848702282621E-2,0.10614317608177358,0.33742485344791023,0.39705914626334909,0.13914433718414101,0,0,0,0,0,0,0,null,0,0,0,0,0,0,0]
[9,"Factory-3","Revised","ROAK",0,0,1.8569089148519253E-2,0.12190118040573766,0.3447855906148482,0.37421957958956825,0.14052456024132665,0,0,0,0,0,0,0,null,0,0,0,0,0,0,0]
[10,"Factory-3","Revised","ROAK",3.7221017037959636E-3,1.0777480752353132E-2,1.6680696735606449E-2,0.1362636946248493,0.34657057074304271,0.34642413542601175,0.1395613200143408,0,0,0,0,0,0,0,null,0,0,0,0,0,0,0]
[11,"Factory-3","Revised","ROAK",1.0226380268047093E-2,2.064932583821396E-2,1.4841543641704693E-2,0.15037401849145784,0.34692656858920651,0.31899766329506735,0.13798449987630257,0,0,0,0,0,0,0,null,0,0,0,0,0,0,0]
[12,"Factory-3","Revised","ROAK",1.6565920124582651E-2,2.9007253879626112E-2,1.3123229758990048E-2,0.16463107087309536,0.34704484898237981,0.29334527657909992,0.13628239980222626,0,0,0,0,0,0,0,null,0,0,0,0,0,0,0]
[13,"Factory-3","Revised","ROAK",2.2722953871774341E-2,3.5794146469485741E-2,1.1532551881455669E-2,0.17900823563914939,0.34691888964606521,0.26956785427719887,0.13445536821487084,0,0,0,0,0,0,0,null,0,0,0,0,0,0,0]
[14,"Factory-3","Revised","ROAK",2.8679888542440784E-2,4.0957702822205018E-2,1.0075984894149173E-2,0.19347756999940346,0.3465432585929184,0.24776128029061922,0.13250431485826394,0,0,0,0,0,0,0,null,0,0,0,0,0,0,0]
[15,"Factory-3","Revised","ROAK",3.4419470742768368E-2,4.4451025970692587E-2,8.7596268195625198E-3,0.20800982849127209,0.34591323436939547,0.22801607032785901,0.13043074327845006,0,0,0,0,0,0,0,null,0,0,0,0,0,0,0]
[16,"Factory-3","Revised","ROAK",3.9924911720542806E-2,4.6233142281473058E-2,7.5891379115464288E-3,0.22257494171990444,0.34502499125298175,0.2104161737435771,0.12823670136997437,0,0,0,0,0,0,0,null,0,0,0,0,0,0,0]
[17,"Factory-3","Revised","ROAK",4.5179984793701125E-2,4.6269490536617268E-2,6.569681691751492E-3,0.2371415572499472,0.34387594370990737,0.19503856351684573,0.12592477850122996,0,0,0,0,0,0,0,null,0,0,0,0,0,0,0]
[18,"Factory-3","Revised","ROAK",5.0169239396027798E-2,4.4532409547334874E-2,5.7058827544676678E-3,0.25167774254355973,0.34246448667093915,0.18195202340449812,0.12349821568317258,0,0,0,0,0,0,0,null,0,0,0,0,0,0,0]
[19,"Factory-3","Revised","ROAK",5.487804748103637E-2,4.1001472059496599E-2,5.0017673591431309E-3,0.26615126417633478,0.34079006703876391,0.17121661375118666,0.12096076813403855,0,0,0,0,0,0,0,null,0,0,0,0,0,0,0]
[20,"Factory-3","Revised","ROAK",5.9292821262824237E-2,3.5663846151051497E-2,4.4607266542334772E-3,0.28052944807208874,0.33885336048285403,0.16288301999633584,0.11831677738061223,0,0,0,0,0,0,0,null,0,0,0,0,0,0,0]
[21,"Factory-3","Revised","ROAK",6.3401022270970442E-2,2.8514483590042397E-2,4.0854750021828701E-3,0.29477949188797836,0.33665627302795337,0.15699219561289715,0.11557105860797538,0,0,0,0,0,0,0,null,0,0,0,0,0,0,0]
[22,"Factory-3","Revised","ROAK",6.7191395393606385E-2,1.9556335001034163E-2,3.8780264001867788E-3,0.30886889534913664,0.33420181590793524,0.15357452601641691,0.11272900593168393,0,0,0,0,0,0,0,null,0,0,0,0,0,0,0]
[23,"Factory-3","Revised","ROAK",7.0653967663769357E-2,8.8003821636344799E-3,3.8396644490636968E-3,0.32276584684446635,0.33149406610683779,0.15264962431593165,0.10979644845629657,0,0,0,0,0,0,0,null,0,0,0,0,0,0,0]
[24,"Factory-3","Revised","ROAK",7.3505668765020973E-2,0,3.956153324110266E-3,0.33518709026966964,0.32731613128221065,0.15365261637676561,0.10638233998222289,0,0,0,0,0,0,0,null,0,0,0,0,0,0,0]
[25,"Factory-3","Revised","ROAK",7.5207600498566202E-2,0,4.1959901101014004E-3,0.34366418788715131,0.31958222091212291,0.15550025735143008,0.10184974324062804,0,0,0,0,0,0,0,null,0,0,0,0,0,0,0]
[26,"Factory-3","Revised","ROAK",7.6397247266442814E-2,0,4.5847448825631467E-3,0.35104804012414775,0.31131783338161689,0.15943965463505921,9.7212479710170316E-2,0,0,0,0,0,0,0,null,0,0,0,0,0,0,0]
[27,"Factory-3","Revised","ROAK",7.7091468417665718E-2,0,5.1123035251477876E-3,0.35734019207800505,0.30260787169062331,0.16533949352601887,9.2508670762539366E-2,0,0,0,0,0,0,0,null,0,0,0,0,0,0,0]
[28,"Factory-3","Revised","ROAK",7.7312805365369372E-2,0,5.7673173728024487E-3,0.3625571136814848,0.29353763914662001,0.17305043541725904,8.7774689016464208E-2,0,0,0,0,0,0,0,null,0,0,0,0,0,0,0]
[29,"Factory-3","Revised","ROAK",7.708856351785684E-2,0,6.537578259584737E-3,0.366728775247112,0.28419072073609836,0.18240977850058987,8.3044583738758102E-2,0,0,0,0,0,0,0,null,0,0,0,0,0,0,0]
[30,"Factory-3","Revised","ROAK",7.6449647930835529E-2,0,7.4103673507358962E-3,0.36989669460011476,0.27464730123994535,0.19324650882368874,7.8349480054679704E-2,0,0,0,0,0,0,0,null,0,0,0,0,0,0,0]
[31,"Factory-3","Revised","ROAK",7.5429511825198262E-2,0,8.3727829256932691E-3,0.37211125751816809,0.26498308507719431,0.20538613469546696,7.3717227958279244E-2,0,0,0,0,0,0,0,null,0,0,0,0,0,0,0]
[32,"Factory-3","Revised","ROAK",7.406323929320259E-2,0,9.412040355024005E-3,0.37343019328824578,0.25526790573642272,0.21865436781736691,6.9172253509737838E-2,0,0,0,0,0,0,0,null,0,0,0,0,0,0,0]
[13,"Factory-1","Revised","WOAK",0.17883429496179196,0.12715314031636626,3.9549173537536481E-2,0.24172053117849915,0.23198777885468042,0.11848150949480932,6.2273571656316293E-2,0,0,0,0,0,0,0,null,0,0,0,0,0,0,0]
[14,"Factory-1","Revised","WOAK",0.17466886445743779,0.1279981435150499,4.1201181357165231E-2,0.24880443840369729,0.23202657710219038,0.11543167380992464,5.9869121354534871E-2,0,0,0,0,0,0,0,null,0,0,0,0,0,0,0]
[15,"Factory-1","Revised","WOAK",0.17129660962388765,0.12877310459478025,4.25120437065893E-2,0.25579763305403841,0.23192560680383273,0.11228661667964566,5.7408385537225909E-2,0,0,0,0,0,0,0,null,0,0,0,0,0,0,0]
[16,"Factory-1","Revised","WOAK",0.16873295795169735,0.12947560573102265,4.3475387939282108E-2,0.2626863738984519,0.23168353316190041,0.10905095314163182,5.4895188176013826E-2,0,0,0,0,0,0,0,null,0,0,0,0,0,0,0]
[17,"Factory-1","Revised","WOAK",0.16699065951444003,0.13010371668137055,4.4085990494040689E-2,0.26945701441843145,0.23129943912534079,0.10572962857251911,5.23335511938572E-2,0,0,0,0,0,0,0,null,0,0,0,0,0,0,0]
[18,"Factory-1","Revised","WOAK",0.16607940649146236,0.13065582329552319,4.4339895188406003E-2,0.27609631264986756,0.23077273404445101,0.10232804773152279,4.9727780598767146E-2,0,0,0,0,0,0,0,null,0,0,0,0,0,0,0]
[19,"Factory-1","Revised","WOAK",0.16600625403871522,0.13113019621462338,4.4234376212522547E-2,0.28259132485275601,0.23010361346297467,9.8851890079391963E-2,4.7082345139016137E-2,0,0,0,0,0,0,0,null,0,0,0,0,0,0,0]
[20,"Factory-1","Revised","WOAK",0.16677505666367046,0.13152577336951177,4.3768034272228404E-2,0.28892943553708644,0.22929255437966509,9.5307220361128431E-2,4.440192541670944E-2,0,0,0,0,0,0,0,null,0,0,0,0,0,0,0]
[21,"Factory-1","Revised","WOAK",0.16838650246760281,0.1318416940145872,4.2940755948684677E-2,0.29509867174034365,0.22834071409113252,9.1700329783009876E-2,4.169133195463931E-2,0,0,0,0,0,0,0,null,0,0,0,0,0,0,0]
[22,"Factory-1","Revised","WOAK",0.17083852813679284,0.13207710491632205,4.1753755214496584E-2,0.30108759265819796,0.22724980505698472,8.8037738831256276E-2,3.8955475185949467E-2,0,0,0,0,0,0,0,null,0,0,0,0,0,0,0]
[23,"Factory-1","Revised","WOAK",0.17412582241236238,0.13223176977040568,4.0209556913498166E-2,0.30688546291514429,0.22602177964581499,8.4326214670854147E-2,3.6199393671920363E-2,0,0,0,0,0,0,0,null,0,0,0,0,0,0,0]
[24,"Factory-1","Revised","WOAK",0.17823982155854307,0.13230573424591768,3.8311998559183373E-2,0.31248224233996613,0.22465936464635888,8.0572666193014925E-2,3.3428172457015959E-2,0,0,0,0,0,0,0,null,0,0,0,0,0,0,0]
[25,"Factory-1","Revised","WOAK",0.18316927740212963,0.13229902281196834,3.6066171530942374E-2,0.31786874123194564,0.22316574020631363,7.6784113339649199E-2,3.0646933477050917E-2,0,0,0,0,0,0,0,null,0,0,0,0,0,0,0]
[26,"Factory-1","Revised","WOAK",0.18890012201268444,0.13221229579692809,3.3478406031927234E-2,0.32303640192580424,0.22154431050074894,7.2967686417669361E-2,2.786077731423784E-2,0,0,0,0,0,0,0,null,0,0,0,0,0,0,0]
[27,"Factory-1","Revised","WOAK",0.19541517356295554,0.13204635841049686,3.0556186734418712E-2,0.32797775126804352,0.21979924343507501,6.9130493724998868E-2,2.5074792864011413E-2,0,0,0,0,0,0,0,null,0,0,0,0,0,0,0]
[28,"Factory-1","Revised","WOAK",0.20269501809531767,0.13180238457528451,2.7308142348207054E-2,0.33268610487847022,0.21793469368546572,6.5279659951598915E-2,2.2293996465656059E-2,0,0,0,0,0,0,0,null,0,0,0,0,0,0,0]
[29,"Factory-1","Revised","WOAK",0.21071755024525182,0.13148155983726789,2.3743916245447087E-2,0.33715582572982866,0.21595555753117782,6.1422268982138255E-2,1.9523321428888372E-2,0,0,0,0,0,0,0,null,0,0,0,0,0,0,0]
[30,"Factory-1","Revised","WOAK",0.21945839469131159,0.13108556269989907,1.987413653546867E-2,0.34138207911777307,0.21386696369382416,5.7565280932454638E-2,1.6767582329268831E-2,0,0,0,0,0,0,0,null,0,0,0,0,0,0,0]
[31,"Factory-1","Revised","WOAK",0.22889113678330386,0.13061633760933647,1.571030099379378E-2,0.34536116233412645,0.21167408938229687,5.371554763109411E-2,1.4031425266048416E-2,0,0,0,0,0,0,0,null,0,0,0,0,0,0,0]
[32,"Factory-1","Revised","WOAK",0.23898754644548359,0.13007578802955816,1.1264732035994995E-2,0.34909012356255792,0.20938271654948981,4.9879733056404606E-2,1.1319360320510865E-2,0,0,0,0,0,0,0,null,0,0,0,0,0,0,0]
[10,"Factory-2","Revised","WOAK",9.3490030839087062E-3,5.4001985223644834E-2,3.0090283678265845E-2,0.10351477338530155,0.38149192627110295,0.24993860206054302,0.17161342629723289,0,0,0,0,0,0,0,null,0,0,0,0,0,0,0]
[11,"Factory-2","Revised","WOAK",1.5776059811438807E-2,5.1393195586413899E-2,2.8934475122511807E-2,0.13740460274297811,0.3777498166917389,0.22730133601036454,0.16144051403455409,0,0,0,0,0,0,0,null,0,0,0,0,0,0,0]
[12,"Factory-2","Revised","WOAK",2.2155235188426256E-2,4.9450095444136859E-2,2.7771287298710826E-2,0.16911244531266109,0.37384083812976321,0.20642053256815282,0.1512495660581489,0,0,0,0,0,0,0,null,0,0,0,0,0,0,0]
[13,"Factory-2","Revised","WOAK",2.8477413062761432E-2,4.8168930689473373E-2,2.6602539226989037E-2,0.19861259191954428,0.36977250882100027,0.18730993941318227,0.14105607686704946,0,0,0,0,0,0,0,null,0,0,0,0,0,0,0]
[14,"Factory-2","Revised","WOAK",3.4733779703614756E-2,4.7544003550083397E-2,2.5430047583596085E-2,0.22588612725859544,0.36555285548960925,0.16997783937748667,0.13087534703701442,0,0,0,0,0,0,0,null,0,0,0,0,0,0,0]
[15,"Factory-2","Revised","WOAK",4.0915864798269454E-2,4.7567790099788856E-2,2.4255610796605001E-2,0.25092122369355563,0.36118998880071995,0.15442711405045387,0.12072240776060711,0,0,0,0,0,0,0,null,0,0,0,0,0,0,0]
[16,"Factory-2","Revised","WOAK",4.7015563943175652E-2,4.8230923423964053E-2,2.3080994670744016E-2,0.27371292688057386,0.35669246753427236,0.14065523230729968,0.11061189123997033,0,0,0,0,0,0,0,null,0,0,0,0,0,0,0]
[17,"Factory-2","Revised","WOAK",5.3025182313755706E-2,4.9522389606287291E-2,2.1907936274296189E-2,0.29426285436971683,0.35206906554943879,0.12865452892103738,0.1005580429654678,0,0,0,0,0,0,0,null,0,0,0,0,0,0,0]
[18,"Factory-2","Revised","WOAK",5.8937447764121458E-2,5.1429523353186013E-2,2.0738122094808568E-2,0.31257928457133344,0.34732874900516808,0.11841226572005768,9.0574607491324732E-2,0,0,0,0,0,0,0,null,0,0,0,0,0,0,0]
[19,"Factory-2","Revised","WOAK",6.4745567440358073E-2,5.3938217357968575E-2,1.9573202436975624E-2,0.32867673867498037,0.34248047306755364,0.10991095990168766,8.0674841120476182E-2,0,0,0,0,0,0,0,null,0,0,0,0,0,0,0]
[20,"Factory-2","Revised","WOAK",7.0443195144119133E-2,5.7032943075704133E-2,1.8414758638808693E-2,0.34257584537853086,0.33753341718545044,0.10312845941556532,7.087138116182129E-2,0,0,0,0,0,0,0,null,0,0,0,0,0,0,0]
[21,"Factory-2","Revised","WOAK",7.6024489197383041E-2,6.0696950886951068E-2,1.7264318652351823E-2,0.35430285174086829,0.33249677030703995,9.8038354439124259E-2,6.1176264776281804E-2,0,0,0,0,0,0,0,null,0,0,0,0,0,0,0]
[22,"Factory-2","Revised","WOAK",8.1484097218422258E-2,6.4912310375924612E-2,1.6123338275408433E-2,0.36388949560397343,0.32737977713939148,9.461011326438129E-2,5.1600868122498256E-2,0,0,0,0,0,0,0,null,0,0,0,0,0,0,0]
[23,"Factory-2","Revised","WOAK",8.6817184360459862E-2,6.9660115671102127E-2,1.4993206946966207E-2,0.37137272198810545,0.32219138173335232,9.2809500695300279E-2,4.2155888604713795E-2,{"$f":"IF(AND($B465=$M$5,$D465=$M$6,$A465=$M$4,C465=$R$4),E465*$M$7,0)","v":0},{"$f":"IF(AND($B465=$M$5,$D465=$M$6,$A465=$M$4,C465=$R$4),F465*$M$7,0)","v":0},{"$f":"IF(AND($B465=$M$5,$D465=$M$6,$A465=$M$4,C465=$R$4),G465*$M$7,0)","v":0},{"$f":"IF(AND($B465=$M$5,$D465=$M$6,$A465=$M$4,C465=$R$4),H465*$M$7,0)","v":0},{"$f":"IF(AND($B465=$M$5,$D465=$M$6,$A465=$M$4,C465=$R$4),I465*$M$7,0)","v":0},{"$f":"IF(AND($B465=$M$5,$D465=$M$6,$A465=$M$4,C465=$R$4),J465*$M$7,0)","v":0},{"$f":"IF(AND($B465=$M$5,$D465=$M$6,$A465=$M$4,C465=$R$4),K465*$M$7,0)","v":0},null,{"$f":"IF(AND($B465=$U$5,$D465=$U$6,$A465=$U$4,C465=$R$4),E465*$U$7,0)","v":0},{"$f":"IF(AND($B465=$U$5,$D465=$U$6,$A465=$U$4,C465=$R$4),F465*$U$7,0)","v":0},{"$f":"IF(AND($B465=$U$5,$D465=$U$6,$A465=$U$4,C465=$R$4),G465*$U$7,0)","v":0},{"$f":"IF(AND($B465=$U$5,$D465=$U$6,$A465=$U$4,C465=$R$4),H465*$U$7,0)","v":0},{"$f":"IF(AND($B465=$U$5,$D465=$U$6,$A465=$U$4,C465=$R$4),I465*$U$7,0)","v":0},{"$f":"IF(AND($B465=$U$5,$D465=$U$6,$A465=$U$4,C465=$R$4),J465*$U$7,0)","v":0},{"$f":"IF(AND($B465=$U$5,$D465=$U$6,$A465=$U$4,C465=$R$4),K465*$U$7,0)","v":0}]
[24,"Factory-2","Revised","WOAK",9.2019420533678509E-2,7.4920564440155768E-2,1.3875238151362818E-2,0.37679397042789142,0.31694070084607234,9.2598790983415585E-2,3.2851314617423535E-2,0,0,0,0,0,0,0,null,0,0,0,0,0,0,0]
[25,"Factory-2","Revised","WOAK",9.7086962220123071E-2,8.067308283646657E-2,1.2770662267892315E-2,0.3801991148927793,0.31163665691008685,9.3937118547915796E-2,2.3696402324735959E-2,0,0,0,0,0,0,0,null,0,0,0,0,0,0,0]
[26,"Factory-2","Revised","WOAK",0.10201651916003046,8.6896495633323759E-2,1.1680639755503817E-2,0.38163795263267353,0.30628788138547058,9.6780824669460863E-2,1.4699686763537145E-2,0,0,0,0,0,0,0,null,0,0,0,0,0,0,0]
[27,"Factory-2","Revised","WOAK",0.10680525582938263,9.3569118528044337E-2,1.0606239966111814E-2,0.38116374540809744,0.30090295674597684,0.10108373535493076,5.8689481674562925E-3,0,0,0,0,0,0,0,null,0,0,0,0,0,0,0]
[28,"Factory-2","Revised","WOAK",0.11083265525371101,0.10011047762213514,9.4954925927091278E-3,0.37673174964600137,0.29385119587796604,0.10620512567325145,2.7733033342259802E-3,0,0,0,0,0,0,0,null,0,0,0,0,0,0,0]
[29,"Factory-2","Revised","WOAK",0.11453188018731912,0.10684906965666842,8.4040287997051485E-3,0.37011754324750246,0.28650670651435539,0.11247784835074189,1.1129232437074616E-3,0,0,0,0,0,0,0,null,0,0,0,0,0,0,0]
[30,"Factory-2","Revised","WOAK",0.11799738755157063,0.11383345410280675,7.3426391682733169E-3,0.36176424471716578,0.27915258633987128,0.11990968812031214,0,0,0,0,0,0,0,0,null,0,0,0,0,0,0,0]
[31,"Factory-2","Revised","WOAK",0.12116039721528657,0.12096029487881575,6.3088980470024109E-3,0.35157770615648165,0.27164880943868036,0.12834389426373324,0,0,0,0,0,0,0,0,null,0,0,0,0,0,0,0]
[32,"Factory-2","Revised","WOAK",0.12415432058016859,0.12832520507249812,5.3113908581137875E-3,0.34006222381032503,0.26431444024610057,0.13783241943279398,0,0,0,0,0,0,0,0,null,0,0,0,0,0,0,0]
[8,"Factory-3","Revised","WOAK",4.6056654082394519E-3,4.9151958495145549E-3,8.2911370825291132E-4,7.3190738978622702E-4,0.28551676627234235,0.28463541610318416,0.41876593526868044,0,0,0,0,0,0,0,null,0,0,0,0,0,0,0]
[9,"Factory-3","Revised","WOAK",4.7261338593210505E-3,4.6485929305398197E-3,2.2439858249987009E-3,2.4279986733429054E-2,0.30439608689118647,0.27820319272349703,0.38150202103702779,0,0,0,0,0,0,0,null,0,0,0,0,0,0,0]
[10,"Factory-3","Revised","WOAK",1.9198477786504715E-3,5.0928715695049082E-3,3.5235198850857331E-3,4.9010207172064418E-2,0.32374238846902736,0.271484288053704,0.34522687707196315,0,0,0,0,0,0,0,null,0,0,0,0,0,0,0]
[11,"Factory-3","Revised","WOAK",4.9827209418210278E-3,6.244078980172295E-3,4.6089154021293531E-3,7.4213824993388688E-2,0.34041006969156679,0.26211855868757244,0.30742183130334944,0,0,0,0,0,0,0,null,0,0,0,0,0,0,0]
[12,"Factory-3","Revised","WOAK",7.8332531209082037E-3,8.1479998779384194E-3,5.4911391123816525E-3,9.9728559984036763E-2,0.35598373117854115,0.25187464028469136,0.27094067644150233,0,0,0,0,0,0,0,null,0,0,0,0,0,0,0]
[13,"Factory-3","Revised","WOAK",1.0426324250970044E-2,1.080287529319985E-2,6.1518660366168083E-3,0.12522069808980074,0.37021894231731273,0.24086264254052625,0.23631665147157363,0,0,0,0,0,0,0,null,0,0,0,0,0,0,0]
[14,"Factory-3","Revised","WOAK",1.2722251507644809E-2,1.418662854622311E-2,6.5781345849448376E-3,0.1503459999320346,0.3828992323897758,0.22921702476502173,0.20405072827435511,0,0,0,0,0,0,0,null,0,0,0,0,0,0,0]
[15,"Factory-3","Revised","WOAK",1.4688739032413427E-2,1.8257238771138478E-2,6.7630906848550401E-3,0.17476481490228299,0.39384663975963469,0.21709138825594076,0.17458808859373456,0,0,0,0,0,0,0,null,0,0,0,0,0,0,0]
[16,"Factory-3","Revised","WOAK",1.6302364410765807E-2,2.2954455591966037E-2,6.7063406916674445E-3,0.19815722456923768,0.40292991768168696,0.20465172815708657,0.14829796889758953,0,0,0,0,0,0,0,null,0,0,0,0,0,0,0]
[17,"Factory-3","Revised","WOAK",1.7549496943021221E-2,2.8202706521737158E-2,6.4138783715270622E-3,0.22023686124222555,0.41006959564188838,0.19206902777665041,0.12545843350295011,0,0,0,0,0,0,0,null,0,0,0,0,0,0,0]
[18,"Factory-3","Revised","WOAK",1.8426520398251371E-2,3.3914906443063809E-2,5.8975949992000178E-3,0.24076201918625181,0.41523981693701123,0.1795115642771391,0.10624757775908265,0,0,0,0,0,0,0,null,0,0,0,0,0,0,0]
[19,"Factory-3","Revised","WOAK",1.8939443640177432E-2,3.9996811363287289E-2,5.1744480727857417E-3,0.2595435397985138,0.41846607691756327,0.167138055766269,9.0741624441403462E-2,0,0,0,0,0,0,0,null,0,0,0,0,0,0,0]
[20,"Factory-3","Revised","WOAK",1.9102913610465188E-2,4.6351458378863869E-2,4.2653733996548477E-3,0.27644859491924823,0.41982051273168114,0.15509170950287324,7.8919437457213373E-2,0,0,0,0,0,0,0,null,0,0,0,0,0,0,0]
[21,"Factory-3","Revised","WOAK",1.8938817350851272E-2,5.2883329825928554E-2,3.1940685367229295E-3,0.29140079094140009,0.41941457307760355,0.14349595006133478,7.0672470206159008E-2,0,0,0,0,0,0,0,null,0,0,0,0,0,0,0]
[22,"Factory-3","Revised","WOAK",1.8474629056950416E-2,5.9501934971279459E-2,1.9857606304260599E-3,0.3043769271180406,0.41739031810382654,0.13245173732798804,6.5818692791489053E-2,0,0,0,0,0,0,0,null,0,0,0,0,0,0,0]
[23,"Factory-3","Revised","WOAK",1.7741663470710045E-2,6.6124596737102664E-2,6.6605955488236097E-4,0.31540117359196174,0.41391117824633444,0.12203661051624017,6.4118717882768572E-2,0,0,0,0,0,0,0,null,0,0,0,0,0,0,0]
[24,"Factory-3","Revised","WOAK",1.6760997813937466E-2,7.2624643889732388E-2,0,0.32429761258218909,0.4088504759711668,0.11222201833613338,6.5244251406840897E-2,0,0,0,0,0,0,0,null,0,0,0,0,0,0,0]
[25,"Factory-3","Revised","WOAK",1.5569589779080878E-2,7.8926871847288971E-2,0,0.33115039899528304,0.40240719826072147,0.10306257813554213,6.8883362982083418E-2,0,0,0,0,0,0,0,null,0,0,0,0,0,0,0]
[26,"Factory-3","Revised","WOAK",1.4214074864647055E-2,8.5025919001770423E-2,0,0.3363021157743103,0.39504905373238453,9.4654109435852951E-2,7.4754727191034667E-2,0,0,0,0,0,0,0,null,0,0,0,0,0,0,0]
[27,"Factory-3","Revised","WOAK",1.2727390423153231E-2,9.0883863322552369E-2,0,0.33989985169601739,0.38695758797461871,8.6993777163594632E-2,8.2537529420063843E-2,0,0,0,0,0,0,0,null,0,0,0,0,0,0,0]
[28,"Factory-3","Revised","WOAK",1.1139877436310187E-2,9.6473349485459881E-2,0,0.34209783790701953,0.3783003080820751,8.0064693932826475E-2,9.192393315630891E-2,0,0,0,0,0,0,0,null,0,0,0,0,0,0,0]
[29,"Factory-3","Revised","WOAK",9.4788575473051511E-3,0.10177639250416616,0,0.34305133813681582,0.36922820071315759,7.3839169650937175E-2,0.10262604144761812,0,0,0,0,0,0,0,null,0,0,0,0,0,0,0]
[30,"Factory-3","Revised","WOAK",7.7684246256930272E-3,0.10678303607029611,0,0.34291187388140515,0.35987458422632063,6.8281699600279508E-2,0.11438038159600575,0,0,0,0,0,0,0,null,0,0,0,0,0,0,0]
[31,"Factory-3","Revised","WOAK",6.0294338282584504E-3,0.11148999090659319,0,0.34182374484277489,0.35035498346437632,6.3351530738036399E-2,0.12695031621996081,0,0,0,0,0,0,0,null,0,0,0,0,0,0,0]
[32,"Factory-3","Revised","WOAK",4.2796148786966772E-3,0.11589933496982166,0,0.33992166568362053,0.34076773418497014,5.9004870844670203E-2,0.14012677943822074,0,0,0,0,0,0,0,null,0,0,0,0,0,0,0]
[13,"Factory-1","Revised","YPOP",2.3121147358027772E-2,8.3927228476480417E-2,8.9539519106459867E-2,0.36745226899783512,0.30490054650011533,7.9025917450386257E-2,5.2033372110695246E-2,{"$f":"IF(AND($B500=$M$5,$D500=$M$6,$A500=$M$4,C500=$R$4),E500*$M$7,0)","v":0},{"$f":"IF(AND($B500=$M$5,$D500=$M$6,$A500=$M$4,C500=$R$4),F500*$M$7,0)","v":0},{"$f":"IF(AND($B500=$M$5,$D500=$M$6,$A500=$M$4,C500=$R$4),G500*$M$7,0)","v":0},{"$f":"IF(AND($B500=$M$5,$D500=$M$6,$A500=$M$4,C500=$R$4),H500*$M$7,0)","v":0},{"$f":"IF(AND($B500=$M$5,$D500=$M$6,$A500=$M$4,C500=$R$4),I500*$M$7,0)","v":0},{"$f":"IF(AND($B500=$M$5,$D500=$M$6,$A500=$M$4,C500=$R$4),J500*$M$7,0)","v":0},{"$f":"IF(AND($B500=$M$5,$D500=$M$6,$A500=$M$4,C500=$R$4),K500*$M$7,0)","v":0},null,{"$f":"IF(AND($B500=$U$5,$D500=$U$6,$A500=$U$4,C500=$R$4),E500*$U$7,0)","v":0},{"$f":"IF(AND($B500=$U$5,$D500=$U$6,$A500=$U$4,C500=$R$4),F500*$U$7,0)","v":0},{"$f":"IF(AND($B500=$U$5,$D500=$U$6,$A500=$U$4,C500=$R$4),G500*$U$7,0)","v":0},{"$f":"IF(AND($B500=$U$5,$D500=$U$6,$A500=$U$4,C500=$R$4),H500*$U$7,0)","v":0},{"$f":"IF(AND($B500=$U$5,$D500=$U$6,$A500=$U$4,C500=$R$4),I500*$U$7,0)","v":0},{"$f":"IF(AND($B500=$U$5,$D500=$U$6,$A500=$U$4,C500=$R$4),J500*$U$7,0)","v":0},{"$f":"IF(AND($B500=$U$5,$D500=$U$6,$A500=$U$4,C500=$R$4),K500*$U$7,0)","v":0}]
[14,"Factory-1","Revised","YPOP",3.058246520297335E-2,8.311785667550757E-2,8.8402211258884769E-2,0.37788017008333413,0.29492973569898856,7.711737433653458E-2,4.7970186743777073E-2,0,0,0,0,0,0,0,null,0,0,0,0,0,0,0]
[15,"Factory-1","Revised","YPOP",3.814104099588457E-2,8.2095562945650569E-2,8.7032176634857017E-2,0.38800154854478858,0.28538310237397357,7.4985072461468363E-2,4.4361496043377392E-2,0,0,0,0,0,0,0,null,0,0,0,0,0,0,0]
[16,"Factory-1","Revised","YPOP",4.5746358631908186E-2,8.086105342815092E-2,8.5431997166690352E-2,0.39773534659596765,0.27634121251282567,7.2637251941467584E-2,4.1246779722989513E-2,0,0,0,0,0,0,0,null,0,0,0,0,0,0,0]
[17,"Factory-1","Revised","YPOP",5.3345370102891143E-2,7.9418071597445572E-2,8.3607582552186963E-2,0.40700308984231237,0.26788044119973264,7.0085514785095379E-2,3.8659929920335873E-2,0,0,0,0,0,0,0,null,0,0,0,0,0,0,0]
[18,"Factory-1","Revised","YPOP",6.0883743103184763E-2,7.7773472653822937E-2,8.156825043706023E-2,0.41573085532733889,0.26007076607678276,6.7344696545660929E-2,3.662821585614949E-2,0,0,0,0,0,0,0,null,0,0,0,0,0,0,0]
[19,"Factory-1","Revised","YPOP",6.8307007079273757E-2,7.5937073022005599E-2,7.932651061755748E-2,0.423851149275633,0.25297425222296882,6.4432558668492221E-2,3.5171449114069268E-2,0,0,0,0,0,0,0,null,0,0,0,0,0,0,0]
[20,"Factory-1","Revised","YPOP",7.5561912173303838E-2,7.3921510684128444E-2,7.6897867689925542E-2,0.4313045337978374,0.24664330301916221,6.1369485513019344E-2,3.4301387122623143E-2,0,0,0,0,0,0,0,null,0,0,0,0,0,0,0]
[21,"Factory-1","Revised","YPOP",8.2597700725242779E-2,7.1741986429770976E-2,7.4300485449116646E-2,0.43804119104923955,0.24111923959252005,5.8177965794997739E-2,3.4021430959112441E-2,0,0,0,0,0,0,0,null,0,0,0,0,0,0,0]
[22,"Factory-1","Revised","YPOP",8.9367275379606648E-2,6.9415795132069302E-2,7.1554686025941519E-2,0.44402203877679974,0.23643155176845859,5.4882034800601234E-2,3.4326618116522871E-2,0,0,0,0,0,0,0,null,0,0,0,0,0,0,0]
[23,"Factory-1","Revised","YPOP",9.5828204955272445E-2,6.6961979553847806E-2,6.8682473077364817E-2,0.44921925199108459,0.23259746663606001,5.1506745052739958E-2,3.5203878733630393E-2,0,0,0,0,0,0,0,null,0,0,0,0,0,0,0]
[24,"Factory-1","Revised","YPOP",0.10194355767120428,6.4400764121387094E-2,6.5706937967447851E-2,0.45361674485759562,0.22962191451016919,4.8077470868294385E-2,3.6632610003901687E-2,0,0,0,0,0,0,0,null,0,0,0,0,0,0,0]
[25,"Factory-1","Revised","YPOP",0.10768255992711594,6.1753101123790767E-2,6.2651735957921104E-2,0.45721006512596807,0.22749770025782573,4.461938200481342E-2,3.8585455602565009E-2,0,0,0,0,0,0,0,null,0,0,0,0,0,0,0]
[26,"Factory-1","Revised","YPOP",0.1130209307225893,5.9040112945163932E-2,5.9540475153497543E-2,0.46000554972644936,0.22620680370495441,4.1156880704414159E-2,4.1029247042931316E-2,0,0,0,0,0,0,0,null,0,0,0,0,0,0,0]
[27,"Factory-1","Revised","YPOP",0.11794099929046162,5.628265489061416E-2,5.6396229273506099E-2,0.46202000079166822,0.22572089485255328,3.771307709063286E-2,4.3926143810563659E-2,0,0,0,0,0,0,0,null,0,0,0,0,0,0,0]
[28,"Factory-1","Revised","YPOP",0.12243164083812982,5.3500839441504008E-2,5.3241070218632773E-2,0.46327924965945133,0.22600304458177001,3.4309404974720403E-2,4.723475028579182E-2,0,0,0,0,0,0,0,null,0,0,0,0,0,0,0]
[29,"Factory-1","Revised","YPOP",0.12648796159654263,5.0713723834616115E-2,5.0095680321179989E-2,0.46381687065193844,0.22700911400366697,3.0965330005215272E-2,5.0911319586840496E-2,0,0,0,0,0,0,0,null,0,0,0,0,0,0,0]
[30,"Factory-1","Revised","YPOP",0.13011086352747148,4.7938968845698239E-2,4.697904322766077E-2,0.46367292144319205,0.22868929603586227,2.7698066128240981E-2,5.4910840791874284E-2,0,0,0,0,0,0,0,null,0,0,0,0,0,0,0]
[31,"Factory-1","Revised","YPOP",0.13330639578878423,4.5192624359122184E-2,4.390822375957662E-2,0.46289246481669971,0.2309897495278958,2.4522472979882422E-2,5.9188068768039163E-2,0,0,0,0,0,0,0,null,0,0,0,0,0,0,0]
[32,"Factory-1","Revised","YPOP",0.13608517164036141,4.2488998384422751E-2,4.0898248984399255E-2,0.46152413974280082,0.23385390973380829,2.1451045276896827E-2,6.3698486237310586E-2,0,0,0,0,0,0,0,null,0,0,0,0,0,0,0]
[10,"Factory-2","Revised","YPOP",5.9376868398929505E-3,2.8031405965806395E-2,2.6353136692627396E-2,0.27881505605903734,0.32477022629948316,0.2249629167939127,0.1111295713492399,0,0,0,0,0,0,0,null,0,0,0,0,0,0,0]
[11,"Factory-2","Revised","YPOP",8.3287236158474838E-3,2.8187037010545254E-2,2.8818566390446314E-2,0.29389158121696424,0.32978830649885083,0.2139990721248323,9.6986713142513559E-2,0,0,0,0,0,0,0,null,0,0,0,0,0,0,0]
[12,"Factory-2","Revised","YPOP",1.0769756052471588E-2,2.8270613746169938E-2,3.1280446064605526E-2,0.30862581178719944,0.33406054173673078,0.20280055088286733,8.4192279729955452E-2,0,0,0,0,0,0,0,null,0,0,0,0,0,0,0]
[13,"Factory-2","Revised","YPOP",1.3242710123530673E-2,2.8278411828460387E-2,3.3718272401724744E-2,0.32288162456493308,0.33752032955392669,0.19145004672049701,7.2908604806927554E-2,0,0,0,0,0,0,0,null,0,0,0,0,0,0,0]
[14,"Factory-2","Revised","YPOP",1.5728058112371521E-2,2.8207809077460868E-2,3.6110907591198657E-2,0.33652392240499779,0.34011119788066102,0.18003700122030142,6.3281103713008796E-2,0,0,0,0,0,0,0,null,0,0,0,0,0,0,0]
[15,"Factory-2","Revised","YPOP",1.8205286442097589E-2,2.8057363047305276E-2,3.8437126552957564E-2,0.34942249736821418,0.34178899311930333,0.16865547903196465,5.543325443815747E-2,0,0,0,0,0,0,0,null,0,0,0,0,0,0,0]
[16,"Factory-2","Revised","YPOP",2.0653424540115976E-2,2.7826946377809386E-2,4.0676212838377884E-2,0.36145583000835491,0.34252368695044871,0.15740174638223564,4.9462152902657479E-2,0,0,0,0,0,0,0,null,0,0,0,0,0,0,0]
[17,"Factory-2","Revised","YPOP",2.3051613969355695E-2,2.7517754620842078E-2,4.2808534906072088E-2,0.3725149860556049,0.34230046349896182,0.14637157825805755,4.5435068691105855E-2,0,0,0,0,0,0,0,null,0,0,0,0,0,0,0]
[18,"Factory-2","Revised","YPOP",2.5379707182293543E-2,2.7132354518796913E-2,4.4816131060663872E-2,0.3825065061160336,0.34112051671964994,0.13565769330322958,4.3387091099332524E-2,0,0,0,0,0,0,0,null,0,0,0,0,0,0,0]
[19,"Factory-2","Revised","YPOP",2.7618811946940405E-2,2.6674531751467973E-2,4.6683219461594989E-2,0.39135514644167196,0.33900117748990938,0.12534703317406198,4.3320079734353388E-2,0,0,0,0,0,0,0,null,0,0,0,0,0,0,0]
[20,"Factory-2","Revised","YPOP",2.9751811308717596E-2,2.6149229651448325E-2,4.8396574141721618E-2,0.3990058723616795,0.33597485332083121,0.11551853337197754,4.5203125843624146E-2,0,0,0,0,0,0,0,null,0,0,0,0,0,0,0]
[21,"Factory-2","Revised","YPOP",3.1763779216393513E-2,2.5562353453995035E-2,4.9945842344640286E-2,0.40542468702922663,0.33208801661832693,0.10624115335148768,4.8974167985929996E-2,0,0,0,0,0,0,0,null,0,0,0,0,0,0,0]
[22,"Factory-2","Revised","YPOP",3.3642291987111286E-2,2.4920614910017756E-2,5.1323703556162031E-2,0.41059874681980213,0.32739932724445775,9.7572384020370787E-2,5.4542931462078267E-2,0,0,0,0,0,0,0,null,0,0,0,0,0,0,0]
[23,"Factory-2","Revised","YPOP",3.5377632235168009E-2,2.4231254955594528E-2,5.2525907209704598E-2,0.41453561260271443,0.32197745262341376,8.9557361365599858E-2,6.1794779007804744E-2,0,0,0,0,0,0,0,null,0,0,0,0,0,0,0]
[24,"Factory-2","Revised","YPOP",3.6962866972263454E-2,2.3501858940676332E-2,5.3551185812703982E-2,0.41726173877394029,0.31589863331581675,8.2228452323650739E-2,7.0595263860948401E-2,0,0,0,0,0,0,0,null,0,0,0,0,0,0,0]
[25,"Factory-2","Revised","YPOP",3.8393815931431444E-2,2.2740128919003125E-2,5.4401055210648114E-2,0.41882039140115973,0.30924418131322584,7.5605397174174374E-2,8.0795030050357319E-2,0,0,0,0,0,0,0,null,0,0,0,0,0,0,0]
[26,"Factory-2","Revised","YPOP",3.9668915626808625E-2,2.1953670634788119E-2,5.5079569190356802E-2,0.41926908805264324,0.30209799126437592,6.9695918859065856E-2,9.2234846371961512E-2,0,0,0,0,0,0,0,null,0,0,0,0,0,0,0]
[27,"Factory-2","Revised","YPOP",4.0789004468243954E-2,2.1149853641430377E-2,5.5592923237579008E-2,0.41867682836190684,0.29454425393387051,6.4496703901192137E-2,0.10475043245577707,0,0,0,0,0,0,0,null,0,0,0,0,0,0,0]
[28,"Factory-2","Revised","YPOP",4.1757056471235662E-2,2.0335611710183811E-2,5.5949121468834712E-2,0.41712128640522689,0.28666545884875672,5.9994593786648995E-2,0.11817687130911313,0,0,0,0,0,0,0,null,0,0,0,0,0,0,0]
[29,"Factory-2","Revised","YPOP",4.2577857869226091E-2,1.9517363527080819E-2,5.6157569192770443E-2,0.41468596997169688,0.27854064563099856,5.6168097544230494E-2,0.13235249626399678,0,0,0,0,0,0,0,null,0,0,0,0,0,0,0]
[30,"Factory-2","Revised","YPOP",4.3257686240446069E-2,1.8700917923036877E-2,5.6228697231428731E-2,0.41145768430144392,0.27024408877655615,5.2988808621045928E-2,0.14712211690604238,0,0,0,0,0,0,0,null,0,0,0,0,0,0,0]
[31,"Factory-2","Revised","YPOP",4.3803979925749324E-2,1.7891457966006653E-2,5.6173601911018924E-2,0.40752421378778214,0.26184421640287597,5.0422970621888108E-2,0.16233955938467878,0,0,0,0,0,0,0,null,0,0,0,0,0,0,0]
[32,"Factory-2","Revised","YPOP",4.4225014407725034E-2,1.7093467040593467E-2,5.6003701484759701E-2,0.40297225519441821,0.25340321716695119,4.8432895772598614E-2,0.17786944893295381,0,0,0,0,0,0,0,null,0,0,0,0,0,0,0]
[8,"Factory-3","Revised","YPOP",0,0,0,0,0.2585065179273528,0.61763088359553187,0.1238625984771152,0,0,0,0,0,0,0,null,0,0,0,0,0,0,0]
[9,"Factory-3","Revised","YPOP",0,0,1.0180292545459551E-4,3.8811782820846699E-2,0.27907862015639784,0.56124464539749142,0.1207631486998095,0,0,0,0,0,0,0,null,0,0,0,0,0,0,0]
[10,"Factory-3","Revised","YPOP",0,8.0256186270691462E-4,2.8391433455440501E-3,8.950645813042514E-2,0.29294088191850981,0.49851564480793814,0.11539530993487601,0,0,0,0,0,0,0,null,0,0,0,0,0,0,0]
[11,"Factory-3","Revised","YPOP",1.5761808733395729E-3,6.6118265767995963E-3,5.2834199642339073E-3,0.13473241912709602,0.30347890893726726,0.43876852969404367,0.10954871482721988,0,0,0,0,0,0,0,null,0,0,0,0,0,0,0]
[12,"Factory-3","Revised","YPOP",3.0561980294810322E-3,1.167074460245539E-2,7.4495144407823273E-3,0.1752851122298727,0.31291300088793705,0.38554247862401853,0.10408295118545287,0,0,0,0,0,0,0,null,0,0,0,0,0,0,0]
[13,"Factory-3","Revised","YPOP",4.2691099528011376E-3,1.6045314979341099E-2,9.3636270617332897E-3,0.21163050351845972,0.32140226104554048,0.33831601873387201,9.8973164708252237E-2,0,0,0,0,0,0,0,null,0,0,0,0,0,0,0]
[14,"Factory-3","Revised","YPOP",5.2344656997975261E-3,1.9791239976467624E-2,1.1017899952136366E-2,0.24415512440376297,0.32904322940751707,0.2965767538404489,9.4181286719869459E-2,0,0,0,0,0,0,0,null,0,0,0,0,0,0,0]
[15,"Factory-3","Revised","YPOP",5.9678026504404909E-3,2.2952869330592915E-2,1.2518886020792104E-2,0.27315884588762207,0.33587985366570844,0.25985823367786914,8.9663508766974681E-2,0,0,0,0,0,0,0,null,0,0,0,0,0,0,0]
[16,"Factory-3","Revised","YPOP",6.482627922540043E-3,2.5570181320822585E-2,1.3803087421447717E-2,0.29893348359131056,0.3420009310178605,0.22781320113491413,8.5396487591104478E-2,0,0,0,0,0,0,0,null,0,0,0,0,0,0,0]
[17,"Factory-3","Revised","YPOP",6.7895639579674451E-3,2.7675210763219722E-2,1.4884272735754369E-2,0.3217118862951539,0.34745960768750661,0.20012677530459952,8.1352683255798516E-2,0,0,0,0,0,0,0,null,0,0,0,0,0,0,0]
[18,"Factory-3","Revised","YPOP",6.8963464768255723E-3,2.9291432569147662E-2,1.5866817287366108E-2,0.34165848607725058,0.35226808845886864,0.17651843676728898,7.7500392363252402E-2,0,0,0,0,0,0,0,null,0,0,0,0,0,0,0]
[19,"Factory-3","Revised","YPOP",6.8100519158258077E-3,3.0442595145851181E-2,1.666538773391546E-2,0.35896839779253403,0.356497454458505,0.15679002756769994,7.3826085385668497E-2,0,0,0,0,0,0,0,null,0,0,0,0,0,0,0]
[20,"Factory-3","Revised","YPOP",6.5353186570372293E-3,3.114539874793941E-2,1.7287986381923724E-2,0.37378013314476183,0.36018004604275577,0.14076092288337988,7.0310194142202104E-2,0,0,0,0,0,0,0,null,0,0,0,0,0,0,0]
[21,"Factory-3","Revised","YPOP",6.0751154946052629E-3,3.1412393572838419E-2,1.7740941443005143E-2,0.38620771023388584,0.36334251961683672,0.12828622598615713,6.6935093652671501E-2,0,0,0,0,0,0,0,null,0,0,0,0,0,0,0]
[22,"Factory-3","Revised","YPOP",5.4308398137718431E-3,3.1252289525248028E-2,1.802904800163781E-2,0.39634291052561721,0.36600669164692257,0.11925350594658844,6.3684714540213877E-2,0,0,0,0,0,0,0,null,0,0,0,0,0,0,0]
[23,"Factory-3","Revised","YPOP",4.6019609277316992E-3,3.0667377520545252E-2,1.82457015875605E-2,0.40422015071616441,0.36815626541723673,0.11356977356664311,6.0538770264118219E-2,0,0,0,0,0,0,0,null,0,0,0,0,0,0,0]
[24,"Factory-3","Revised","YPOP",3.5875068038844823E-3,2.9662315416920146E-2,1.8302576622332759E-2,0.40992829023208521,0.36983806101116651,0.11119144744446353,5.7489802469147117E-2,0,0,0,0,0,0,0,null,0,0,0,0,0,0,0]
[25,"Factory-3","Revised","YPOP",2.3844729882288658E-3,2.8235471798875599E-2,1.8200810402369497E-2,0.41350253778856644,0.37106147651620663,0.11209019390046598,5.4525036605286958E-2,0,0,0,0,0,0,0,null,0,0,0,0,0,0,0]
[26,"Factory-3","Revised","YPOP",9.8835857784825357E-4,2.6381838677295391E-2,1.7940259965513655E-2,0.41496073013064239,0.37183220787563964,0.11626414300497624,5.1632461768084281E-2,0,0,0,0,0,0,0,null,0,0,0,0,0,0,0]
[27,"Factory-3","Revised","YPOP",0,2.407617007749115E-2,1.7598944670776655E-2,0.41401466007746796,0.37189237429402744,0.12365128519091872,4.8766565689317927E-2,0,0,0,0,0,0,0,null,0,0,0,0,0,0,0]
[28,"Factory-3","Revised","YPOP",0,2.1301701103723501E-2,1.7075666521291756E-2,0.41045158770469492,0.37105781388935977,0.13421372900610731,4.5899501774822701E-2,0,0,0,0,0,0,0,null,0,0,0,0,0,0,0]
[29,"Factory-3","Revised","YPOP",0,1.8072910850703255E-2,1.6385602094239751E-2,0.4046594092591943,0.36969103391079372,0.14811829450849068,4.3072749376578123E-2,{"$f":"IF(AND($B564=$M$5,$D564=$M$6,$A564=$M$4,C564=$R$4),E564*$M$7,0)","v":0},{"$f":"IF(AND($B564=$M$5,$D564=$M$6,$A564=$M$4,C564=$R$4),F564*$M$7,0)","v":0},{"$f":"IF(AND($B564=$M$5,$D564=$M$6,$A564=$M$4,C564=$R$4),G564*$M$7,0)","v":0},{"$f":"IF(AND($B564=$M$5,$D564=$M$6,$A564=$M$4,C564=$R$4),H564*$M$7,0)","v":0},{"$f":"IF(AND($B564=$M$5,$D564=$M$6,$A564=$M$4,C564=$R$4),I564*$M$7,0)","v":0},{"$f":"IF(AND($B564=$M$5,$D564=$M$6,$A564=$M$4,C564=$R$4),J564*$M$7,0)","v":0},{"$f":"IF(AND($B564=$M$5,$D564=$M$6,$A564=$M$4,C564=$R$4),K564*$M$7,0)","v":0},null,{"$f":"IF(AND($B564=$U$5,$D564=$U$6,$A564=$U$4,C564=$R$4),E564*$U$7,0)","v":0},{"$f":"IF(AND($B564=$U$5,$D564=$U$6,$A564=$U$4,C564=$R$4),F564*$U$7,0)","v":0},{"$f":"IF(AND($B564=$U$5,$D564=$U$6,$A564=$U$4,C564=$R$4),G564*$U$7,0)","v":0},{"$f":"IF(AND($B564=$U$5,$D564=$U$6,$A564=$U$4,C564=$R$4),H564*$U$7,0)","v":0},{"$f":"IF(AND($B564=$U$5,$D564=$U$6,$A564=$U$4,C564=$R$4),I564*$U$7,0)","v":0},{"$f":"IF(AND($B564=$U$5,$D564=$U$6,$A564=$U$4,C564=$R$4),J564*$U$7,0)","v":0},{"$f":"IF(AND($B564=$U$5,$D564=$U$6,$A564=$U$4,C564=$R$4),K564*$U$7,0)","v":0}]
[30,"Factory-3","Revised","YPOP",0,1.4374944450793181E-2,1.5525008128374445E-2,0.39659994474466631,0.36778282202305712,0.16544040090476889,4.0276879748339961E-2,0,0,0,0,0,0,0,null,0,0,0,0,0,0,0]
[31,"Factory-3","Revised","YPOP",0,1.0188545057513321E-2,1.4580427545638113E-2,0.38618281325927278,0.36528642310775999,0.1862627330403607,3.7499057989455208E-2,0,0,0,0,0,0,0,null,0,0,0,0,0,0,0]
[32,"Factory-3","Revised","YPOP",0,5.4940000488388823E-3,1.3363208332453134E-2,0.37340911164833579,0.36225274839542837,0.21074377613938228,3.4737155435561606E-2,0,0,0,0,0,0,0,null,0,0,0,0,0,0,0]
[13,"Factory-1","Revised","HMAP",0.18066805363468375,0.12390275536515645,4.0738466940396942E-2,0.25829993445671495,0.15054489044347766,8.865677198722792E-2,0.15718912717234237,{"$f":"IF(AND($B568=$M$5,$D568=$M$6,$A568=$M$4,C568=$R$4),E568*$M$7,0)","v":0},{"$f":"IF(AND($B568=$M$5,$D568=$M$6,$A568=$M$4,C568=$R$4),F568*$M$7,0)","v":0},{"$f":"IF(AND($B568=$M$5,$D568=$M$6,$A568=$M$4,C568=$R$4),G568*$M$7,0)","v":0},{"$f":"IF(AND($B568=$M$5,$D568=$M$6,$A568=$M$4,C568=$R$4),H568*$M$7,0)","v":0},{"$f":"IF(AND($B568=$M$5,$D568=$M$6,$A568=$M$4,C568=$R$4),I568*$M$7,0)","v":0},{"$f":"IF(AND($B568=$M$5,$D568=$M$6,$A568=$M$4,C568=$R$4),J568*$M$7,0)","v":0},{"$f":"IF(AND($B568=$M$5,$D568=$M$6,$A568=$M$4,C568=$R$4),K568*$M$7,0)","v":0},null,{"$f":"IF(AND($B568=$U$5,$D568=$U$6,$A568=$U$4,C568=$R$4),E568*$U$7,0)","v":0},{"$f":"IF(AND($B568=$U$5,$D568=$U$6,$A568=$U$4,C568=$R$4),F568*$U$7,0)","v":0},{"$f":"IF(AND($B568=$U$5,$D568=$U$6,$A568=$U$4,C568=$R$4),G568*$U$7,0)","v":0},{"$f":"IF(AND($B568=$U$5,$D568=$U$6,$A568=$U$4,C568=$R$4),H568*$U$7,0)","v":0},{"$f":"IF(AND($B568=$U$5,$D568=$U$6,$A568=$U$4,C568=$R$4),I568*$U$7,0)","v":0},{"$f":"IF(AND($B568=$U$5,$D568=$U$6,$A568=$U$4,C568=$R$4),J568*$U$7,0)","v":0},{"$f":"IF(AND($B568=$U$5,$D568=$U$6,$A568=$U$4,C568=$R$4),K568*$U$7,0)","v":0}]
[14,"Factory-1","Revised","HMAP",0.19177796964202021,0.12534493699386201,3.8838660532895919E-2,0.26046559851146872,0.15086908481851519,8.3442948630350233E-2,0.14926080087088783,0,0,0,0,0,0,0,null,0,0,0,0,0,0,0]
[15,"Factory-1","Revised","HMAP",0.20322034846487438,0.12621892675062402,3.6961139727137569E-2,0.2621818958249808,0.15148674958297739,7.8733236689291719E-2,0.14119770296011411,0,0,0,0,0,0,0,null,0,0,0,0,0,0,0]
[16,"Factory-1","Revised","HMAP",0.2149372945124412,0.12651194090675114,3.5116483370143378E-2,0.26343303297196841,0.15239877041466857,7.4560465052571537E-2,0.13304201277145597,0,0,0,0,0,0,0,null,0,0,0,0,0,0,0]
[17,"Factory-1","Revised","HMAP",0.2268670597877108,0.126217406043546,3.3315074048007445E-2,0.26420824048009961,0.15360251836957975,7.0952089101992105E-2,0.12483761216906444,0,0,0,0,0,0,0,null,0,0,0,0,0,0,0]
[18,"Factory-1","Revised","HMAP",0.23894490138608021,0.12533510518330834,3.156689698020735E-2,0.26450176506915191,0.15509249061083427,6.7929600066653079E-2,0.11662924070376497,0,0,0,0,0,0,0,null,0,0,0,0,0,0,0]
[19,"Factory-1","Revised","HMAP",0.25110465505625534,0.12387125282195549,2.9881376096364161E-2,0.26431314206380191,0.15685977710639395,6.5508095293162941E-2,0.10846170156206612,0,0,0,0,0,0,0,null,0,0,0,0,0,0,0]
[20,"Factory-1","Revised","HMAP",0.26327965317893282,0.12183832915737186,2.8267175109505414E-2,0.26364718853485763,0.15889253836076803,6.3696069043484307E-2,0.10037904661508008,0,0,0,0,0,0,0,null,0,0,0,0,0,0,0]
[21,"Factory-1","Revised","HMAP",0.27540390286508554,0.11925477313105778,2.6732066711205964E-2,0.26251371769772663,0.16117647522443732,6.2495273301728861E-2,9.2423791068757671E-2,0,0,0,0,0,0,0,null,0,0,0,0,0,0,0]
[22,"Factory-1","Revised","HMAP",0.28741331133703557,0.11614456205669681,2.5282821821245752E-2,0.2609275195047957,0.16369464718619614,6.1900913046615658E-2,8.4636225047414401E-2,0,0,0,0,0,0,0,null,0,0,0,0,0,0,0]
[23,"Factory-1","Revised","HMAP",0.29924702103511791,0.11253660652213376,2.3925123938286816E-2,0.25890751408758866,0.16642811987968367,6.1901889169917498E-2,7.7053725367271578E-2,0,0,0,0,0,0,0,null,0,0,0,0,0,0,0]
[24,"Factory-1","Revised","HMAP",0.3108478809445312,0.10846399584665169,2.2663468878851251E-2,0.25647668328989709,0.1693565628772718,6.2481210056309557E-2,6.9710198106487334E-2,0,0,0,0,0,0,0,null,0,0,0,0,0,0,0]
[25,"Factory-1","Revised","HMAP",0.32216354696728861,0.10396330452635198,2.1501195335403487E-2,0.25366135771653403,0.17245825798143161,6.3616612296752362E-2,6.2635725176237916E-2,0,0,0,0,0,0,0,null,0,0,0,0,0,0,0]
[26,"Factory-1","Revised","HMAP",0.33314714700256604,9.9073743751426621E-2,2.0440462485872234E-2,0.25049046829440658,0.17571078358606665,6.5281196144001782E-2,5.5856198735660098E-2,0,0,0,0,0,0,0,null,0,0,0,0,0,0,0]
[27,"Factory-1","Revised","HMAP",0.34375759619973817,9.3836356251593409E-2,1.9482307507761875E-2,0.24699502306481211,0.17909133045090583,6.7444194496170201E-2,4.9393192029018491E-2,0,0,0,0,0,0,0,null,0,0,0,0,0,0,0]
[28,"Factory-1","Revised","HMAP",0.35395977762063258,8.8293193051392577E-2,1.8626673015727468E-2,0.2432073795120675,0.18257741593587462,7.0071710852790903E-2,4.3263850011514282E-2,0,0,0,0,0,0,0,null,0,0,0,0,0,0,0]
[29,"Factory-1","Revised","HMAP",0.36372497644457635,8.2486574763710407E-2,1.7872521593101081E-2,0.23916066180720993,0.18614671836493057,7.3127524882373937E-2,3.7481022144097605E-2,0,0,0,0,0,0,0,null,0,0,0,0,0,0,0]
[30,"Factory-1","Revised","HMAP",0.37303054675579522,7.6458389302033566E-2,1.7217924262580623E-2,0.23488817217398095,0.18977776639105681,7.657384972337454E-2,3.2053351391178299E-2,0,0,0,0,0,0,0,null,0,0,0,0,0,0,0]
[31,"Factory-1","Revised","HMAP",0.38185977290383222,7.0249506384534061E-2,1.6660176112871232E-2,0.23042283423881924,0.19345009221903367,8.0372074852555084E-2,2.6985543288354383E-2,0,0,0,0,0,0,0,null,0,0,0,0,0,0,0]
[32,"Factory-1","Revised","HMAP",0.39020155277905461,6.3899217720175747E-2,1.619588871623848E-2,0.22579677404288637,0.19714448416158389,8.4483411029909736E-2,2.2278671550151112E-2,0,0,0,0,0,0,0,null,0,0,0,0,0,0,0]
[10,"Factory-2","Revised","HMAP",1.4010602613519916E-2,3.6752752912364614E-2,2.0831134932100544E-2,0.25016362446367535,0.2181831496582014,0.11441813107691304,0.34564060434322513,0,0,0,0,0,0,0,null,0,0,0,0,0,0,0]
[11,"Factory-2","Revised","HMAP",2.4171580704624624E-2,4.2446992060752885E-2,2.1802338828508929E-2,0.2585481171632586,0.22365036101590019,0.11296938128329199,0.31641122894366286,0,0,0,0,0,0,0,null,0,0,0,0,0,0,0]
[12,"Factory-2","Revised","HMAP",3.4618804886792677E-2,4.8194814226619399E-2,2.2728859793374436E-2,0.26628670442915758,0.22849292953832184,0.11154513742297366,0.28813274970276032,0,0,0,0,0,0,0,null,0,0,0,0,0,0,0]
[13,"Factory-2","Revised","HMAP",4.5249387024257695E-2,5.3934345573172345E-2,2.3598006614069734E-2,0.27325996102488087,0.23262474337463554,0.11016272982325781,0.26117082656572616,0,0,0,0,0,0,0,null,0,0,0,0,0,0,0]
[14,"Factory-2","Revised","HMAP",5.5950044452151869E-2,5.9600179754710519E-2,2.439766200683673E-2,0.27935830156354097,0.23597100428748913,0.10883932733916618,0.23588348059610459,0,0,0,0,0,0,0,null,0,0,0,0,0,0,0]
[15,"Factory-2","Revised","HMAP",6.6600709316479142E-2,6.5125573691891286E-2,2.5116726321178926E-2,0.28448733846875007,0.23847096857856395,0.10759177469146793,0.21260690893166873,0,0,0,0,0,0,0,null,0,0,0,0,0,0,0]
[16,"Factory-2","Revised","HMAP",7.707881720680039E-2,7.0444982726983837E-2,2.574558643041772E-2,0.28857170747220467,0.24008161901560274,0.106435655355752,0.19164163179223853,0,0,0,0,0,0,0,null,0,0,0,0,0,0,0]
[17,"Factory-2","Revised","HMAP",8.7263872337498785E-2,7.5496561514456786E-2,2.6276568857959141E-2,0.29155899325320844,0.24077934660863898,0.10538475140342626,0.17323990602481165,0,0,0,0,0,0,0,null,0,0,0,0,0,0,0]
[18,"Factory-2","Revised","HMAP",9.7042034329442306E-2,8.0224544841379405E-2,2.6704192561258257E-2,0.29342140424666802,0.2405616775555551,0.10445020697010382,0.15759593949559311,0,0,0,0,0,0,0,null,0,0,0,0,0,0,0]
[19,"Factory-2","Revised","HMAP",0.1063102812123385,8.4581249449708185E-2,2.7025409318965844E-2,0.29415711016518814,0.23944632992805034,0.10364063843351136,0.14483898149223776,0,0,0,0,0,0,0,null,0,0,0,0,0,0,0]
[20,"Factory-2","Revised","HMAP",0.11497998092656798,8.8528672950040216E-2,2.723959320970995E-2,0.29378905739822597,0.23747051552096773,0.10296168229977996,0.13503049769470832,0,0,0,0,0,0,0,null,0,0,0,0,0,0,0]
[21,"Factory-2","Revised","HMAP",0.12297942061486905,9.2039371208288367E-2,2.7348500633933584E-2,0.29236355963129912,0.23468880414314852,0.1024155489079657,0.12816479486049573,0,0,0,0,0,0,0,null,0,0,0,0,0,0,0]
[22,"Factory-2","Revised","HMAP",0.13025529711297468,9.5096816510336649E-2,2.7356042897150858E-2,0.28994655890118531,0.23116963219086059,0.10200178287519379,0.12417386951229806,0,0,0,0,0,0,0,null,0,0,0,0,0,0,0]
[23,"Factory-2","Revised","HMAP",0.13677314635569016,9.7695100515369934E-2,2.726794753124517E-2,0.2866204832942239,0.22699216043433157,0.10171718583200624,0.12293397603713303,0,0,0,0,0,0,0,null,0,0,0,0,0,0,0]
[24,"Factory-2","Revised","HMAP",0.14251680583817908,9.9838192778347948E-2,2.7091471997309997E-2,0.28247932047409324,0.22224251543682405,0.10155595777565073,0.12427573569959498,0,0,0,0,0,0,0,null,0,0,0,0,0,0,0]
[25,"Factory-2","Revised","HMAP",0.14748684008352791,0.10153862232301628,2.6834893607748322E-2,0.27762461756581186,0.21701026354521358,0.10151065812590515,0.12799410474877695,0,0,0,0,0,0,0,null,0,0,0,0,0,0,0]
[26,"Factory-2","Revised","HMAP",0.15169871660756121,0.10281622809769689,2.650723159386905E-2,0.27216114659848073,0.21138501838708038,0.10157213391861708,0.13385952479669483,0,0,0,0,0,0,0,null,0,0,0,0,0,0,0]
[27,"Factory-2","Revised","HMAP",0.15518015910279362,0.10369641521426302,2.6117799987157284E-2,0.26619343315494592,0.20545362412155235,0.10173052556734552,0.14162804285194205,0,0,0,0,0,0,0,null,0,0,0,0,0,0,0]
[28,"Factory-2","Revised","HMAP",0.15796879734448996,0.1042087654287646,2.5675904884228797E-2,0.25982245185811642,0.19929812604365343,0.10197517707342803,0.15105077736731878,0,0,0,0,0,0,0,null,0,0,0,0,0,0,0]
[29,"Factory-2","Revised","HMAP",0.16010931386827573,0.10438535115193263,2.5190580927063572E-2,0.25314335582736397,0.19299404188204253,0.102295486538625,0.1618818698046966,0,0,0,0,0,0,0,null,0,0,0,0,0,0,0]
[30,"Factory-2","Revised","HMAP",0.16165137879283653,0.10425967696259104,2.4670381094067259E-2,0.24624374571263355,0.18660930439236473,0.10268089218653968,0.17388462085896719,0,0,0,0,0,0,0,null,0,0,0,0,0,0,0]
[31,"Factory-2","Revised","HMAP",0.16264726157646103,0.10386537472521186,2.4123236461680297E-2,0.23920273421206129,0.18020366878639588,0.10312119367939127,0.18683653055879842,0,0,0,0,0,0,0,null,0,0,0,0,0,0,0]
[32,"Factory-2","Revised","HMAP",0.16315015520361473,0.10323540302244323,2.355636013483162E-2,0.23209003952593121,0.1738286144320772,0.10360703893941479,0.20053238874168713,0,0,0,0,0,0,0,null,0,0,0,0,0,0,0]
[10,"Factory-3","Revised","HMAP",3.3555258749380823E-3,0,1.3672374821887994E-2,6.3816353847728727E-2,0.24263461677476697,0.20389469644668673,0.47262643223399153,0,0,0,0,0,0,0,null,0,0,0,0,0,0,0]
[11,"Factory-3","Revised","HMAP",4.0969218826658648E-3,1.7070328897888902E-3,1.3840130208183298E-2,8.5197940893085009E-2,0.25120599083427159,0.20071924516356895,0.44323273812843644,0,0,0,0,0,0,0,null,0,0,0,0,0,0,0]
[12,"Factory-3","Revised","HMAP",4.8816006817117268E-3,7.4357943266227357E-3,1.3930933032310385E-2,0.10660971189113945,0.25851722433539803,0.19628874222996498,0.41233599350285283,0,0,0,0,0,0,0,null,0,0,0,0,0,0,0]
[13,"Factory-3","Revised","HMAP",5.7210755970469283E-3,1.3036978395164704E-2,1.4000025101816589E-2,0.12821544519584965,0.26552346425176021,0.19145308238983422,0.3820499290685278,0,0,0,0,0,0,0,null,0,0,0,0,0,0,0]
[14,"Factory-3","Revised","HMAP",6.6124104933543973E-3,1.8479297428967485E-2,1.4046544912828455E-2,0.14991071840046058,0.27218205920132404,0.18622708770653021,0.35254188185653496,0,0,0,0,0,0,0,null,0,0,0,0,0,0,0]
[15,"Factory-3","Revised","HMAP",7.5520605108859709E-3,2.3732182894288988E-2,1.4069823144718776E-2,0.17158722419944344,0.27845273518217906,0.18062992825261359,0.32397604581587014,0,0,0,0,0,0,0,null,0,0,0,0,0,0,0]
[16,"Factory-3","Revised","HMAP",8.5359105163764215E-3,2.8766332962593771E-2,1.4069442572875845E-2,0.19313452488588839,0.28429828529577233,0.17468496161955013,0.296510542146943,0,0,0,0,0,0,0,null,0,0,0,0,0,0,0]
[17,"Factory-3","Revised","HMAP",9.5593364416106229E-3,3.3554236843764476E-2,1.4045192239360507E-2,0.21444184051071405,0.28968521753230148,0.1684194508530204,0.2702947255792284,0,0,0,0,0,0,0,null,0,0,0,0,0,0,0]
[18,"Factory-3","Revised","HMAP",1.061727062958615E-2,3.8070653870339574E-2,1.3997107347502638E-2,0.23539989752211321,0.29458463340601204,0.16186410982478858,0.24546632739965771,0,0,0,0,0,0,0,null,0,0,0,0,0,0,0]
[19,"Factory-3","Revised","HMAP",1.1704291403137911E-2,4.2293079266055862E-2,1.3925459921146044E-2,0.25590286104937032,0.29897234118743643,0.15505266639455781,0.22214930077829567,0,0,0,0,0,0,0,null,0,0,0,0,0,0,0]
[20,"Factory-3","Revised","HMAP",1.2814712086412857E-2,4.6202095824658763E-2,1.3830787285776604E-2,0.27585004399543989,0.30282951848889617,0.14802124391079147,0.20045159840802429,0,0,0,0,0,0,0,null,0,0,0,0,0,0,0]
[21,"Factory-3","Revised","HMAP",1.3942678843732017E-2,4.9781678999820327E-2,1.3713823222091475E-2,0.29514762647604587,0.30614283900478534,0.14080775778204047,0.18046359567148457,0,0,0,0,0,0,0,null,0,0,0,0,0,0,0]
[22,"Factory-3","Revised","HMAP",1.5082268866928135E-2,5.3019378181843026E-2,1.3575506404195139E-2,0.31370991027550521,0.30890486580295284,0.13345119264242597,0.16225687782614984,0,0,0,0,0,0,0,null,0,0,0,0,0,0,0]
[23,"Factory-3","Revised","HMAP",1.6227596645255919E-2,5.5906452392309895E-2,1.3416996921411004E-2,0.33146070512458553,0.31111359533728195,0.12599100330165511,0.1458836502775005,0,0,0,0,0,0,0,null,0,0,0,0,0,0,0]
[24,"Factory-3","Revised","HMAP",1.73729033729275E-2,5.8437864469923488E-2,1.3239585300174441E-2,0.34833415351562841,0.31277256845988544,0.11846643508164195,0.13137648979981875,0,0,0,0,0,0,0,null,0,0,0,0,0,0,0]
[25,"Factory-3","Revised","HMAP",1.8512647659117677E-2,6.0612208029789352E-2,1.304470694649046E-2,0.36427533092041453,0.31389052779228549,0.11091586342372559,0.11874871522817679,0,0,0,0,0,0,0,null,0,0,0,0,0,0,0]
[26,"Factory-3","Revised","HMAP",1.9641580902032985E-2,6.2431556114474804E-2,1.2833893353033135E-2,0.3792406647840546,0.31448093352731155,0.10337626688851027,0.10799510443058263,0,0,0,0,0,0,0,null,0,0,0,0,0,0,0]
[27,"Factory-3","Revised","HMAP",2.0754808285866733E-2,6.3901203026202766E-2,1.2608775360305578E-2,0.39319775921494915,0.31456173988724878,9.5882678779364391E-2,9.909303544606253E-2,0,0,0,0,0,0,0,null,0,0,0,0,0,0,0]
[28,"Factory-3","Revised","HMAP",2.1847852518135053E-2,6.5029412244327428E-2,1.237100401339178E-2,0.40612543578252314,0.31415446757984961,8.8467836304463893E-2,9.2003991557309137E-2,0,0,0,0,0,0,0,null,0,0,0,0,0,0,0]
[29,"Factory-3","Revised","HMAP",2.2916684172157281E-2,6.5827056988979948E-2,1.2122254902443176E-2,0.41801313169551585,0.31328385453656893,8.1161790355849042E-2,8.6675227348485748E-2,0,0,0,0,0,0,0,null,0,0,0,0,0,0,0]
[30,"Factory-3","Revised","HMAP",2.3957752873583628E-2,6.6307274649107295E-2,1.1864186204756842E-2,0.42886027592795273,0.31197713079345074,7.3991720228245711E-2,8.3041659322903139E-2,0,0,0,0,0,0,0,null,0,0,0,0,0,0,0]
[31,"Factory-3","Revised","HMAP",2.4967988304772645E-2,6.6485058377319162E-2,1.1598446518182251E-2,0.43867534253226237,0.31026365012731694,6.6981692826433001E-2,8.1027821313713638E-2,{"$f":"IF(AND($B632=$M$5,$D632=$M$6,$A632=$M$4,C632=$R$4),E632*$M$7,0)","v":0},{"$f":"IF(AND($B632=$M$5,$D632=$M$6,$A632=$M$4,C632=$R$4),F632*$M$7,0)","v":0},{"$f":"IF(AND($B632=$M$5,$D632=$M$6,$A632=$M$4,C632=$R$4),G632*$M$7,0)","v":0},{"$f":"IF(AND($B632=$M$5,$D632=$M$6,$A632=$M$4,C632=$R$4),H632*$M$7,0)","v":0},{"$f":"IF(AND($B632=$M$5,$D632=$M$6,$A632=$M$4,C632=$R$4),I632*$M$7,0)","v":0},{"$f":"IF(AND($B632=$M$5,$D632=$M$6,$A632=$M$4,C632=$R$4),J632*$M$7,0)","v":0},{"$f":"IF(AND($B632=$M$5,$D632=$M$6,$A632=$M$4,C632=$R$4),K632*$M$7,0)","v":0},null,{"$f":"IF(AND($B632=$U$5,$D632=$U$6,$A632=$U$4,C632=$R$4),E632*$U$7,0)","v":0},{"$f":"IF(AND($B632=$U$5,$D632=$U$6,$A632=$U$4,C632=$R$4),F632*$U$7,0)","v":0},{"$f":"IF(AND($B632=$U$5,$D632=$U$6,$A632=$U$4,C632=$R$4),G632*$U$7,0)","v":0},{"$f":"IF(AND($B632=$U$5,$D632=$U$6,$A632=$U$4,C632=$R$4),H632*$U$7,0)","v":0},{"$f":"IF(AND($B632=$U$5,$D632=$U$6,$A632=$U$4,C632=$R$4),I632*$U$7,0)","v":0},{"$f":"IF(AND($B632=$U$5,$D632=$U$6,$A632=$U$4,C632=$R$4),J632*$U$7,0)","v":0},{"$f":"IF(AND($B632=$U$5,$D632=$U$6,$A632=$U$4,C632=$R$4),K632*$U$7,0)","v":0}]
[32,"Factory-3","Revised","HMAP",2.5944815905724068E-2,6.6376915206183287E-2,1.1326606569382747E-2,0.4474751666684938,0.30817392240132208,6.0152665183751952E-2,8.0549908065142034E-2,0,0,0,0,0,0,0,null,0,0,0,0,0,0,0]
[13,"Factory-1","Revised","SMAP",0.223004594471783,0.16360897435708424,6.1277115541543484E-2,0.18510686970688656,0.30351926283471403,4.7085519384989012E-2,1.6397663702999818E-2,{"$f":"IF(AND($B634=$M$5,$D634=$M$6,$A634=$M$4,C634=$R$4),E634*$M$7,0)","v":0},{"$f":"IF(AND($B634=$M$5,$D634=$M$6,$A634=$M$4,C634=$R$4),F634*$M$7,0)","v":0},{"$f":"IF(AND($B634=$M$5,$D634=$M$6,$A634=$M$4,C634=$R$4),G634*$M$7,0)","v":0},{"$f":"IF(AND($B634=$M$5,$D634=$M$6,$A634=$M$4,C634=$R$4),H634*$M$7,0)","v":0},{"$f":"IF(AND($B634=$M$5,$D634=$M$6,$A634=$M$4,C634=$R$4),I634*$M$7,0)","v":0},{"$f":"IF(AND($B634=$M$5,$D634=$M$6,$A634=$M$4,C634=$R$4),J634*$M$7,0)","v":0},{"$f":"IF(AND($B634=$M$5,$D634=$M$6,$A634=$M$4,C634=$R$4),K634*$M$7,0)","v":0},null,{"$f":"IF(AND($B634=$U$5,$D634=$U$6,$A634=$U$4,C634=$R$4),E634*$U$7,0)","v":0},{"$f":"IF(AND($B634=$U$5,$D634=$U$6,$A634=$U$4,C634=$R$4),F634*$U$7,0)","v":0},{"$f":"IF(AND($B634=$U$5,$D634=$U$6,$A634=$U$4,C634=$R$4),G634*$U$7,0)","v":0},{"$f":"IF(AND($B634=$U$5,$D634=$U$6,$A634=$U$4,C634=$R$4),H634*$U$7,0)","v":0},{"$f":"IF(AND($B634=$U$5,$D634=$U$6,$A634=$U$4,C634=$R$4),I634*$U$7,0)","v":0},{"$f":"IF(AND($B634=$U$5,$D634=$U$6,$A634=$U$4,C634=$R$4),J634*$U$7,0)","v":0},{"$f":"IF(AND($B634=$U$5,$D634=$U$6,$A634=$U$4,C634=$R$4),K634*$U$7,0)","v":0}]
[14,"Factory-1","Revised","SMAP",0.22870911273993455,0.16317889145846778,5.8462067078713736E-2,0.19334012611986495,0.29471215766828868,4.4697036100874485E-2,1.6900608833855885E-2,0,0,0,0,0,0,0,null,0,0,0,0,0,0,0]
[15,"Factory-1","Revised","SMAP",0.23421536755128988,0.16276367587612384,5.5744883696789482E-2,0.20128711992183859,0.28621130967706937,4.2391569748346881E-2,1.7386073528541903E-2,0,0,0,0,0,0,0,null,0,0,0,0,0,0,0]
[16,"Factory-1","Revised","SMAP",0.23953349806743202,0.16236274283373969,5.3120534414666701E-2,0.20896260020704277,0.27800080147691542,4.0164870951547499E-2,1.7854952048655989E-2,0,0,0,0,0,0,0,null,0,0,0,0,0,0,0]
[17,"Factory-1","Revised","SMAP",0.2446729602109822,0.16197526246035512,5.058432726405148E-2,0.21638022736297072,0.27006616762379337,3.8012976682820936E-2,1.8308078395026219E-2,0,0,0,0,0,0,0,null,0,0,0,0,0,0,0]
[18,"Factory-1","Revised","SMAP",0.24964267640827023,0.16160052015315504,4.8131927149753763E-2,0.22355283991988908,0.26239362610902583,3.5932171965898568E-2,1.8746238294007497E-2,0,0,0,0,0,0,0,null,0,0,0,0,0,0,0]
[19,"Factory-1","Revised","SMAP",0.2544508520813698,0.16123803238820597,4.5759224958195462E-2,0.23049232065434611,0.25497041501130541,3.3918998762775855E-2,1.917015614380136E-2,0,0,0,0,0,0,0,null,0,0,0,0,0,0,0]
[20,"Factory-1","Revised","SMAP",0.25910524199445295,0.16088712547952957,4.3462390395759769E-2,0.23720985737195577,0.24778467304836671,3.1970196163359034E-2,1.9580515546576378E-2,0,0,0,0,0,0,0,null,0,0,0,0,0,0,0]
[21,"Factory-1","Revised","SMAP",0.2636131695162523,0.16054720235405665,4.1237869478534778E-2,0.24371598636757794,0.24082506951758273,3.008274138549127E-2,1.9977961380504155E-2,0,0,0,0,0,0,0,null,0,0,0,0,0,0,0]
[22,"Factory-1","Revised","SMAP",0.26798132776258143,0.16021785717782494,3.9082273847238308E-2,0.25002051600479802,0.23408116179621805,2.8253778206356682E-2,2.0363085204982558E-2,0,0,0,0,0,0,0,null,0,0,0,0,0,0,0]
[23,"Factory-1","Revised","SMAP",0.27221623550358998,0.15989859286450056,3.6992458440542178E-2,0.25613261411372285,0.22754301336494256,2.6480625489904187E-2,2.0736460222797608E-2,0,0,0,0,0,0,0,null,0,0,0,0,0,0,0]
[24,"Factory-1","Revised","SMAP",0.27632384665073312,0.15958883734962209,3.4965466128235832E-2,0.26206099170531733,0.2212014682406592,2.4760777865182954E-2,2.1098612060249537E-2,0,0,0,0,0,0,0,null,0,0,0,0,0,0,0]
[25,"Factory-1","Revised","SMAP",0.28030982243436764,0.15928833949365648,3.2998498930740035E-2,0.26781381590735431,0.21504763196353621,2.3091851509108464E-2,2.1450039761236932E-2,0,0,0,0,0,0,0,null,0,0,0,0,0,0,0]
[26,"Factory-1","Revised","SMAP",0.28417954603506584,0.15899659858088519,3.1088918637947334E-2,0.27339874848855522,0.2090733533377909,2.1471632213358235E-2,2.1791202706397162E-2,0,0,0,0,0,0,0,null,0,0,0,0,0,0,0]
[27,"Factory-1","Revised","SMAP",0.287937911606854,0.15871317887812594,2.9234270409449103E-2,0.27882307212472118,0.20327099815422126,1.9898005690856767E-2,2.2122563135771791E-2,0,0,0,0,0,0,0,null,0,0,0,0,0,0,0]
[28,"Factory-1","Revised","SMAP",0.29158971506222103,0.15843787511805721,2.7432207603169691E-2,0.2840935982135806,0.19763307890977286,1.8368996694109758E-2,2.2444528399088753E-2,0,0,0,0,0,0,0,null,0,0,0,0,0,0,0]
[29,"Factory-1","Revised","SMAP",0.29513940183596171,0.15817025553349176,2.5680515104245148E-2,0.28921675349720694,0.19215284261110838,1.6882740727364301E-2,2.2757490690621555E-2,0,0,0,0,0,0,0,null,0,0,0,0,0,0,0]
[30,"Factory-1","Revised","SMAP",0.29859124088682248,0.1579099491261364,2.3977129430662131E-2,0.29419875533164175,0.18682364254571598,1.5437456810027896E-2,2.3061825868993451E-2,0,0,0,0,0,0,0,null,0,0,0,0,0,0,0]
[31,"Factory-1","Revised","SMAP",0.30194917601254145,0.15765678565038063,2.2320068236740973E-2,0.29904516141239268,0.18163944025636911,1.4031486251144141E-2,2.3357882180431038E-2,0,0,0,0,0,0,0,null,0,0,0,0,0,0,0]
[32,"Factory-1","Revised","SMAP",0.30521703899195646,0.15741042935062091,2.0707463506121477E-2,0.30376155666002108,0.17659428043626285,1.2663234176894892E-2,2.3645996878122213E-2,0,0,0,0,0,0,0,null,0,0,0,0,0,0,0]
[10,"Factory-2","Revised","SMAP",5.5747566551833189E-2,9.1259375882222979E-2,3.6894766812398366E-2,0.18113544696276238,0.46320318229766794,7.6475753608524905E-2,9.5283907884590277E-2,0,0,0,0,0,0,0,null,0,0,0,0,0,0,0]
[11,"Factory-2","Revised","SMAP",6.2824072751466939E-2,9.2921786685367699E-2,3.8250652828976564E-2,0.20005489476066016,0.45325105365532381,7.229843366942916E-2,8.0399105648775671E-2,0,0,0,0,0,0,0,null,0,0,0,0,0,0,0]
[12,"Factory-2","Revised","SMAP",6.9829742852901472E-2,9.4366545700293181E-2,3.9525560683513108E-2,0.2187023253303626,0.44200564103249607,6.8418781182795652E-2,6.7151403217637864E-2,0,0,0,0,0,0,0,null,0,0,0,0,0,0,0]
[13,"Factory-2","Revised","SMAP",7.6709288569674364E-2,9.5579104606709986E-2,4.0708367104340532E-2,0.23692938585677675,0.4295339594960727,6.4871389243006672E-2,5.5668505123418997E-2,0,0,0,0,0,0,0,null,0,0,0,0,0,0,0]
[14,"Factory-2","Revised","SMAP",8.3408516872762142E-2,9.6548280024510935E-2,4.1789200772022042E-2,0.25459192926090957,0.41592301818195221,6.1686252676464472E-2,4.6052802211378481E-2,0,0,0,0,0,0,0,null,0,0,0,0,0,0,0]
[15,"Factory-2","Revised","SMAP",8.9875766657662781E-2,9.7266646572507137E-2,4.2759756433540547E-2,0.271553561442546,0.40127797407455434,5.8887937513414992E-2,3.8378357305774206E-2,0,0,0,0,0,0,0,null,0,0,0,0,0,0,0]
[16,"Factory-2","Revised","SMAP",9.6063184159798753E-2,9.773060081251253E-2,4.361342337645218E-2,0.28768958844393183,0.38571919382569009,5.649491616243827E-2,3.268909321917627E-2,0,0,0,0,0,0,0,null,0,0,0,0,0,0,0]
[17,"Factory-2","Revised","SMAP",0.1019279099005672,9.7940510657263086E-2,4.4345472892568134E-2,0.30288979955805018,0.36937913051738658,5.4519215364159143E-2,2.8997961110005733E-2,0,0,0,0,0,0,0,null,0,0,0,0,0,0,0]
[18,"Factory-2","Revised","SMAP",0.10743305371982712,9.7900558564013862E-2,4.4953168973533346E-2,0.31706064742546602,0.35239876564400363,5.2966287505153586E-2,2.7287518168002362E-2,0,0,0,0,0,0,0,null,0,0,0,0,0,0,0]
[19,"Factory-2","Revised","SMAP",0.11254834564346533,9.7618482656310485E-2,4.5435684892824624E-2,0.33012740468171659,0.33492362930166636,5.1835077541114875E-2,2.7511375282901589E-2,0,0,0,0,0,0,0,null,0,0,0,0,0,0,0]
[20,"Factory-2","Revised","SMAP",0.11725056443147411,9.7105256927846009E-2,4.579406500124588E-2,0.34203482135256286,0.31710008377908966,5.1118386380536597E-2,2.9596822127244914E-2,0,0,0,0,0,0,0,null,0,0,0,0,0,0,0]
[21,"Factory-2","Revised","SMAP",0.12152371193554168,9.6374609093426017E-2,4.603113075052033E-2,0.35274711636279804,0.29907185975571488,5.0803412096358261E-2,3.3448160005640951E-2,0,0,0,0,0,0,0,null,0,0,0,0,0,0,0]
[22,"Factory-2","Revised","SMAP",0.125358812963386,9.5442473590464288E-2,4.6151206806163553E-2,0.36224780299976977,0.2809766656404617,5.0872484109971736E-2,3.895055388978301E-2,0,0,0,0,0,0,0,null,0,0,0,0,0,0,0]
[23,"Factory-2","Revised","SMAP",0.12875358818310551,9.4326502137367207E-2,4.6159940516234364E-2,0.37053833730482455,0.26294359982382787,5.1303790970680767E-2,4.5974241063959739E-2,0,0,0,0,0,0,0,null,0,0,0,0,0,0,0]
[24,"Factory-2","Revised","SMAP",0.13171192785975372,9.3045475904604102E-2,4.6064090752561952E-2,0.3776362773078123,0.24509106147372436,5.2072319217639274E-2,5.4378847483904334E-2,0,0,0,0,0,0,0,null,0,0,0,0,0,0,0]
[25,"Factory-2","Revised","SMAP",0.13424313704152596,9.1618763003294079E-2,4.587119638312346E-2,0.38357365088160239,0.2275250819477645,5.3150690733949256E-2,6.4017480008740163E-2,0,0,0,0,0,0,0,null,0,0,0,0,0,0,0]
[26,"Factory-2","Revised","SMAP",0.13636117655552835,9.0065883024568083E-2,4.5589364441216501E-2,0.38839452744210107,0.21033843531389698,5.450999655645164E-2,7.4740616666237214E-2,0,0,0,0,0,0,0,null,0,0,0,0,0,0,0]
[27,"Factory-2","Revised","SMAP",0.13808387928505345,8.8406052711232128E-2,4.5227074178975396E-2,0.39215259093038207,0.19361028722484605,5.6120593367831505E-2,8.6399522301679507E-2,0,0,0,0,0,0,0,null,0,0,0,0,0,0,0]
[28,"Factory-2","Revised","SMAP",0.13943204270917309,8.6657846746648975E-2,4.47928871319518E-2,0.39490914406846239,0.17740612695341501,5.7952788640378512E-2,9.8849163749970159E-2,0,0,0,0,0,0,0,null,0,0,0,0,0,0,0]
[29,"Factory-2","Revised","SMAP",0.14042868221131249,8.4838889498047174E-2,4.429530563816976E-2,0.39673081621469464,0.16177830219758288,5.9977417273013395E-2,0.11195058696717963,0,0,0,0,0,0,0,null,0,0,0,0,0,0,0]
[30,"Factory-2","Revised","SMAP",0.14109831687676649,8.2965680068230394E-2,4.3742647313838548E-2,0.39768741634821964,0.14676679459243566,6.2166367145589617E-2,0.12557277765491964,0,0,0,0,0,0,0,null,0,0,0,0,0,0,0]
[31,"Factory-2","Revised","SMAP",0.14146625194472251,8.1053431071923837E-2,4.3142855892070821E-2,0.39785047745599955,0.13240012949477578,6.449290033347925E-2,0.13959395380702841,0,0,0,0,0,0,0,null,0,0,0,0,0,0,0]
[32,"Factory-2","Revised","SMAP",0.14155804075790676,7.911595614804294E-2,4.2503442527528912E-2,0.39729159752720111,0.11869654404640224,6.6931973449578311E-2,0.15390244554333971,0,0,0,0,0,0,0,null,0,0,0,0,0,0,0]
[8,"Factory-3","Revised","SMAP",0,0,9.9308261878455935E-3,4.8307198913000719E-2,0.72025050233768995,0.12305548764506319,9.845598491640048E-2,0,0,0,0,0,0,0,null,0,0,0,0,0,0,0]
[9,"Factory-3","Revised","SMAP",0,0,1.1997595312742547E-2,7.0408093179929007E-2,0.7000332302627098,0.12193981591915187,9.5621265325466762E-2,0,0,0,0,0,0,0,null,0,0,0,0,0,0,0]
[10,"Factory-3","Revised","SMAP",4.9241138069802352E-3,1.8241698890174237E-2,1.3404121283940184E-2,9.0648504529802873E-2,0.66408632695938952,0.1180564353899827,9.0638799139730358E-2,0,0,0,0,0,0,0,null,0,0,0,0,0,0,0]
[11,"Factory-3","Revised","SMAP",1.1922264499299222E-2,3.4078571763094784E-2,1.4463579876197204E-2,0.11018778159865601,0.62925141637206405,0.11428570013348348,8.5810685757205185E-2,0,0,0,0,0,0,0,null,0,0,0,0,0,0,0]
[12,"Factory-3","Revised","SMAP",1.8596050849076722E-2,4.6531118007268273E-2,1.5151939687240719E-2,0.12953419632323482,0.59771479208121736,0.11103720690074428,8.1434696151217761E-2,0,0,0,0,0,0,0,null,0,0,0,0,0,0,0]
[13,"Factory-3","Revised","SMAP",2.5024332813846938E-2,5.595079928325554E-2,1.5584911219038306E-2,0.14887218304072825,0.56890133826654943,0.10823490455977997,7.743153081680143E-2,0,0,0,0,0,0,0,null,0,0,0,0,0,0,0]
[14,"Factory-3","Revised","SMAP",3.1278441168666717E-2,6.2519887876910027E-2,1.5774248633558838E-2,0.16839509613582643,0.54244409253527814,0.10583785983974318,7.375037381001652E-2,0,0,0,0,0,0,0,null,0,0,0,0,0,0,0]
[15,"Factory-3","Revised","SMAP",3.7431122833092995E-2,6.6274859607523939E-2,1.5633577591934011E-2,0.18832983491432173,0.51813426280061003,0.10383439549601885,7.0361946756498442E-2,0,0,0,0,0,0,0,null,0,0,0,0,0,0,0]
[16,"Factory-3","Revised","SMAP",4.353973647434832E-2,6.7458276523404942E-2,1.5161319616924582E-2,0.20884295558349594,0.49560213970590644,0.10218043324115643,6.7215138854763407E-2,0,0,0,0,0,0,0,null,0,0,0,0,0,0,0]
[17,"Factory-3","Revised","SMAP",4.9665296448409758E-2,6.5885587313839575E-2,1.4544917667236515E-2,0.23014038892275673,0.47462503344331697,0.10085993993783167,6.427883626660863E-2,0,0,0,0,0,0,0,null,0,0,0,0,0,0,0]
[18,"Factory-3","Revised","SMAP",5.5880529007274207E-2,6.1618135138241006E-2,1.3488064227111022E-2,0.25249464101013924,0.45509796103038769,9.9882832097152083E-2,6.1537837489694713E-2,0,0,0,0,0,0,0,null,0,0,0,0,0,0,0]
[19,"Factory-3","Revised","SMAP",6.2236098508738041E-2,5.453344807419281E-2,1.226021764257932E-2,0.27608903769048565,0.43671444500617923,9.9217115759730315E-2,5.8949637318094571E-2,0,0,0,0,0,0,0,null,0,0,0,0,0,0,0]
[20,"Factory-3","Revised","SMAP",6.882086939213411E-2,4.4381884297599879E-2,1.0647671793370374E-2,0.30129073037844983,0.41945288996376245,9.8895794540916987E-2,5.6510159633766509E-2,0,0,0,0,0,0,0,null,0,0,0,0,0,0,0]
[21,"Factory-3","Revised","SMAP",7.5709909378775822E-2,3.1011810954615145E-2,8.6245265105808783E-3,0.32841521989347677,0.40312607770160241,9.8919630089700103E-2,5.4192825471248922E-2,0,0,0,0,0,0,0,null,0,0,0,0,0,0,0]
[22,"Factory-3","Revised","SMAP",8.2989572086479335E-2,1.4092433160237151E-2,6.227612006840094E-3,0.35784090701966997,0.38757465608945285,9.9300154226137805E-2,5.1974665411182855E-2,0,0,0,0,0,0,0,null,0,0,0,0,0,0,0]
[23,"Factory-3","Revised","SMAP",9.0156511809229525E-2,0,3.3499153933955286E-3,0.38742727888477657,0.37017114609955781,9.9392676613214326E-2,4.9502471199826287E-2,0,0,0,0,0,0,0,null,0,0,0,0,0,0,0]
[24,"Factory-3","Revised","SMAP",9.6084078280134252E-2,0,-1.6159506903533246E-5,0.41238876633987814,0.34716244762442017,9.8103930529914118E-2,4.6276936732556916E-2,0,0,0,0,0,0,0,null,0,0,0,0,0,0,0]
[25,"Factory-3","Revised","SMAP",0.10158175641726894,0,0,0.43623459937314857,0.32282493581798483,9.6485836219654911E-2,4.2872872171942765E-2,0,0,0,0,0,0,0,null,0,0,0,0,0,0,0]
[26,"Factory-3","Revised","SMAP",0.10695898819697072,0,0,0.46030085814875182,0.29840664071313694,9.4876436416690718E-2,3.9457076524449713E-2,0,0,0,0,0,0,0,null,0,0,0,0,0,0,0]
[27,"Factory-3","Revised","SMAP",0.11221591957417179,0,0,0.48459532039323855,0.27388843205918179,9.3273412837149336E-2,3.6026915136258546E-2,0,0,0,0,0,0,0,null,0,0,0,0,0,0,0]
[28,"Factory-3","Revised","SMAP",0.11735409693532869,0,0,0.50913264279762649,0.24925681599968469,9.1675955920664909E-2,3.2580488346695059E-2,0,0,0,0,0,0,0,null,0,0,0,0,0,0,0]
[29,"Factory-3","Revised","SMAP",0.12237501061692435,0,0,0.53392815818792028,0.22449768324598646,9.0083321823226731E-2,2.9115826125942098E-2,{"$f":"IF(AND($B698=$M$5,$D698=$M$6,$A698=$M$4,C698=$R$4),E698*$M$7,0)","v":0},{"$f":"IF(AND($B698=$M$5,$D698=$M$6,$A698=$M$4,C698=$R$4),F698*$M$7,0)","v":0},{"$f":"IF(AND($B698=$M$5,$D698=$M$6,$A698=$M$4,C698=$R$4),G698*$M$7,0)","v":0},{"$f":"IF(AND($B698=$M$5,$D698=$M$6,$A698=$M$4,C698=$R$4),H698*$M$7,0)","v":0},{"$f":"IF(AND($B698=$M$5,$D698=$M$6,$A698=$M$4,C698=$R$4),I698*$M$7,0)","v":0},{"$f":"IF(AND($B698=$M$5,$D698=$M$6,$A698=$M$4,C698=$R$4),J698*$M$7,0)","v":0},{"$f":"IF(AND($B698=$M$5,$D698=$M$6,$A698=$M$4,C698=$R$4),K698*$M$7,0)","v":0},null,{"$f":"IF(AND($B698=$U$5,$D698=$U$6,$A698=$U$4,C698=$R$4),E698*$U$7,0)","v":0},{"$f":"IF(AND($B698=$U$5,$D698=$U$6,$A698=$U$4,C698=$R$4),F698*$U$7,0)","v":0},{"$f":"IF(AND($B698=$U$5,$D698=$U$6,$A698=$U$4,C698=$R$4),G698*$U$7,0)","v":0},{"$f":"IF(AND($B698=$U$5,$D698=$U$6,$A698=$U$4,C698=$R$4),H698*$U$7,0)","v":0},{"$f":"IF(AND($B698=$U$5,$D698=$U$6,$A698=$U$4,C698=$R$4),I698*$U$7,0)","v":0},{"$f":"IF(AND($B698=$U$5,$D698=$U$6,$A698=$U$4,C698=$R$4),J698*$U$7,0)","v":0},{"$f":"IF(AND($B698=$U$5,$D698=$U$6,$A698=$U$4,C698=$R$4),K698*$U$7,0)","v":0}]
[30,"Factory-3","Revised","SMAP",0.12727999922789612,0,0,0.55899742682848219,0.19959692178519728,8.8494710762018258E-2,2.5630941396406221E-2,0,0,0,0,0,0,0,null,0,0,0,0,0,0,0]
[31,"Factory-3","Revised","SMAP",0.13207035649504395,0,0,0.58435678171424499,0.17453973598186587,8.6909358713946894E-2,2.2123767094898324E-2,0,0,0,0,0,0,0,null,0,0,0,0,0,0,0]
[32,"Factory-3","Revised","SMAP",0.13674722452336849,0,0,0.61002291714229195,0.14931117795513801,8.5326467101505238E-2,1.8592213277696227E-2,0,0,0,0,0,0,0,null,0,0,0,0,0,0,0]
[13,"Factory-1","Revised","OTHER",{"$f":"AVERAGE(E634,E568,E500,E432,E364)","v":0.16373021927073919},{"$f":"AVERAGE(F634,F568,F500,F432,F364)","v":0.13070066834255131},5.4993098176702539E-2,0.26035104799470876,0.24153178768256711,8.9383211108926372E-2,5.9309967423804746E-2,{"$f":"IF(AND($B702=$M$5,$D702=$M$6,$A702=$M$4,C702=$R$4),E702*$M$7,0)","v":0},{"$f":"IF(AND($B702=$M$5,$D702=$M$6,$A702=$M$4,C702=$R$4),F702*$M$7,0)","v":0},{"$f":"IF(AND($B702=$M$5,$D702=$M$6,$A702=$M$4,C702=$R$4),G702*$M$7,0)","v":0},{"$f":"IF(AND($B702=$M$5,$D702=$M$6,$A702=$M$4,C702=$R$4),H702*$M$7,0)","v":0},{"$f":"IF(AND($B702=$M$5,$D702=$M$6,$A702=$M$4,C702=$R$4),I702*$M$7,0)","v":0},{"$f":"IF(AND($B702=$M$5,$D702=$M$6,$A702=$M$4,C702=$R$4),J702*$M$7,0)","v":0},{"$f":"IF(AND($B702=$M$5,$D702=$M$6,$A702=$M$4,C702=$R$4),K702*$M$7,0)","v":0},null,{"$f":"IF(AND($B702=$U$5,$D702=$U$6,$A702=$U$4,C702=$R$4),E702*$U$7,0)","v":0},{"$f":"IF(AND($B702=$U$5,$D702=$U$6,$A702=$U$4,C702=$R$4),F702*$U$7,0)","v":0},{"$f":"IF(AND($B702=$U$5,$D702=$U$6,$A702=$U$4,C702=$R$4),G702*$U$7,0)","v":0},{"$f":"IF(AND($B702=$U$5,$D702=$U$6,$A702=$U$4,C702=$R$4),H702*$U$7,0)","v":0},{"$f":"IF(AND($B702=$U$5,$D702=$U$6,$A702=$U$4,C702=$R$4),I702*$U$7,0)","v":0},{"$f":"IF(AND($B702=$U$5,$D702=$U$6,$A702=$U$4,C702=$R$4),J702*$U$7,0)","v":0}]
[14,"Factory-1","Revised","OTHER",{"$f":"AVERAGE(E635,E569,E501,E433,E365)","v":0.17180888917119891},0.13057675865225341,5.3238345587031131E-2,0.26612093805931364,0.23602218892240406,8.5043016188099799E-2,5.7189863419699102E-2,0,0,0,0,0,0,0,null,0,0,0,0,0,0]
[15,"Factory-1","Revised","OTHER",{"$f":"AVERAGE(E636,E570,E502,E434,E366)","v":0.17981039005181323},0.13027426260180666,5.1523934449390671E-2,0.27181492016647429,0.23067765633757692,8.0868736039465788E-2,5.5030100353472444E-2,0,0,0,0,0,0,0,null,0,0,0,0,0,0]
[16,"Factory-1","Revised","OTHER",{"$f":"AVERAGE(E637,E571,E503,E435,E367)","v":0.18770973682440836},0.12979096275402718,4.9851866079135651E-2,0.27741285485522599,0.22551532940657615,7.6872504789432236E-2,5.28467452911945E-2,0,0,0,0,0,0,0,null,0,0,0,0,0,0]
[17,"Factory-1","Revised","OTHER",{"$f":"AVERAGE(E638,E572,E504,E436,E368)","v":0.19548136302537072},0.12912664008324867,4.8224441638611615E-2,0.28289520178440275,0.22055119141628468,7.3065623303059352E-2,5.0655538749022157E-2,0,0,0,0,0,0,0,null,0,0,0,0,0,0]
[18,"Factory-1","Revised","OTHER",{"$f":"AVERAGE(E639,E573,E505,E437,E369)","v":0.20309958334336872},0.12828304066311302,4.6644263701328223E-2,0.28824358513871318,0.21579957273846384,6.9458412862638055E-2,4.8471541552374937E-2,0,0,0,0,0,0,0,null,0,0,0,0,0,0]
[19,"Factory-1","Revised","OTHER",{"$f":"AVERAGE(E640,E574,E506,E438,E370)","v":0.21053912931314372},0.12726388637506036,4.5114128663646065E-2,0.29344119432221449,0.21127285729122613,6.6060022055324158E-2,4.6308781979385032E-2,0,0,0,0,0,0,0,null,0,0,0,0,0,0]
[20,"Factory-1","Revised","OTHER",{"$f":"AVERAGE(E641,E575,E507,E439,E371)","v":0.21777568346358533},0.12607478076843223,4.3636989925367624E-2,0.29847318312676457,0.20698106519605108,6.287831685928158E-2,4.4179980660517634E-2,0,0,0,0,0,0,0,null,0,0,0,0,0,0]
[21,"Factory-1","Revised","OTHER",{"$f":"AVERAGE(E642,E576,E508,E440,E372)","v":0.2247862475707893},0.12472314739434412,4.2215861510123923E-2,0.30332707574105788,0.20293163552026955,5.9919729276169321E-2,4.209630298724594E-2,0,0,0,0,0,0,0,null,0,0,0,0,0,0]
[22,"Factory-1","Revised","OTHER",{"$f":"AVERAGE(E643,E577,E509,E441,E373)","v":0.231549739324271},0.12321799431445564,4.0853722064002222E-2,0.307992902009537,0.19912926560147273,5.7189177055862295E-2,4.0067199630398925E-2,0,0,0,0,0,0,0,null,0,0,0,0,0,0]
[23,"Factory-1","Revised","OTHER",{"$f":"AVERAGE(E644,E578,E510,E442,E374)","v":0.2380473290817465},0.12156973760251984,3.9553437104803066E-2,0.31246336546222764,0.19557579747136725,5.4690020725929843E-2,3.8100312551405877E-2,0,0,0,0,0,0,0,null,0,0,0,0,0,0]
[24,"Factory-1","Revised","OTHER",{"$f":"AVERAGE(E645,E579,E511,E443,E375)","v":0.24426266077234837},0.11978991431093242,3.8317638126570089E-2,0.31673389278954567,0.19227044996922746,5.2424011836143133E-2,3.6201432195232849E-2,0,0,0,0,0,0,0,null,0,0,0,0,0,0]
[25,"Factory-1","Revised","OTHER",{"$f":"AVERAGE(E646,E580,E512,E444,E376)","v":0.25018224191309041},0.11789094364591417,3.7148648701477757E-2,0.3208026322279216,0.18920966869000339,5.0391307296372354E-2,3.4374557525220256E-2,0,0,0,0,0,0,0,null,0,0,0,0,0,0]
[26,"Factory-1","Revised","OTHER",{"$f":"AVERAGE(E647,E581,E513,E445,E377)","v":0.2557955516950664},0.11588588104930642,3.6048408963237577E-2,0.32467007753459692,0.18638757655651711,4.8590530706173425E-2,3.2621973495102152E-2,0,0,0,0,0,0,0,null,0,0,0,0,0,0]
[27,"Factory-1","Revised","OTHER",{"$f":"AVERAGE(E648,E582,E514,E446,E378)","v":0.26109496102566659},0.11378809285735972,3.5018402976400111E-2,0.32833914644084206,0.18379615666667165,4.7018813578378525E-2,3.0944426454681394E-2,0,0,0,0,0,0,0,null,0,0,0,0,0,0]
[28,"Factory-1","Revised","OTHER",{"$f":"AVERAGE(E649,E583,E515,E447,E379)","v":0.26607593221938713},0.11161109666246741,3.4059615430445986E-2,0.33181464053732468,0.18142552552846489,4.56719143432067E-2,2.9341275278703172E-2,0,0,0,0,0,0,0,null,0,0,0,0,0,0]
[29,"Factory-1","Revised","OTHER",{"$f":"AVERAGE(E650,E584,E516,E448,E380)","v":0.2707374761050253},0.10936804465340018,3.317244271139054E-2,0.33510268006699984,0.17926433504260239,4.4544301973493031E-2,2.7810719447088562E-2,0,0,0,0,0,0,0,null,0,0,0,0,0,0]
[30,"Factory-1","Revised","OTHER",{"$f":"AVERAGE(E651,E585,E517,E449,E381)","v":0.27512924663391897},0.10706271566638452,3.2352741263145968E-2,0.33818425268425056,0.17729511571788001,4.3626275679176534E-2,2.6349652355243409E-2,0,0,0,0,0,0,0,null,0,0,0,0,0,0]
[31,"Factory-1","Revised","OTHER",{"$f":"AVERAGE(E652,E586,E518,E450,E382)","v":0.27928924435976266},0.10470188970929455,3.1595524294726021E-2,0.34104673735606034,0.17550335567536138,4.2907861831071079E-2,2.4955386773724046E-2,0,0,0,0,0,0,0,null,0,0,0,0,0,0]
[32,"Factory-1","Revised","OTHER",0.28303188557255693,0.10234345209273366,3.0844813775837775E-2,0.34339222450069362,0.17383622554573694,4.2345174789360583E-2,2.4206223723080442E-2,0,0,0,0,0,0,0,null,0,0,0,0,0,0]
[10,"Factory-2","Revised","OTHER",2.4676281573678679E-2,5.3318743755412609E-2,3.2363519872957457E-2,0.21204110280486618,0.34531425965243984,0.17884635832884122,0.15343973401180389,0,0,0,0,0,0,0,null,0,0,0,0,0,0]
[11,"Factory-2","Revised","OTHER",{"$f":"AVERAGE(E655,E589,E521,E453,E385)","v":3.197471498248889E-2},5.5456817787737277E-2,3.2072496209839665E-2,0.2307415656479023,0.3413335159647371,0.16773020033854807,0.14069068906874671,0,0,0,0,0,0,0,null,0,0,0,0,0,0]
[12,"Factory-2","Revised","OTHER",{"$f":"AVERAGE(E656,E590,E522,E454,E386)","v":3.9293578879961634E-2},5.7630588331540569E-2,3.1837432383832437E-2,0.24860466610052798,0.33693362981477692,0.1571065063275851,0.12859359816177535,0,0,0,0,0,0,0,null,0,0,0,0,0,0]
[13,"Factory-2","Revised","OTHER",{"$f":"AVERAGE(E657,E591,E523,E455,E387)","v":4.6591637973775524E-2},5.982066597540895E-2,3.1652442814802909E-2,0.26553669850452133,0.3321065186909502,0.147012183302699,0.11727985273784217,0,0,0,0,0,0,0,null,0,0,0,0,0,0]
[14,"Factory-2","Revised","OTHER",{"$f":"AVERAGE(E658,E592,E524,E456,E388)","v":5.3825617699946871E-2},6.2007630454049514E-2,3.1511577963814527E-2,0.28144882907023738,0.32685200209645099,0.13748302667641288,0.10687131603908787,0,0,0,0,0,0,0,null,0,0,0,0,0,0]
[15,"Factory-2","Revised","OTHER",{"$f":"AVERAGE(E659,E593,E525,E457,E389)","v":6.0951344635196726E-2},6.4172604138278799E-2,3.1409068979276644E-2,0.29625981355397957,0.32117823415908575,0.12855306050361301,9.7475874030569495E-2,0,0,0,0,0,0,0,null,0,0,0,0,0,0]
[16,"Factory-2","Revised","OTHER",{"$f":"AVERAGE(E660,E594,E526,E458,E390)","v":6.7924993082142421E-2},6.6297805243710581E-2,3.1339551340734767E-2,0.3098982514072362,0.31510229632129594,0.12025368877521533,8.9183413829664687E-2,0,0,0,0,0,0,0,null,0,0,0,0,0,0]
[17,"Factory-2","Revised","OTHER",{"$f":"AVERAGE(E661,E595,E527,E459,E391)","v":7.4704400272151347E-2},6.8367152226250477E-2,3.1298290571286053E-2,0.32230468807679091,0.30865000415320881,0.11261299792901909,8.2062466771293363E-2,0,0,0,0,0,0,0,null,0,0,0,0,0,0]
[18,"Factory-2","Revised","OTHER",{"$f":"AVERAGE(E662,E596,E528,E460,E392)","v":8.1250303153077616E-2},7.0366712737292267E-2,3.1281352439774625E-2,0.33343307258704896,0.30185566680499304,0.10565501621162776,7.6157876066185737E-2,0,0,0,0,0,0,0,null,0,0,0,0,0,0]
[19,"Factory-2","Revised","OTHER",{"$f":"AVERAGE(E663,E597,E529,E461,E393)","v":8.75274501807351E-2},7.2285075307549393E-2,3.1285745489270246E-2,0.34325190047938375,0.29476108264771328,9.9399247159996554E-2,7.1489498735351736E-2,0,0,0,0,0,0,0,null,0,0,0,0,0,0]
[20,"Factory-2","Revised","OTHER",{"$f":"AVERAGE(E664,E598,E530,E462,E394)","v":9.3505535418771324E-2},7.4113613884735946E-2,3.1309470898176851E-2,0.35174452676806467,0.28741442906448567,9.3860192739650516E-2,6.8052231226115062E-2,0,0,0,0,0,0,0,null,0,0,0,0,0,0]
[21,"Factory-2","Revised","OTHER",{"$f":"AVERAGE(E665,E599,E531,E463,E395)","v":9.915984356313548E-2},7.5846572636060039E-2,3.1351557746916524E-2,0.3589089741353938,0.27986887459289511,8.9047053701815024E-2,6.5817123623784085E-2,0,0,0,0,0,0,0,null,0,0,0,0,0,0]
[22,"Factory-2","Revised","OTHER",{"$f":"AVERAGE(E666,E600,E532,E464,E396)","v":0.10447156313749499},7.7480990068518968E-2,3.1412004634546062E-2,0.36475713921608011,0.27218091567568325,8.496372174141284E-2,6.4733665526263723E-2,0,0,0,0,0,0,0,null,0,0,0,0,0,0]
[23,"Factory-2","Revised","OTHER",{"$f":"AVERAGE(E667,E601,E533,E465,E397)","v":0.1094279202415207},7.9016559800470648E-2,3.1491684113994202E-2,0.36931369802721886,0.26440858005731088,8.1608839336833064E-2,6.4732718422651575E-2,0,0,0,0,0,0,0,null,0,0,0,0,0,0]
[24,"Factory-2","Revised","OTHER",{"$f":"AVERAGE(E668,E602,E534,E466,E398)","v":0.11402192671587827},8.0455304535796621E-2,3.159223570672904E-2,0.37261430154873582,0.25661002919335874,7.8975947938576069E-2,6.5730254360925416E-2,0,0,0,0,0,0,0,null,0,0,0,0,0,0]
[25,"Factory-2","Revised","OTHER",{"$f":"AVERAGE(E669,E603,E535,E467,E399)","v":0.11825197578612304},8.180122226219233E-2,3.1715876264996626E-2,0.37470400922848823,0.24884179600319278,7.705398226036024E-2,6.7631138194646737E-2,0,0,0,0,0,0,0,null,0,0,0,0,0,0]
[26,"Factory-2","Revised","OTHER",{"$f":"AVERAGE(E670,E604,E536,E468,E400)","v":0.12212126496226039},8.3059891348433473E-2,3.1865257943355506E-2,0.37563529839326909,0.24115758240342769,7.5827601769759098E-2,7.033310317949483E-2,0,0,0,0,0,0,0,null,0,0,0,0,0,0]
[27,"Factory-2","Revised","OTHER",{"$f":"AVERAGE(E671,E605,E537,E469,E401)","v":0.12563708134781981},8.4238033781309576E-2,3.2043289657639494E-2,0.37546623081781844,0.2336071390338752,7.5277837669126255E-2,7.3730387692411248E-2,0,0,0,0,0,0,0,null,0,0,0,0,0,0]
[28,"Factory-2","Revised","OTHER",{"$f":"AVERAGE(E672,E606,E538,E470,E402)","v":0.12868647717768517},8.5231472565812566E-2,3.2242378456126417E-2,0.37383846879253246,0.22590766095700041,7.5264062933413534E-2,7.8829479117429435E-2,0,0,0,0,0,0,0,null,0,0,0,0,0,0]
[29,"Factory-2","Revised","OTHER",{"$f":"AVERAGE(E673,E607,E539,E471,E403)","v":0.13136972709212857},8.6118238933649477E-2,3.2476410704611637E-2,0.37115947533245403,0.21837205979767699,7.5838232357493401E-2,8.4665855781985933E-2,0,0,0,0,0,0,0,null,0,0,0,0,0,0]
[30,"Factory-2","Revised","OTHER",{"$f":"AVERAGE(E674,E608,E540,E472,E404)","v":0.13372124762765775},8.69205170635199E-2,3.2750152883160313E-2,0.36757057224111628,0.2110895377840695,7.6985577136683012E-2,9.0962395263793308E-2,0,0,0,0,0,0,0,null,0,0,0,0,0,0]
[31,"Factory-2","Revised","OTHER",{"$f":"AVERAGE(E675,E609,E541,E473,E405)","v":0.13574091445734709},8.7628261375403513E-2,3.306493987530449E-2,0.36309893652095743,0.20405644316206301,7.8656495858823325E-2,9.7754008750101123E-2,0,0,0,0,0,0,0,null,0,0,0,0,0,0]
[32,"Factory-2","Revised","OTHER",{"$f":"AVERAGE(E676,E610,E542,E474,E406)","v":0.13710561762217427},8.8078017270237105E-2,3.3356237182545621E-2,0.35718179681363865,0.19705562528069082,8.0761849187117402E-2,0.10646085664359614,0,0,0,0,0,0,0,null,0,0,0,0,0,0]
[8,"Factory-3","Revised","OTHER",1.5922382566355068E-3,9.8303916990291097E-4,8.9321603481625402E-3,4.3799727246457851E-2,0.36886665135201246,0.32525512601076301,0.25057105761606574,0,0,0,0,0,0,0,null,0,0,0,0,0,0]
[9,"Factory-3","Revised","OTHER",{"$f":"AVERAGE(E678,E612,E544,E476,E408)","v":1.7646111483973833E-3},1.271125164065742E-3,9.3505206839796795E-3,6.8119796806605487E-2,0.37589990375188276,0.30726529575865552,0.23632874668641346,0,0,0,0,0,0,0,null,0,0,0,0,0,0]
[10,"Factory-3","Revised","OTHER",{"$f":"AVERAGE(E679,E613,E545,E477,E409)","v":3.0895327942276792E-3},8.4700814802723852E-3,1.0075682856497358E-2,9.4407715269656231E-2,0.37717147848507349,0.28615384918152031,0.22063165993275263,0,0,0,0,0,0,0,null,0,0,0,0,0,0]
[11,"Factory-3","Revised","OTHER",{"$f":"AVERAGE(E680,E614,E546,E478,E410)","v":6.8857244359107686E-3},1.6124156310689069E-2,1.063949679721635E-2,0.11954469788128963,0.37711808556837295,0.26512470684000022,0.20456313216652097,0,0,0,0,0,0,0,null,0,0,0,0,0,0]
[12,"Factory-3","Revised","OTHER",{"$f":"AVERAGE(E681,E615,E547,E479,E411)","v":1.0532766523480602E-2},2.2767282759251134E-2,1.1052473582444638E-2,0.14381793156214004,0.37716768646627991,0.24560533801901691,0.18905652108738683,0,0,0,0,0,0,0,null,0,0,0,0,0,0]
[13,"Factory-3","Revised","OTHER",{"$f":"AVERAGE(E682,E616,E548,E480,E412)","v":1.3998956280055685E-2},2.8465063783914245E-2,1.1340555868712569E-2,0.16726376889751632,0.37717883329152935,0.22752226967279815,0.17423055220547365,0,0,0,0,0,0,0,null,0,0,0,0,0,0]
[14,"Factory-3","Revised","OTHER",{"$f":"AVERAGE(E683,E617,E549,E481,E413)","v":1.7290191486985251E-2},3.3244358436879909E-2,1.1503142127533011E-2,0.18990166307138318,0.37704561964425237,0.21081557607107665,0.16019944916188961,0,0,0,0,0,0,0,null,0,0,0,0,0,0]
[15,"Factory-3","Revised","OTHER",{"$f":"AVERAGE(E684,E618,E550,E482,E414)","v":2.0413294340065179E-2},3.7098046104742474E-2,1.1544074671300837E-2,0.21174103294124258,0.37669184162552999,0.19544390772214162,0.14706780259497723,0,0,0,0,0,0,0,null,0,0,0,0,0,0]
[16,"Factory-3","Revised","OTHER",{"$f":"AVERAGE(E685,E619,E551,E483,E415)","v":2.3373382231556626E-2},4.0057341917601241E-2,1.1451398597817762E-2,0.23278170059721237,0.37602852261288955,0.18138512922030456,0.13492252482261788,0,0,0,0,0,0,0,null,0,0,0,0,0,0]
[17,"Factory-3","Revised","OTHER",{"$f":"AVERAGE(E686,E620,E552,E484,E416)","v":2.6177726709247496E-2},4.2065214880293918E-2,1.1267642077483096E-2,0.25302671095189078,0.37500050433401111,0.16862939458609699,0.12383280646097658,0,0,0,0,0,0,0,null,0,0,0,0,0,0]
[18,"Factory-3","Revised","OTHER",{"$f":"AVERAGE(E687,E621,E553,E485,E417)","v":2.8837469472958361E-2},4.3111795904489221E-2,1.0957829310784284E-2,0.27248858656252822,0.37357997431722062,0.15717722009137397,0.11384712434064533,0,0,0,0,0,0,0,null,0,0,0,0,0,0]
[19,"Factory-3","Revised","OTHER",{"$f":"AVERAGE(E688,E622,E554,E486,E418)","v":3.1361264077901928E-2},4.3151201128529638E-2,1.0563128806103026E-2,0.29117997318678285,0.37172217648515932,0.1470339141253853,0.10498834219013793,0,0,0,0,0,0,0,null,0,0,0,0,0,0]
[20,"Factory-3","Revised","OTHER",{"$f":"AVERAGE(E689,E623,E555,E487,E419)","v":3.3766838357877783E-2},4.2112393151459537E-2,1.0047452926675512E-2,0.30915176335801081,0.36944233500480128,0.13821652791318637,9.7262689287988813E-2,0,0,0,0,0,0,0,null,0,0,0,0,0,0]
[21,"Factory-3","Revised","OTHER",{"$f":"AVERAGE(E690,E624,E556,E488,E420)","v":3.6070492228091743E-2},3.9945694067146889E-2,9.4124016827805655E-3,0.32645278361626529,0.36673060775225563,0.13073700101034885,9.0651019643111064E-2,0,0,0,0,0,0,0,null,0,0,0,0,0,0]
[22,"Factory-3","Revised","OTHER",{"$f":"AVERAGE(E691,E625,E557,E489,E421)","v":3.82918679447471E-2},3.6568171425544457E-2,8.672006467853037E-3,0.34315275870561851,0.36358921004160455,0.12460927171975462,8.5116713694877694E-2,0,0,0,0,0,0,0,null,0,0,0,0,0,0]
[23,"Factory-3","Revised","OTHER",{"$f":"AVERAGE(E692,E626,E558,E490,E422)","v":4.0333350306111661E-2},3.3240912890214351E-2,7.8292095862785085E-3,0.35881795619155671,0.35952463673245044,0.11971290968715095,8.0541024606237285E-2,0,0,0,0,0,0,0,null,0,0,0,0,0,0]
[24,"Factory-3","Revised","OTHER",{"$f":"AVERAGE(E693,E627,E559,E491,E423)","v":4.1915966513002036E-2},3.2943703084225465E-2,7.0152927585145257E-3,0.37220848484157532,0.3535296098832551,0.11570925591515738,7.6677687004270093E-2,0,0,0,0,0,0,0,null,0,0,0,0,0,0]
[25,"Factory-3","Revised","OTHER",{"$f":"AVERAGE(E694,E628,E560,E492,E424)","v":4.3099645593802319E-2},3.4212709334473471E-2,7.0011151745552943E-3,0.38354989665181971,0.34608751427885692,0.11260430887729149,7.3444810089200743E-2,0,0,0,0,0,0,0,null,0,0,0,0,0,0]
[26,"Factory-3","Revised","OTHER",{"$f":"AVERAGE(E695,E629,E561,E493,E425)","v":4.4081304284808789E-2},3.5287433984678651E-2,6.9792017722937168E-3,0.39374743599207507,0.33815204065652554,0.11074043595940859,7.1012147350209623E-2,0,0,0,0,0,0,0,null,0,0,0,0,0,0]
[27,"Factory-3","Revised","OTHER",{"$f":"AVERAGE(E696,E630,E562,E494,E426)","v":4.4990292517429607E-2},3.615741807780469E-2,6.9667006196735227E-3,0.40277263118804896,0.32972602411100405,0.11008395181470612,6.9302981671333086E-2,0,0,0,0,0,0,0,null,0,0,0,0,0,0]
[28,"Factory-3","Revised","OTHER",{"$f":"AVERAGE(E697,E631,E563,E495,E427)","v":4.5952906522118378E-2},3.6816465047658134E-2,6.9414340197702096E-3,0.41061989160375567,0.32082594158223804,0.11059930690102068,6.8244054323438802E-2,0,0,0,0,0,0,0,null,0,0,0,0,0,0]
[29,"Factory-3","Revised","OTHER",{"$f":"AVERAGE(E698,E632,E564,E496,E428)","v":4.6782083997371798E-2},3.7266872346437718E-2,6.9043253744013478E-3,0.41740860467266094,0.31157425774667058,0.1122864514619355,6.7777404400522018E-2,{"$f":"IF(AND($B766=$M$5,$D766=$M$6,$A766=$M$4,C766=$R$4),E766*$M$7,0)","v":0},{"$f":"IF(AND($B766=$M$5,$D766=$M$6,$A766=$M$4,C766=$R$4),F766*$M$7,0)","v":0},{"$f":"IF(AND($B766=$M$5,$D766=$M$6,$A766=$M$4,C766=$R$4),G766*$M$7,0)","v":0},{"$f":"IF(AND($B766=$M$5,$D766=$M$6,$A766=$M$4,C766=$R$4),H766*$M$7,0)","v":0},{"$f":"IF(AND($B766=$M$5,$D766=$M$6,$A766=$M$4,C766=$R$4),I766*$M$7,0)","v":0},{"$f":"IF(AND($B766=$M$5,$D766=$M$6,$A766=$M$4,C766=$R$4),J766*$M$7,0)","v":0},{"$f":"IF(AND($B766=$M$5,$D766=$M$6,$A766=$M$4,C766=$R$4),K766*$M$7,0)","v":0},null,{"$f":"IF(AND($B766=$U$5,$D766=$U$6,$A766=$U$4,C766=$R$4),E766*$U$7,0)","v":0},{"$f":"IF(AND($B766=$U$5,$D766=$U$6,$A766=$U$4,C766=$R$4),F766*$U$7,0)","v":0},{"$f":"IF(AND($B766=$U$5,$D766=$U$6,$A766=$U$4,C766=$R$4),G766*$U$7,0)","v":0},{"$f":"IF(AND($B766=$U$5,$D766=$U$6,$A766=$U$4,C766=$R$4),H766*$U$7,0)","v":0},{"$f":"IF(AND($B766=$U$5,$D766=$U$6,$A766=$U$4,C766=$R$4),I766*$U$7,0)","v":0},{"$f":"IF(AND($B766=$U$5,$D766=$U$6,$A766=$U$4,C766=$R$4),J766*$U$7,0)","v":0}]
[30,"Factory-3","Revised","OTHER",{"$f":"AVERAGE(E699,E633,E565,E497,E429)","v":4.748857753802975E-2},3.7506979145454519E-2,6.8523964096986172E-3,0.42317622134463245,0.30201511033516848,0.11512319705490148,6.7837518172114725E-2,0,0,0,0,0,0,0,null,0,0,0,0,0,0]
[31,"Factory-3","Revised","OTHER",{"$f":"AVERAGE(E700,E634,E566,E498,E430)","v":8.7306779324056727E-2},5.7057502064238153E-2,1.6846065202574971E-2,0.37391629340826943,0.29173669809318209,0.11779905531455999,5.5337606593118684E-2,0,0,0,0,0,0,0,null,0,0,0,0,0,0]
[32,"Factory-3","Revised","OTHER",{"$f":"AVERAGE(E701,E635,E567,E499,E431)","v":8.8759838287040455E-2},5.6914445295425664E-2,1.6247463153238176E-2,0.37802480277647177,0.28046234478804954,0.12368530360075983,5.5905802099014454E-2,0,0,0,0,0,0,0,null,0,0,0,0,0,0]

{"sheet":"Batch Summaries","index":5,"n_rows":16,"n_cols":44,"rows_kept":16,"cut":false,"hidden":false,"merged":[[5,28,5,31]]}
["Summarized Batch Analyses Results"]
[]
[]
[]
[]
[null,"Total ","Total","Log",null,null,"Average",null,null,null,null,null,null,null,null,"Total",null,"Total","Total"," ",null,null,"Total","Average","Total","Average","Total","Average","Board Width Distribution"]
[null,"Logs","Log","Recovery","Boards","Total","Recovery",null,null,null,null,null,null,null,null,"Product","Cant","Lumber","Associated","Log","Processing","Profit","Int 1/4","Int 1/4","Scribner","Scriber","Doyle","Doyle",null,">= 4",">= 5",">=6",">=7",">=8",">=9",">=10",">=11",">=12",">=13",">=14",">=15",">=16",">=17",">=18"]
["Summary Name","Processed","Volume","Factor","Sawn","Recovery","Per Log","Cant","FAS","F1F","Selects","1C","2AC","3AC","3BC","Value","Value","Value","Costs","Cost","Cost","Loss","Scale","Over-run","Scale","Over-run","Scale","Over-run","< 4","< 5","< 6","< 7","< 8","<9","< 10","< 11","< 12","< 13","< 14","< 15","< 16","< 17","< 18","< 30"]
[null,null,"(ft3)",null,null,"(bdft)","(bdft)","(bdft)","(bdft)","(bdft)","(bdft)","(bdft)","(bdft)","(bdft)","(bdft)","($)","($)","($)","($)","($)","($)","($)","(bdft)",null,"(bdft)",null,"(bdft)"]
["0.020 Sawing Variation",50,1246.2080895350791,6.5594081361819736,907,9456.3216673436491,189.12643334687297,1032,208.45355201426199,157.94931578411934,361.1256236847529,2964.7220712180024,2451.699565439209,955.09513690411757,377.51710914282813,2982.5106526625245,350.88000000000022,2631.6306526625235,2131.6918909659248,1786.875,344.81689096592459,850.81876169659893,8110,5.6622507913278372E-2,7720,0.13373419594551114,7147.5,0.3172838059838089,0,1,18,265,94,118,140,141,48,30,22,17,7,5,1,0]
["0.030 Sawing Variation",50,1246.2080895350791,6.4944979853894349,890,9325.0146255841009,186.50029251168201,1056,205.41649568920371,155.04418929351596,355.58551898073375,2910.5033589318828,2406.3075315157475,935.52368072413253,370.0190239591962,2942.9417151484422,359.04000000000025,2583.9017151484404,2131.6918909659248,1786.875,344.81689096592459,811.24982418251705,8110,4.7152628993657665E-2,7720,0.12395547652446551,7147.5,0.30744044081950561,0,1,17,260,93,114,149,121,55,29,25,13,10,2,1,0]
["ROAK-3CF-Recovery-Test",100,2428.6925558378975,6.8660629161101259,2075,17102.053642775209,171.02053642775209,0,4928.5595698231382,2391.8543917875204,533.31847869093849,4599.4711081891273,2953.5453728985608,1342.7317910061042,352.57293037982953,15365.089396237452,0,15365.089396237452,6792.2608627637364,5687.1375000000016,1105.1233627637428,8572.8285334737047,15485,0.11796734006986545,14660,0.19535640152454561,13381.5,0.38589595354342315,0,3,17,795,269,248,228,158,78,58,53,86,61,20,0,1]
["0.030 SV 200 Log Sample",200,7118.3648926824399,7.1572938522993228,4642,52153.844516701007,260.76922258350504,0,6656.8262361090019,5095.0737806494189,1053.0054182791514,19256.736829088517,11510.258905319477,5636.9394254718227,2945.0039217836315,26277.959210133122,0,26277.959210133122,22369.240016257721,10634.625,11734.615016257736,3908.7191938754013,47265,0.10626250575201934,44120,0.19242927921455613,40744,0.35762617651143663,0,3,808,834,758,548,382,215,157,186,276,248,104,57,17,49]
["0.050 SV 200 Log Sample",200,7118.3648926824399,6.9326153200937144,4506,50444.513421401956,252.22256710700978,0,6434.3785294712197,4926.2958332159096,1019.4601318015413,18620.267984089252,11138.137863187421,5457.5256356835434,2848.4474439530895,25414.161751634136,0,25414.161751634136,21984.640519815443,10634.625,11350.015519815435,3429.5212318186932,47265,7.1952529123556305E-2,44120,0.15546522066989207,40744,0.31659747206335248,0,3,816,849,651,535,386,268,139,123,242,245,128,63,10,48]
["0.065 SV 200 Log Sample",200,7118.3648926824399,6.7458904110845017,4413,49125.260038123597,245.626300190618,0,6270.4883365970672,4798.9974204112241,992.38107162532128,18137.89075549108,10842.464164301442,5310.0183043873712,2773.0199853100739,24752.109411448251,0,24752.109411448251,21687.808508577797,10634.625,11053.183508577806,3064.3009028704605,47265,4.2943104583077665E-2,44120,0.12428987590070573,40744,0.28096554963177794,0,3,820,790,675,507,403,262,162,99,172,255,146,68,12,39]
["Factory-2-Sample",125,3712.1411254561663,7.0593150821199666,2553,26586.654038083088,212.69323230466472,0,2982.1389276014424,2454.3274923504005,573.75145036067784,9389.3924182522333,6275.3517226114382,3319.1450128617048,1592.5470140451964,16828.071136144103,0,16828.071136144103,10565.230731845115,5088.3799999999992,5476.8507318451175,6262.8404042989896,25190,5.4947050319477712E-2,23340,0.14462775920104368,20887,0.31396913839135765,0,0,8,1003,339,362,282,202,78,49,110,89,31,0,0,0]

{"sheet":"LogScale","index":6,"n_rows":385,"n_cols":12,"rows_kept":385,"cut":false,"hidden":true,"merged":[[4,4,4,5],[0,1,0,7],[2,6,2,8],[2,9,2,11]]}
[null,"Log Scale Tables"]
[]
[null,null,"Interactive","Batch Input",null,null,"Batch Processing Lookup Results",null,null,"Interactive Processing Lookup Results"]
[null,"Diameter",{"$f":"'Interactive Sawing'!D9","v":20},14.710208756886001,null,null,"Int ¼","Doyle","Scribner","Int ¼","Doyle","Scribner"]
[null,"Length",{"$f":"'Interactive Sawing'!D11","v":16},16,"Volume in Board Feet",null,{"$f":"MAX(G9:G386)","v":135},100,120,290,256,270]
["Small"]
["End","Log",null,null,null,null,"Volume Look-up Table",null,null,"Volume Look-up Table"]
["Diameter","Length","Int ¼","Doyle","Scribner "," ","Int ¼","Doyle","Scribner","Int ¼","Doyle","Scribner"]
[8,8,{"$f":"ROUND((0.398*POWER(A9,2)-1.086*A9-0.271)/5,0)*5","v":15},{"$f":"(POWER(A9-4,2)*B9)/16","v":8},{"$f":"ROUND(((0.79*POWER(A9,2)-2*A9 -4)*B9/16)/10,0)*10","v":20},null,{"$f":"IF(AND(($A9=FLOOR($D$4,1)),($B9=FLOOR($D$5,1))),C9,0)","v":0},{"$f":"IF(AND(($A9=FLOOR($D$4,1)),($B9=FLOOR($D$5,1))),D9,0)","v":0},{"$f":"IF(AND(($A9=FLOOR($D$4,1)),($B9=FLOOR($D$5,1))),E9,0)","v":0},{"$f":"IF(AND(($A9=FLOOR($C$4,1)),($B9=FLOOR($C$5,1))),C9,0)","v":0},{"$f":"IF(AND(($A9=FLOOR($C$4,1)),($B9=FLOOR($C$5,1))),D9,0)","v":0},{"$f":"IF(AND(($A9=FLOOR($C$4,1)),($B9=FLOOR($C$5,1))),E9,0)","v":0}]
[8,9,{"$f":"FLOOR((C9+C11)/2,1)","v":17},9,20,null,{"$f":"IF(AND(($A10=FLOOR($D$4,1)),($B10=FLOOR($D$5,1))),C10,0)","v":0},{"$f":"IF(AND(($A10=FLOOR($D$4,1)),($B10=FLOOR($D$5,1))),D10,0)","v":0},{"$f":"IF(AND(($A10=FLOOR($D$4,1)),($B10=FLOOR($D$5,1))),E10,0)","v":0},{"$f":"IF(AND(($A10=FLOOR($C$4,1)),($B10=FLOOR($C$5,1))),C10,0)","v":0},{"$f":"IF(AND(($A10=FLOOR($C$4,1)),($B10=FLOOR($C$5,1))),D10,0)","v":0},{"$f":"IF(AND(($A10=FLOOR($C$4,1)),($B10=FLOOR($C$5,1))),E10,0)","v":0}]
[8,10,{"$f":"ROUND(((C9+C13)/2)/5,0) * 5","v":20},10,20,null,0,0,0,0,0,0]
[8,11,{"$f":"FLOOR((C11+C13)/2,1)","v":22},11,20,null,0,0,0,0,0,0]
[8,12,{"$f":"ROUND((0.597*POWER(A13,2)-1.33*A13-0.715)/5,0)*5","v":25},12,20,null,0,0,0,0,0,0]
[8,13,{"$f":"FLOOR((C13+C15)/2,1)","v":30},13,20,null,0,0,0,0,0,0]
[8,14,{"$f":"ROUND(((C13+C17)/2)/5,0) * 5","v":35},14,30,null,0,0,0,0,0,0]
[8,15,{"$f":"FLOOR((C15+C17)/2,1)","v":37},15,30,null,0,0,0,0,0,0]
[8,16,{"$f":"ROUND((0.796* POWER(A17,2)-1.375*A17-1.23)/5,0)*5","v":40},16,30,null,0,0,0,0,0,0]
[8,17,{"$f":"FLOOR((C17+C19)/2,1)","v":42},17,30,null,0,0,0,0,0,0]
[8,18,{"$f":"ROUND(((C17+C21)/2)/5,0) * 5","v":45},18,30,null,0,0,0,0,0,0]
[8,19,{"$f":"FLOOR((C19+C21)/2,1)","v":47},19,40,null,0,0,0,0,0,0]
[8,20,{"$f":"ROUND((0.995*POWER(A21,2) - 1.221*A21 - 1.719)/5,0)*5","v":50},20,40,null,0,0,0,0,0,0]
[9,8,{"$f":"ROUND((0.398*POWER(A22,2)-1.086*A22-0.271)/5,0)*5","v":20},12.5,20,null,0,0,0,0,0,0]
[9,9,{"$f":"FLOOR((C22+C24)/2,1)","v":25},{"$f":"(POWER(A23-4,2)*B23)/16","v":14.0625},{"$f":"ROUND(((0.79*POWER(A23,2)-2*A23 -4)*B23/16)/10,0)*10","v":20},null,0,0,0,0,0,0]
[9,10,{"$f":"ROUND(((C22+C26)/2)/5,0) * 5","v":30},15.625,30,null,0,0,0,0,0,0]
[9,11,{"$f":"FLOOR((C24+C26)/2,1)","v":32},17.1875,30,null,0,0,0,0,0,0]
[9,12,{"$f":"ROUND((0.597*POWER(A26,2)-1.33*A26-0.715)/5,0)*5","v":35},18.75,30,null,0,0,0,0,0,0]
[9,13,{"$f":"FLOOR((C26+C28)/2,1)","v":40},20.3125,30,null,0,0,0,0,0,0]
[9,14,{"$f":"ROUND(((C26+C30)/2)/5,0) * 5","v":45},21.875,40,null,0,0,0,0,0,0]
[9,15,{"$f":"FLOOR((C28+C30)/2,1)","v":47},23.4375,40,null,0,0,0,0,0,0]
[9,16,{"$f":"ROUND((0.796* POWER(A30,2)-1.375*A30-1.23)/5,0)*5","v":50},25,40,null,0,0,0,0,0,0]
[9,17,{"$f":"FLOOR((C30+C32)/2,1)","v":55},26.5625,40,null,0,0,0,0,0,0]
[9,18,{"$f":"ROUND(((C30+C34)/2)/5,0) * 5","v":60},28.125,50,null,0,0,0,0,0,0]
[9,19,{"$f":"FLOOR((C32+C34)/2,1)","v":65},29.6875,50,null,0,0,0,0,0,0]
[9,20,{"$f":"ROUND((0.995*POWER(A34,2) - 1.221*A34 - 1.719)/5,0)*5","v":70},31.25,50,null,0,0,0,0,0,0]
[10,8,{"$f":"ROUND((0.398*POWER(A35,2)-1.086*A35-0.271)/5,0)*5","v":30},18,30,null,0,0,0,0,0,0]
[10,9,{"$f":"FLOOR((C35+C37)/2,1)","v":35},20.25,30,null,0,0,0,0,0,0]
[10,10,{"$f":"ROUND(((C35+C39)/2)/5,0) * 5","v":40},22.5,30,null,0,0,0,0,0,0]
[10,11,{"$f":"FLOOR((C37+C39)/2,1)","v":42},24.75,40,null,0,0,0,0,0,0]
[10,12,{"$f":"ROUND((0.597*POWER(A39,2)-1.33*A39-0.715)/5,0)*5","v":45},27,40,null,0,0,0,0,0,0]
[10,13,{"$f":"FLOOR((C39+C41)/2,1)","v":50},29.25,40,null,0,0,0,0,0,0]
[10,14,{"$f":"ROUND(((C39+C43)/2)/5,0) * 5","v":55},31.5,50,null,0,0,0,0,0,0]
[10,15,{"$f":"FLOOR((C41+C43)/2,1)","v":60},33.75,50,null,0,0,0,0,0,0]
[10,16,{"$f":"ROUND((0.796* POWER(A43,2)-1.375*A43-1.23)/5,0)*5","v":65},36,60,null,0,0,0,0,0,0]
[10,17,{"$f":"FLOOR((C43+C45)/2,1)","v":70},38.25,60,null,0,0,0,0,0,0]
[10,18,{"$f":"ROUND(((C43+C47)/2)/5,0) * 5","v":75},40.5,60,null,0,0,0,0,0,0]
[10,19,{"$f":"FLOOR((C45+C47)/2,1)","v":80},42.75,70,null,0,0,0,0,0,0]
[10,20,{"$f":"ROUND((0.995*POWER(A47,2) - 1.221*A47 - 1.719)/5,0)*5","v":85},45,70,null,0,0,0,0,0,0]
[11,8,{"$f":"ROUND((0.398*POWER(A48,2)-1.086*A48-0.271)/5,0)*5","v":35},24.5,30,null,0,0,0,0,0,0]
[11,9,{"$f":"FLOOR((C48+C50)/2,1)","v":40},27.5625,40,null,0,0,0,0,0,0]
[11,10,{"$f":"ROUND(((C48+C52)/2)/5,0) * 5","v":45},30.625,40,null,0,0,0,0,0,0]
[11,11,{"$f":"FLOOR((C50+C52)/2,1)","v":50},33.6875,50,null,0,0,0,0,0,0]
[11,12,{"$f":"ROUND((0.597*POWER(A52,2)-1.33*A52-0.715)/5,0)*5","v":55},36.75,50,null,0,0,0,0,0,0]
[11,13,{"$f":"FLOOR((C52+C54)/2,1)","v":62},39.8125,60,null,0,0,0,0,0,0]
[11,14,{"$f":"ROUND(((C52+C56)/2)/5,0) * 5","v":70},42.875,60,null,0,0,0,0,0,0]
[11,15,{"$f":"FLOOR((C54+C56)/2,1)","v":75},45.9375,70,null,0,0,0,0,0,0]
[11,16,{"$f":"ROUND((0.796* POWER(A56,2)-1.375*A56-1.23)/5,0)*5","v":80},49,70,null,0,0,0,0,0,0]
[11,17,{"$f":"FLOOR((C56+C58)/2,1)","v":87},52.0625,70,null,0,0,0,0,0,0]
[11,18,{"$f":"ROUND(((C56+C60)/2)/5,0) * 5","v":95},55.125,80,null,0,0,0,0,0,0]
[11,19,{"$f":"FLOOR((C58+C60)/2,1)","v":100},58.1875,80,null,0,0,0,0,0,0]
[11,20,{"$f":"ROUND((0.995*POWER(A60,2) - 1.221*A60 - 1.719)/5,0)*5","v":105},61.25,90,null,0,0,0,0,0,0]
[12,8,{"$f":"ROUND((0.398*POWER(A61,2)-1.086*A61-0.271)/5,0)*5","v":45},32,40,null,0,0,0,0,0,0]
[12,9,{"$f":"FLOOR((C61+C63)/2,1)","v":52},36,50,null,0,0,0,0,0,0]
[12,10,{"$f":"ROUND(((C61+C65)/2)/5,0) * 5","v":60},40,50,null,0,0,0,0,0,0]
[12,11,{"$f":"FLOOR((C63+C65)/2,1)","v":65},44,60,null,0,0,0,0,0,0]
[12,12,{"$f":"ROUND((0.597*POWER(A65,2)-1.33*A65-0.715)/5,0)*5","v":70},48,60,null,0,0,0,0,0,0]
[12,13,{"$f":"FLOOR((C65+C67)/2,1)","v":77},52,70,null,0,0,0,0,0,0]
[12,14,{"$f":"ROUND(((C65+C69)/2)/5,0) * 5","v":85},56,80,null,0,0,0,0,0,0]
[12,15,{"$f":"FLOOR((C67+C69)/2,1)","v":90},60,80,null,0,0,0,0,0,0]
[12,16,{"$f":"ROUND((0.796* POWER(A69,2)-1.375*A69-1.23)/5,0)*5","v":95},64,90,null,0,0,0,0,0,0]
[12,17,{"$f":"FLOOR((C69+C71)/2,1)","v":102},68,90,null,0,0,0,0,0,0]
[12,18,{"$f":"ROUND(((C69+C73)/2)/5,0) * 5","v":110},72,100,null,0,0,0,0,0,0]
[12,19,{"$f":"FLOOR((C71+C73)/2,1)","v":117},76,100,null,0,0,0,0,0,0]
[12,20,{"$f":"ROUND((0.995*POWER(A73,2) - 1.221*A73 - 1.719)/5,0)*5","v":125},80,110,null,0,0,0,0,0,0]
[13,8,{"$f":"ROUND((0.398*POWER(A74,2)-1.086*A74-0.271)/5,0)*5","v":55},40.5,50,null,{"$f":"IF(AND(($A74=FLOOR($D$4,1)),($B74=FLOOR($D$5,1))),C74,0)","v":0},{"$f":"IF(AND(($A74=FLOOR($D$4,1)),($B74=FLOOR($D$5,1))),D74,0)","v":0},{"$f":"IF(AND(($A74=FLOOR($D$4,1)),($B74=FLOOR($D$5,1))),E74,0)","v":0},{"$f":"IF(AND(($A74=FLOOR($C$4,1)),($B74=FLOOR($C$5,1))),C74,0)","v":0},{"$f":"IF(AND(($A74=FLOOR($C$4,1)),($B74=FLOOR($C$5,1))),D74,0)","v":0},{"$f":"IF(AND(($A74=FLOOR($C$4,1)),($B74=FLOOR($C$5,1))),E74,0)","v":0}]
[13,9,{"$f":"FLOOR((C74+C76)/2,1)","v":62},45.5625,60,null,0,0,0,0,0,0]
[13,10,{"$f":"ROUND(((C74+C78)/2)/5,0) * 5","v":70},50.625,60,null,0,0,0,0,0,0]
[13,11,{"$f":"FLOOR((C76+C78)/2,1)","v":77},55.6875,70,null,0,0,0,0,0,0]
[13,12,{"$f":"ROUND((0.597*POWER(A78,2)-1.33*A78-0.715)/5,0)*5","v":85},60.75,80,null,0,0,0,0,0,0]
[13,13,{"$f":"FLOOR((C78+C80)/2,1)","v":92},65.8125,80,null,0,0,0,0,0,0]
[13,14,{"$f":"ROUND(((C78+C82)/2)/5,0) * 5","v":100},70.875,90,null,0,0,0,0,0,0]
[13,15,{"$f":"FLOOR((C80+C82)/2,1)","v":107},75.9375,100,null,0,0,0,0,0,0]
[13,16,{"$f":"ROUND((0.796* POWER(A82,2)-1.375*A82-1.23)/5,0)*5","v":115},81,100,null,0,0,0,0,0,0]
[13,17,{"$f":"FLOOR((C82+C84)/2,1)","v":125},86.0625,110,null,0,0,0,0,0,0]
[13,18,{"$f":"ROUND(((C82+C86)/2)/5,0) * 5","v":135},91.125,120,null,0,0,0,0,0,0]
[13,19,{"$f":"FLOOR((C84+C86)/2,1)","v":142},96.1875,120,null,0,0,0,0,0,0]
[13,20,{"$f":"ROUND((0.995*POWER(A86,2) - 1.221*A86 - 1.719)/5,0)*5","v":150},101.25,130,null,0,0,0,0,0,0]
[14,8,{"$f":"ROUND((0.398*POWER(A87,2)-1.086*A87-0.271)/5,0)*5","v":65},{"$f":"(POWER(A87-4,2)*B87)/16","v":50},{"$f":"ROUND(((0.79*POWER(A87,2)-2*A87 -4)*B87/16)/10,0)*10","v":60},null,0,0,0,0,0,0]
[14,9,{"$f":"FLOOR((C87+C89)/2,1)","v":75},56.25,70,null,0,0,0,0,0,0]
[14,10,{"$f":"ROUND(((C87+C91)/2)/5,0) * 5","v":85},62.5,80,null,0,0,0,0,0,0]
[14,11,{"$f":"FLOOR((C89+C91)/2,1)","v":92},68.75,80,null,0,0,0,0,0,0]
[14,12,{"$f":"ROUND((0.597*POWER(A91,2)-1.33*A91-0.715)/5,0)*5","v":100},75,90,null,0,0,0,0,0,0]
[14,13,{"$f":"FLOOR((C91+C93)/2,1)","v":110},81.25,100,null,0,0,0,0,0,0]
[14,14,{"$f":"ROUND(((C91+C95)/2)/5,0) * 5","v":120},87.5,110,null,0,0,0,0,0,0]
[14,15,{"$f":"FLOOR((C93+C95)/2,1)","v":127},93.75,120,null,0,0,0,0,0,0]
[14,16,{"$f":"ROUND((0.796* POWER(A95,2)-1.375*A95-1.23)/5,0)*5","v":135},100,120,null,135,100,120,0,0,0]
[14,17,{"$f":"FLOOR((C95+C97)/2,1)","v":145},106.25,130,null,0,0,0,0,0,0]
[14,18,{"$f":"ROUND(((C95+C99)/2)/5,0) * 5","v":155},112.5,140,null,0,0,0,0,0,0]
[14,19,{"$f":"FLOOR((C97+C99)/2,1)","v":165},118.75,150,null,0,0,0,0,0,0]
[14,20,{"$f":"ROUND((0.995*POWER(A99,2) - 1.221*A99 - 1.719)/5,0)*5","v":175},125,150,null,0,0,0,0,0,0]
[15,8,{"$f":"ROUND((0.398*POWER(A100,2)-1.086*A100-0.271)/5,0)*5","v":75},60.5,70,null,0,0,0,0,0,0]
[15,9,{"$f":"FLOOR((C100+C102)/2,1)","v":85},68.0625,80,null,0,0,0,0,0,0]
[15,10,{"$f":"ROUND(((C100+C104)/2)/5,0) * 5","v":95},75.625,90,null,0,0,0,0,0,0]
[15,11,{"$f":"FLOOR((C102+C104)/2,1)","v":105},83.1875,100,null,0,0,0,0,0,0]
[15,12,{"$f":"ROUND((0.597*POWER(A104,2)-1.33*A104-0.715)/5,0)*5","v":115},90.75,110,null,0,0,0,0,0,0]
[15,13,{"$f":"FLOOR((C104+C106)/2,1)","v":125},98.3125,120,null,0,0,0,0,0,0]
[15,14,{"$f":"ROUND(((C104+C108)/2)/5,0) * 5","v":135},105.875,130,null,0,0,0,0,0,0]
[15,15,{"$f":"FLOOR((C106+C108)/2,1)","v":145},113.4375,130,null,0,0,0,0,0,0]
[15,16,{"$f":"ROUND((0.796* POWER(A108,2)-1.375*A108-1.23)/5,0)*5","v":155},121,140,null,0,0,0,0,0,0]
[15,17,{"$f":"FLOOR((C108+C110)/2,1)","v":167},128.5625,150,null,0,0,0,0,0,0]
[15,18,{"$f":"ROUND(((C108+C112)/2)/5,0) * 5","v":180},136.125,160,null,0,0,0,0,0,0]
[15,19,{"$f":"FLOOR((C110+C112)/2,1)","v":192},143.6875,170,null,0,0,0,0,0,0]
[15,20,{"$f":"ROUND((0.995*POWER(A112,2) - 1.221*A112 - 1.719)/5,0)*5","v":205},151.25,180,null,0,0,0,0,0,0]
[16,8,{"$f":"ROUND((0.398*POWER(A113,2)-1.086*A113-0.271)/5,0)*5","v":85},72,80,null,0,0,0,0,0,0]
[16,9,{"$f":"FLOOR((C113+C115)/2,1)","v":97},81,90,null,0,0,0,0,0,0]
[16,10,{"$f":"ROUND(((C113+C117)/2)/5,0) * 5","v":110},90,100,null,0,0,0,0,0,0]
[16,11,{"$f":"FLOOR((C115+C117)/2,1)","v":120},99,110,null,0,0,0,0,0,0]
[16,12,{"$f":"ROUND((0.597*POWER(A117,2)-1.33*A117-0.715)/5,0)*5","v":130},108,120,null,0,0,0,0,0,0]
[16,13,{"$f":"FLOOR((C117+C119)/2,1)","v":142},117,140,null,0,0,0,0,0,0]
[16,14,{"$f":"ROUND(((C117+C121)/2)/5,0) * 5","v":155},126,150,null,0,0,0,0,0,0]
[16,15,{"$f":"FLOOR((C119+C121)/2,1)","v":167},135,160,null,0,0,0,0,0,0]
[16,16,{"$f":"ROUND((0.796* POWER(A121,2)-1.375*A121-1.23)/5,0)*5","v":180},144,170,null,0,0,0,0,0,0]
[16,17,{"$f":"FLOOR((C121+C123)/2,1)","v":195},153,180,null,0,0,0,0,0,0]
[16,18,{"$f":"ROUND(((C121+C125)/2)/5,0) * 5","v":210},162,190,null,0,0,0,0,0,0]
[16,19,{"$f":"FLOOR((C123+C125)/2,1)","v":222},171,200,null,0,0,0,0,0,0]
[16,20,{"$f":"ROUND((0.995*POWER(A125,2) - 1.221*A125 - 1.719)/5,0)*5","v":235},180,210,null,0,0,0,0,0,0]
[17,8,{"$f":"ROUND((0.398*POWER(A126,2)-1.086*A126-0.271)/5,0)*5","v":95},84.5,100,null,0,0,0,0,0,0]
[17,9,{"$f":"FLOOR((C126+C128)/2,1)","v":110},95.0625,110,null,0,0,0,0,0,0]
[17,10,{"$f":"ROUND(((C126+C130)/2)/5,0) * 5","v":125},105.625,120,null,0,0,0,0,0,0]
[17,11,{"$f":"FLOOR((C128+C130)/2,1)","v":137},116.1875,130,null,0,0,0,0,0,0]
[17,12,{"$f":"ROUND((0.597*POWER(A130,2)-1.33*A130-0.715)/5,0)*5","v":150},126.75,140,null,0,0,0,0,0,0]
[17,13,{"$f":"FLOOR((C130+C132)/2,1)","v":165},137.3125,150,null,0,0,0,0,0,0]
[17,14,{"$f":"ROUND(((C130+C134)/2)/5,0) * 5","v":180},147.875,170,null,0,0,0,0,0,0]
[17,15,{"$f":"FLOOR((C132+C134)/2,1)","v":192},158.4375,180,null,0,0,0,0,0,0]
[17,16,{"$f":"ROUND((0.796* POWER(A134,2)-1.375*A134-1.23)/5,0)*5","v":205},169,190,null,0,0,0,0,0,0]
[17,17,{"$f":"FLOOR((C134+C136)/2,1)","v":220},179.5625,200,null,0,0,0,0,0,0]
[17,18,{"$f":"ROUND(((C134+C138)/2)/5,0) * 5","v":235},190.125,210,null,0,0,0,0,0,0]
[17,19,{"$f":"FLOOR((C136+C138)/2,1)","v":250},200.6875,230,null,0,0,0,0,0,0]
[17,20,{"$f":"ROUND((0.995*POWER(A138,2) - 1.221*A138 - 1.719)/5,0)*5","v":265},211.25,240,null,{"$f":"IF(AND(($A138=FLOOR($D$4,1)),($B138=FLOOR($D$5,1))),C138,0)","v":0},{"$f":"IF(AND(($A138=FLOOR($D$4,1)),($B138=FLOOR($D$5,1))),D138,0)","v":0},{"$f":"IF(AND(($A138=FLOOR($D$4,1)),($B138=FLOOR($D$5,1))),E138,0)","v":0},{"$f":"IF(AND(($A138=FLOOR($C$4,1)),($B138=FLOOR($C$5,1))),C138,0)","v":0},{"$f":"IF(AND(($A138=FLOOR($C$4,1)),($B138=FLOOR($C$5,1))),D138,0)","v":0},{"$f":"IF(AND(($A138=FLOOR($C$4,1)),($B138=FLOOR($C$5,1))),E138,0)","v":0}]
[18,8,{"$f":"ROUND((0.398*POWER(A139,2)-1.086*A139-0.271)/5,0)*5","v":110},98,110,null,0,0,0,0,0,0]
[18,9,{"$f":"FLOOR((C139+C141)/2,1)","v":125},110.25,120,null,0,0,0,0,0,0]
[18,10,{"$f":"ROUND(((C139+C143)/2)/5,0) * 5","v":140},122.5,130,null,0,0,0,0,0,0]
[18,11,{"$f":"FLOOR((C141+C143)/2,1)","v":155},134.75,150,null,0,0,0,0,0,0]
[18,12,{"$f":"ROUND((0.597*POWER(A143,2)-1.33*A143-0.715)/5,0)*5","v":170},147,160,null,0,0,0,0,0,0]
[18,13,{"$f":"FLOOR((C143+C145)/2,1)","v":185},159.25,180,null,0,0,0,0,0,0]
[18,14,{"$f":"ROUND(((C143+C147)/2)/5,0) * 5","v":200},171.5,190,null,0,0,0,0,0,0]
[18,15,{"$f":"FLOOR((C145+C147)/2,1)","v":215},183.75,200,null,0,0,0,0,0,0]
[18,16,{"$f":"ROUND((0.796* POWER(A147,2)-1.375*A147-1.23)/5,0)*5","v":230},196,220,null,0,0,0,0,0,0]
[18,17,{"$f":"FLOOR((C147+C149)/2,1)","v":247},208.25,230,null,0,0,0,0,0,0]
[18,18,{"$f":"ROUND(((C147+C151)/2)/5,0) * 5","v":265},220.5,240,null,0,0,0,0,0,0]
[18,19,{"$f":"FLOOR((C149+C151)/2,1)","v":282},232.75,260,null,0,0,0,0,0,0]
[18,20,{"$f":"ROUND((0.995*POWER(A151,2) - 1.221*A151 - 1.719)/5,0)*5","v":300},{"$f":"(POWER(A151-4,2)*B151)/16","v":245},{"$f":"ROUND(((0.79*POWER(A151,2)-2*A151 -4)*B151/16)/10,0)*10","v":270},null,0,0,0,0,0,0]
[19,8,{"$f":"ROUND((0.398*POWER(A152,2)-1.086*A152-0.271)/5,0)*5","v":125},112.5,120,null,0,0,0,0,0,0]
[19,9,{"$f":"FLOOR((C152+C154)/2,1)","v":142},126.5625,140,null,0,0,0,0,0,0]
[19,10,{"$f":"ROUND(((C152+C156)/2)/5,0) * 5","v":160},140.625,150,null,0,0,0,0,0,0]
[19,11,{"$f":"FLOOR((C154+C156)/2,1)","v":175},154.6875,170,null,0,0,0,0,0,0]
[19,12,{"$f":"ROUND((0.597*POWER(A156,2)-1.33*A156-0.715)/5,0)*5","v":190},168.75,180,null,0,0,0,0,0,0]
[19,13,{"$f":"FLOOR((C156+C158)/2,1)","v":207},182.8125,200,null,0,0,0,0,0,0]
[19,14,{"$f":"ROUND(((C156+C160)/2)/5,0) * 5","v":225},196.875,210,null,0,0,0,0,0,0]
[19,15,{"$f":"FLOOR((C158+C160)/2,1)","v":242},210.9375,230,null,0,0,0,0,0,0]
[19,16,{"$f":"ROUND((0.796* POWER(A160,2)-1.375*A160-1.23)/5,0)*5","v":260},225,240,null,0,0,0,0,0,0]
[19,17,{"$f":"FLOOR((C160+C162)/2,1)","v":280},239.0625,260,null,0,0,0,0,0,0]
[19,18,{"$f":"ROUND(((C160+C164)/2)/5,0) * 5","v":300},253.125,270,null,0,0,0,0,0,0]
[19,19,{"$f":"FLOOR((C162+C164)/2,1)","v":317},267.1875,290,null,0,0,0,0,0,0]
[19,20,{"$f":"ROUND((0.995*POWER(A164,2) - 1.221*A164 - 1.719)/5,0)*5","v":335},281.25,300,null,0,0,0,0,0,0]
[20,8,{"$f":"ROUND((0.398*POWER(A165,2)-1.086*A165-0.271)/5,0)*5","v":135},128,140,null,0,0,0,0,0,0]
[20,9,{"$f":"FLOOR((C165+C167)/2,1)","v":155},144,150,null,0,0,0,0,0,0]
[20,10,{"$f":"ROUND(((C165+C169)/2)/5,0) * 5","v":175},160,170,null,0,0,0,0,0,0]
[20,11,{"$f":"FLOOR((C167+C169)/2,1)","v":192},176,190,null,0,0,0,0,0,0]
[20,12,{"$f":"ROUND((0.597*POWER(A169,2)-1.33*A169-0.715)/5,0)*5","v":210},192,200,null,0,0,0,0,0,0]
[20,13,{"$f":"FLOOR((C169+C171)/2,1)","v":230},208,220,null,0,0,0,0,0,0]
[20,14,{"$f":"ROUND(((C169+C173)/2)/5,0) * 5","v":250},224,240,null,0,0,0,0,0,0]
[20,15,{"$f":"FLOOR((C171+C173)/2,1)","v":270},240,260,null,0,0,0,0,0,0]
[20,16,{"$f":"ROUND((0.796* POWER(A173,2)-1.375*A173-1.23)/5,0)*5","v":290},256,270,null,0,0,0,290,256,270]
[20,17,{"$f":"FLOOR((C173+C175)/2,1)","v":310},272,290,null,0,0,0,0,0,0]
[20,18,{"$f":"ROUND(((C173+C177)/2)/5,0) * 5","v":330},288,310,null,0,0,0,0,0,0]
[20,19,{"$f":"FLOOR((C175+C177)/2,1)","v":350},304,320,null,0,0,0,0,0,0]
[20,20,{"$f":"ROUND((0.995*POWER(A177,2) - 1.221*A177 - 1.719)/5,0)*5","v":370},320,340,null,0,0,0,0,0,0]
[21,8,{"$f":"ROUND((0.398*POWER(A178,2)-1.086*A178-0.271)/5,0)*5","v":150},144.5,150,null,0,0,0,0,0,0]
[21,9,{"$f":"FLOOR((C178+C180)/2,1)","v":172},162.5625,170,null,0,0,0,0,0,0]
[21,10,{"$f":"ROUND(((C178+C182)/2)/5,0) * 5","v":195},180.625,190,null,0,0,0,0,0,0]
[21,11,{"$f":"FLOOR((C180+C182)/2,1)","v":215},198.6875,210,null,0,0,0,0,0,0]
[21,12,{"$f":"ROUND((0.597*POWER(A182,2)-1.33*A182-0.715)/5,0)*5","v":235},216.75,230,null,0,0,0,0,0,0]
[21,13,{"$f":"FLOOR((C182+C184)/2,1)","v":257},234.8125,250,null,0,0,0,0,0,0]
[21,14,{"$f":"ROUND(((C182+C186)/2)/5,0) * 5","v":280},252.875,260,null,0,0,0,0,0,0]
[21,15,{"$f":"FLOOR((C184+C186)/2,1)","v":300},270.9375,280,null,0,0,0,0,0,0]
[21,16,{"$f":"ROUND((0.796* POWER(A186,2)-1.375*A186-1.23)/5,0)*5","v":320},289,300,null,0,0,0,0,0,0]
[21,17,{"$f":"FLOOR((C186+C188)/2,1)","v":342},307.0625,320,null,0,0,0,0,0,0]
[21,18,{"$f":"ROUND(((C186+C190)/2)/5,0) * 5","v":365},325.125,340,null,0,0,0,0,0,0]
[21,19,{"$f":"FLOOR((C188+C190)/2,1)","v":387},343.1875,360,null,0,0,0,0,0,0]
[21,20,{"$f":"ROUND((0.995*POWER(A190,2) - 1.221*A190 - 1.719)/5,0)*5","v":410},361.25,380,null,0,0,0,0,0,0]
[22,8,{"$f":"ROUND((0.398*POWER(A191,2)-1.086*A191-0.271)/5,0)*5","v":170},162,170,null,0,0,0,0,0,0]
[22,9,{"$f":"FLOOR((C191+C193)/2,1)","v":192},182.25,190,null,0,0,0,0,0,0]
[22,10,{"$f":"ROUND(((C191+C195)/2)/5,0) * 5","v":215},202.5,210,null,0,0,0,0,0,0]
[22,11,{"$f":"FLOOR((C193+C195)/2,1)","v":237},222.75,230,null,0,0,0,0,0,0]
[22,12,{"$f":"ROUND((0.597*POWER(A195,2)-1.33*A195-0.715)/5,0)*5","v":260},243,250,null,0,0,0,0,0,0]
[22,13,{"$f":"FLOOR((C195+C197)/2,1)","v":285},263.25,270,null,0,0,0,0,0,0]
[22,14,{"$f":"ROUND(((C195+C199)/2)/5,0) * 5","v":310},283.5,290,null,0,0,0,0,0,0]
[22,15,{"$f":"FLOOR((C197+C199)/2,1)","v":332},303.75,310,null,0,0,0,0,0,0]
[22,16,{"$f":"ROUND((0.796* POWER(A199,2)-1.375*A199-1.23)/5,0)*5","v":355},324,330,null,0,0,0,0,0,0]
[22,17,{"$f":"FLOOR((C199+C201)/2,1)","v":380},344.25,360,null,0,0,0,0,0,0]
[22,18,{"$f":"ROUND(((C199+C203)/2)/5,0) * 5","v":405},364.5,380,null,0,0,0,0,0,0]
[22,19,{"$f":"FLOOR((C201+C203)/2,1)","v":430},384.75,400,null,{"$f":"IF(AND(($A202=FLOOR($D$4,1)),($B202=FLOOR($D$5,1))),C202,0)","v":0},{"$f":"IF(AND(($A202=FLOOR($D$4,1)),($B202=FLOOR($D$5,1))),D202,0)","v":0},{"$f":"IF(AND(($A202=FLOOR($D$4,1)),($B202=FLOOR($D$5,1))),E202,0)","v":0},{"$f":"IF(AND(($A202=FLOOR($C$4,1)),($B202=FLOOR($C$5,1))),C202,0)","v":0},{"$f":"IF(AND(($A202=FLOOR($C$4,1)),($B202=FLOOR($C$5,1))),D202,0)","v":0},{"$f":"IF(AND(($A202=FLOOR($C$4,1)),($B202=FLOOR($C$5,1))),E202,0)","v":0}]
[22,20,{"$f":"ROUND((0.995*POWER(A203,2) - 1.221*A203 - 1.719)/5,0)*5","v":455},405,420,null,0,0,0,0,0,0]
[23,8,{"$f":"ROUND((0.398*POWER(A204,2)-1.086*A204-0.271)/5,0)*5","v":185},180.5,180,null,0,0,0,0,0,0]
[23,9,{"$f":"FLOOR((C204+C206)/2,1)","v":210},203.0625,210,null,0,0,0,0,0,0]
[23,10,{"$f":"ROUND(((C204+C208)/2)/5,0) * 5","v":235},225.625,230,null,0,0,0,0,0,0]
[23,11,{"$f":"FLOOR((C206+C208)/2,1)","v":260},248.1875,250,null,0,0,0,0,0,0]
[23,12,{"$f":"ROUND((0.597*POWER(A208,2)-1.33*A208-0.715)/5,0)*5","v":285},270.75,280,null,0,0,0,0,0,0]
[23,13,{"$f":"FLOOR((C208+C210)/2,1)","v":312},293.3125,300,null,0,0,0,0,0,0]
[23,14,{"$f":"ROUND(((C208+C212)/2)/5,0) * 5","v":340},315.875,320,null,0,0,0,0,0,0]
[23,15,{"$f":"FLOOR((C210+C212)/2,1)","v":365},338.4375,340,null,0,0,0,0,0,0]
[23,16,{"$f":"ROUND((0.796* POWER(A212,2)-1.375*A212-1.23)/5,0)*5","v":390},361,370,null,0,0,0,0,0,0]
[23,17,{"$f":"FLOOR((C212+C214)/2,1)","v":417},383.5625,390,null,0,0,0,0,0,0]
[23,18,{"$f":"ROUND(((C212+C216)/2)/5,0) * 5","v":445},406.125,410,null,0,0,0,0,0,0]
[23,19,{"$f":"FLOOR((C214+C216)/2,1)","v":470},{"$f":"(POWER(A215-4,2)*B215)/16","v":428.6875},{"$f":"ROUND(((0.79*POWER(A215,2)-2*A215 -4)*B215/16)/10,0)*10","v":440},null,0,0,0,0,0,0]
[23,20,{"$f":"ROUND((0.995*POWER(A216,2) - 1.221*A216 - 1.719)/5,0)*5","v":495},451.25,460,null,0,0,0,0,0,0]
[24,8,{"$f":"ROUND((0.398*POWER(A217,2)-1.086*A217-0.271)/5,0)*5","v":205},200,200,null,0,0,0,0,0,0]
[24,9,{"$f":"FLOOR((C217+C219)/2,1)","v":232},225,230,null,0,0,0,0,0,0]
[24,10,{"$f":"ROUND(((C217+C221)/2)/5,0) * 5","v":260},250,250,null,0,0,0,0,0,0]
[24,11,{"$f":"FLOOR((C219+C221)/2,1)","v":285},275,280,null,0,0,0,0,0,0]
[24,12,{"$f":"ROUND((0.597*POWER(A221,2)-1.33*A221-0.715)/5,0)*5","v":310},300,300,null,0,0,0,0,0,0]
[24,13,{"$f":"FLOOR((C221+C223)/2,1)","v":340},325,330,null,0,0,0,0,0,0]
[24,14,{"$f":"ROUND(((C221+C225)/2)/5,0) * 5","v":370},350,350,null,0,0,0,0,0,0]
[24,15,{"$f":"FLOOR((C223+C225)/2,1)","v":397},375,380,null,0,0,0,0,0,0]
[24,16,{"$f":"ROUND((0.796* POWER(A225,2)-1.375*A225-1.23)/5,0)*5","v":425},400,400,null,0,0,0,0,0,0]
[24,17,{"$f":"FLOOR((C225+C227)/2,1)","v":455},425,430,null,0,0,0,0,0,0]
[24,18,{"$f":"ROUND(((C225+C229)/2)/5,0) * 5","v":485},450,450,null,0,0,0,0,0,0]
[24,19,{"$f":"FLOOR((C227+C229)/2,1)","v":512},475,480,null,0,0,0,0,0,0]
[24,20,{"$f":"ROUND((0.995*POWER(A229,2) - 1.221*A229 - 1.719)/5,0)*5","v":540},500,500,null,0,0,0,0,0,0]
[25,8,{"$f":"ROUND((0.398*POWER(A230,2)-1.086*A230-0.271)/5,0)*5","v":220},220.5,220,null,0,0,0,0,0,0]
[25,9,{"$f":"FLOOR((C230+C232)/2,1)","v":250},248.0625,250,null,0,0,0,0,0,0]
[25,10,{"$f":"ROUND(((C230+C234)/2)/5,0) * 5","v":280},275.625,270,null,0,0,0,0,0,0]
[25,11,{"$f":"FLOOR((C232+C234)/2,1)","v":310},303.1875,300,null,0,0,0,0,0,0]
[25,12,{"$f":"ROUND((0.597*POWER(A234,2)-1.33*A234-0.715)/5,0)*5","v":340},330.75,330,null,0,0,0,0,0,0]
[25,13,{"$f":"FLOOR((C234+C236)/2,1)","v":370},358.3125,360,null,0,0,0,0,0,0]
[25,14,{"$f":"ROUND(((C234+C238)/2)/5,0) * 5","v":400},385.875,380,null,0,0,0,0,0,0]
[25,15,{"$f":"FLOOR((C236+C238)/2,1)","v":430},413.4375,410,null,0,0,0,0,0,0]
[25,16,{"$f":"ROUND((0.796* POWER(A238,2)-1.375*A238-1.23)/5,0)*5","v":460},441,440,null,0,0,0,0,0,0]
[25,17,{"$f":"FLOOR((C238+C240)/2,1)","v":492},468.5625,470,null,0,0,0,0,0,0]
[25,18,{"$f":"ROUND(((C238+C242)/2)/5,0) * 5","v":525},496.125,490,null,0,0,0,0,0,0]
[25,19,{"$f":"FLOOR((C240+C242)/2,1)","v":557},523.6875,520,null,0,0,0,0,0,0]
[25,20,{"$f":"ROUND((0.995*POWER(A242,2) - 1.221*A242 - 1.719)/5,0)*5","v":590},551.25,550,null,0,0,0,0,0,0]
[26,8,{"$f":"ROUND((0.398*POWER(A243,2)-1.086*A243-0.271)/5,0)*5","v":240},242,240,null,0,0,0,0,0,0]
[26,9,{"$f":"FLOOR((C243+C245)/2,1)","v":272},272.25,270,null,0,0,0,0,0,0]
[26,10,{"$f":"ROUND(((C243+C247)/2)/5,0) * 5","v":305},302.5,300,null,0,0,0,0,0,0]
[26,11,{"$f":"FLOOR((C245+C247)/2,1)","v":337},332.75,330,null,0,0,0,0,0,0]
[26,12,{"$f":"ROUND((0.597*POWER(A247,2)-1.33*A247-0.715)/5,0)*5","v":370},363,360,null,0,0,0,0,0,0]
[26,13,{"$f":"FLOOR((C247+C249)/2,1)","v":402},393.25,390,null,0,0,0,0,0,0]
[26,14,{"$f":"ROUND(((C247+C251)/2)/5,0) * 5","v":435},423.5,420,null,0,0,0,0,0,0]
[26,15,{"$f":"FLOOR((C249+C251)/2,1)","v":467},453.75,450,null,0,0,0,0,0,0]
[26,16,{"$f":"ROUND((0.796* POWER(A251,2)-1.375*A251-1.23)/5,0)*5","v":500},484,480,null,0,0,0,0,0,0]
[26,17,{"$f":"FLOOR((C251+C253)/2,1)","v":535},514.25,510,null,0,0,0,0,0,0]
[26,18,{"$f":"ROUND(((C251+C255)/2)/5,0) * 5","v":570},544.5,540,null,0,0,0,0,0,0]
[26,19,{"$f":"FLOOR((C253+C255)/2,1)","v":605},574.75,570,null,0,0,0,0,0,0]
[26,20,{"$f":"ROUND((0.995*POWER(A255,2) - 1.221*A255 - 1.719)/5,0)*5","v":640},605,600,null,0,0,0,0,0,0]
[27,8,{"$f":"ROUND((0.398*POWER(A256,2)-1.086*A256-0.271)/5,0)*5","v":260},264.5,260,null,0,0,0,0,0,0]
[27,9,{"$f":"FLOOR((C256+C258)/2,1)","v":295},297.5625,290,null,0,0,0,0,0,0]
[27,10,{"$f":"ROUND(((C256+C260)/2)/5,0) * 5","v":330},330.625,320,null,0,0,0,0,0,0]
[27,11,{"$f":"FLOOR((C258+C260)/2,1)","v":365},363.6875,360,null,0,0,0,0,0,0]
[27,12,{"$f":"ROUND((0.597*POWER(A260,2)-1.33*A260-0.715)/5,0)*5","v":400},396.75,390,null,0,0,0,0,0,0]
[27,13,{"$f":"FLOOR((C260+C262)/2,1)","v":435},429.8125,420,null,0,0,0,0,0,0]
[27,14,{"$f":"ROUND(((C260+C264)/2)/5,0) * 5","v":470},462.875,450,null,0,0,0,0,0,0]
[27,15,{"$f":"FLOOR((C262+C264)/2,1)","v":505},495.9375,490,null,0,0,0,0,0,0]
[27,16,{"$f":"ROUND((0.796* POWER(A264,2)-1.375*A264-1.23)/5,0)*5","v":540},529,520,null,0,0,0,0,0,0]
[27,17,{"$f":"FLOOR((C264+C266)/2,1)","v":577},562.0625,550,null,0,0,0,0,0,0]
[27,18,{"$f":"ROUND(((C264+C268)/2)/5,0) * 5","v":615},595.125,580,null,{"$f":"IF(AND(($A266=FLOOR($D$4,1)),($B266=FLOOR($D$5,1))),C266,0)","v":0},{"$f":"IF(AND(($A266=FLOOR($D$4,1)),($B266=FLOOR($D$5,1))),D266,0)","v":0},{"$f":"IF(AND(($A266=FLOOR($D$4,1)),($B266=FLOOR($D$5,1))),E266,0)","v":0},{"$f":"IF(AND(($A266=FLOOR($C$4,1)),($B266=FLOOR($C$5,1))),C266,0)","v":0},{"$f":"IF(AND(($A266=FLOOR($C$4,1)),($B266=FLOOR($C$5,1))),D266,0)","v":0},{"$f":"IF(AND(($A266=FLOOR($C$4,1)),($B266=FLOOR($C$5,1))),E266,0)","v":0}]
[27,19,{"$f":"FLOOR((C266+C268)/2,1)","v":652},628.1875,620,null,0,0,0,0,0,0]
[27,20,{"$f":"ROUND((0.995*POWER(A268,2) - 1.221*A268 - 1.719)/5,0)*5","v":690},661.25,650,null,0,0,0,0,0,0]
[28,8,{"$f":"ROUND((0.398*POWER(A269,2)-1.086*A269-0.271)/5,0)*5","v":280},288,280,null,0,0,0,0,0,0]
[28,9,{"$f":"FLOOR((C269+C271)/2,1)","v":317},324,310,null,0,0,0,0,0,0]
[28,10,{"$f":"ROUND(((C269+C273)/2)/5,0) * 5","v":355},360,350,null,0,0,0,0,0,0]
[28,11,{"$f":"FLOOR((C271+C273)/2,1)","v":392},396,380,null,0,0,0,0,0,0]
[28,12,{"$f":"ROUND((0.597*POWER(A273,2)-1.33*A273-0.715)/5,0)*5","v":430},432,420,null,0,0,0,0,0,0]
[28,13,{"$f":"FLOOR((C273+C275)/2,1)","v":470},468,450,null,0,0,0,0,0,0]
[28,14,{"$f":"ROUND(((C273+C277)/2)/5,0) * 5","v":510},504,490,null,0,0,0,0,0,0]
[28,15,{"$f":"FLOOR((C275+C277)/2,1)","v":547},540,520,null,0,0,0,0,0,0]
[28,16,{"$f":"ROUND((0.796* POWER(A277,2)-1.375*A277-1.23)/5,0)*5","v":585},576,560,null,0,0,0,0,0,0]
[28,17,{"$f":"FLOOR((C277+C279)/2,1)","v":625},612,590,null,0,0,0,0,0,0]
[28,18,{"$f":"ROUND(((C277+C281)/2)/5,0) * 5","v":665},{"$f":"(POWER(A279-4,2)*B279)/16","v":648},{"$f":"ROUND(((0.79*POWER(A279,2)-2*A279 -4)*B279/16)/10,0)*10","v":630},null,0,0,0,0,0,0]
[28,19,{"$f":"FLOOR((C279+C281)/2,1)","v":705},684,660,null,0,0,0,0,0,0]
[28,20,{"$f":"ROUND((0.995*POWER(A281,2) - 1.221*A281 - 1.719)/5,0)*5","v":745},720,700,null,0,0,0,0,0,0]
[29,8,{"$f":"ROUND((0.398*POWER(A282,2)-1.086*A282-0.271)/5,0)*5","v":305},312.5,300,null,0,0,0,0,0,0]
[29,9,{"$f":"FLOOR((C282+C284)/2,1)","v":345},351.5625,340,null,0,0,0,0,0,0]
[29,10,{"$f":"ROUND(((C282+C286)/2)/5,0) * 5","v":385},390.625,380,null,0,0,0,0,0,0]
[29,11,{"$f":"FLOOR((C284+C286)/2,1)","v":425},429.6875,410,null,0,0,0,0,0,0]
[29,12,{"$f":"ROUND((0.597*POWER(A286,2)-1.33*A286-0.715)/5,0)*5","v":465},468.75,450,null,0,0,0,0,0,0]
[29,13,{"$f":"FLOOR((C286+C288)/2,1)","v":507},507.8125,490,null,0,0,0,0,0,0]
[29,14,{"$f":"ROUND(((C286+C290)/2)/5,0) * 5","v":550},546.875,530,null,0,0,0,0,0,0]
[29,15,{"$f":"FLOOR((C288+C290)/2,1)","v":590},585.9375,560,null,0,0,0,0,0,0]
[29,16,{"$f":"ROUND((0.796* POWER(A290,2)-1.375*A290-1.23)/5,0)*5","v":630},625,600,null,0,0,0,0,0,0]
[29,17,{"$f":"FLOOR((C290+C292)/2,1)","v":672},664.0625,640,null,0,0,0,0,0,0]
[29,18,{"$f":"ROUND(((C290+C294)/2)/5,0) * 5","v":715},703.125,680,null,0,0,0,0,0,0]
[29,19,{"$f":"FLOOR((C292+C294)/2,1)","v":757},742.1875,720,null,0,0,0,0,0,0]
[29,20,{"$f":"ROUND((0.995*POWER(A294,2) - 1.221*A294 - 1.719)/5,0)*5","v":800},781.25,750,null,0,0,0,0,0,0]
[30,8,{"$f":"ROUND((0.398*POWER(A295,2)-1.086*A295-0.271)/5,0)*5","v":325},338,320,null,0,0,0,0,0,0]
[30,9,{"$f":"FLOOR((C295+C297)/2,1)","v":367},380.25,360,null,0,0,0,0,0,0]
[30,10,{"$f":"ROUND(((C295+C299)/2)/5,0) * 5","v":410},422.5,400,null,0,0,0,0,0,0]
[30,11,{"$f":"FLOOR((C297+C299)/2,1)","v":452},464.75,440,null,0,0,0,0,0,0]
[30,12,{"$f":"ROUND((0.597*POWER(A299,2)-1.33*A299-0.715)/5,0)*5","v":495},507,490,null,0,0,0,0,0,0]
[30,13,{"$f":"FLOOR((C299+C301)/2,1)","v":540},549.25,530,null,0,0,0,0,0,0]
[30,14,{"$f":"ROUND(((C299+C303)/2)/5,0) * 5","v":585},591.5,570,null,0,0,0,0,0,0]
[30,15,{"$f":"FLOOR((C301+C303)/2,1)","v":630},633.75,610,null,0,0,0,0,0,0]
[30,16,{"$f":"ROUND((0.796* POWER(A303,2)-1.375*A303-1.23)/5,0)*5","v":675},676,650,null,0,0,0,0,0,0]
[30,17,{"$f":"FLOOR((C303+C305)/2,1)","v":720},718.25,690,null,0,0,0,0,0,0]
[30,18,{"$f":"ROUND(((C303+C307)/2)/5,0) * 5","v":765},760.5,730,null,0,0,0,0,0,0]
[30,19,{"$f":"FLOOR((C305+C307)/2,1)","v":810},802.75,770,null,0,0,0,0,0,0]
[30,20,{"$f":"ROUND((0.995*POWER(A307,2) - 1.221*A307 - 1.719)/5,0)*5","v":855},845,810,null,0,0,0,0,0,0]
[31,8,{"$f":"ROUND((0.398*POWER(A308,2)-1.086*A308-0.271)/5,0)*5","v":350},364.5,350,null,0,0,0,0,0,0]
[31,9,{"$f":"FLOOR((C308+C310)/2,1)","v":395},410.0625,390,null,0,0,0,0,0,0]
[31,10,{"$f":"ROUND(((C308+C312)/2)/5,0) * 5","v":440},455.625,430,null,0,0,0,0,0,0]
[31,11,{"$f":"FLOOR((C310+C312)/2,1)","v":485},501.1875,480,null,0,0,0,0,0,0]
[31,12,{"$f":"ROUND((0.597*POWER(A312,2)-1.33*A312-0.715)/5,0)*5","v":530},546.75,520,null,0,0,0,0,0,0]
[31,13,{"$f":"FLOOR((C312+C314)/2,1)","v":577},592.3125,560,null,0,0,0,0,0,0]
[31,14,{"$f":"ROUND(((C312+C316)/2)/5,0) * 5","v":625},637.875,610,null,0,0,0,0,0,0]
[31,15,{"$f":"FLOOR((C314+C316)/2,1)","v":672},683.4375,650,null,0,0,0,0,0,0]
[31,16,{"$f":"ROUND((0.796* POWER(A316,2)-1.375*A316-1.23)/5,0)*5","v":720},729,690,null,0,0,0,0,0,0]
[31,17,{"$f":"FLOOR((C316+C318)/2,1)","v":770},774.5625,740,null,0,0,0,0,0,0]
[31,18,{"$f":"ROUND(((C316+C320)/2)/5,0) * 5","v":820},820.125,780,null,0,0,0,0,0,0]
[31,19,{"$f":"FLOOR((C318+C320)/2,1)","v":867},865.6875,820,null,0,0,0,0,0,0]
[31,20,{"$f":"ROUND((0.995*POWER(A320,2) - 1.221*A320 - 1.719)/5,0)*5","v":915},911.25,870,null,0,0,0,0,0,0]
[32,8,{"$f":"ROUND((0.398*POWER(A321,2)-1.086*A321-0.271)/5,0)*5","v":375},392,370,null,0,0,0,0,0,0]
[32,9,{"$f":"FLOOR((C321+C323)/2,1)","v":425},441,420,null,0,0,0,0,0,0]
[32,10,{"$f":"ROUND(((C321+C325)/2)/5,0) * 5","v":475},490,460,null,0,0,0,0,0,0]
[32,11,{"$f":"FLOOR((C323+C325)/2,1)","v":522},539,510,null,0,0,0,0,0,0]
[32,12,{"$f":"ROUND((0.597*POWER(A325,2)-1.33*A325-0.715)/5,0)*5","v":570},588,560,null,0,0,0,0,0,0]
[32,13,{"$f":"FLOOR((C325+C327)/2,1)","v":620},637,600,null,0,0,0,0,0,0]
[32,14,{"$f":"ROUND(((C325+C329)/2)/5,0) * 5","v":670},686,650,null,0,0,0,0,0,0]
[32,15,{"$f":"FLOOR((C327+C329)/2,1)","v":720},735,690,null,0,0,0,0,0,0]
[32,16,{"$f":"ROUND((0.796* POWER(A329,2)-1.375*A329-1.23)/5,0)*5","v":770},784,740,null,0,0,0,0,0,0]
[32,17,{"$f":"FLOOR((C329+C331)/2,1)","v":822},833,790,null,{"$f":"IF(AND(($A330=FLOOR($D$4,1)),($B330=FLOOR($D$5,1))),C330,0)","v":0},{"$f":"IF(AND(($A330=FLOOR($D$4,1)),($B330=FLOOR($D$5,1))),D330,0)","v":0},{"$f":"IF(AND(($A330=FLOOR($D$4,1)),($B330=FLOOR($D$5,1))),E330,0)","v":0},{"$f":"IF(AND(($A330=FLOOR($C$4,1)),($B330=FLOOR($C$5,1))),C330,0)","v":0},{"$f":"IF(AND(($A330=FLOOR($C$4,1)),($B330=FLOOR($C$5,1))),D330,0)","v":0},{"$f":"IF(AND(($A330=FLOOR($C$4,1)),($B330=FLOOR($C$5,1))),E330,0)","v":0}]
[32,18,{"$f":"ROUND(((C329+C333)/2)/5,0) * 5","v":875},882,830,null,0,0,0,0,0,0]
[32,19,{"$f":"FLOOR((C331+C333)/2,1)","v":927},931,880,null,0,0,0,0,0,0]
[32,20,{"$f":"ROUND((0.995*POWER(A333,2) - 1.221*A333 - 1.719)/5,0)*5","v":980},980,930,null,0,0,0,0,0,0]
[33,8,{"$f":"ROUND((0.398*POWER(A334,2)-1.086*A334-0.271)/5,0)*5","v":395},420.5,400,null,0,0,0,0,0,0]
[33,9,{"$f":"FLOOR((C334+C336)/2,1)","v":447},473.0625,440,null,0,0,0,0,0,0]
[33,10,{"$f":"ROUND(((C334+C338)/2)/5,0) * 5","v":500},525.625,490,null,0,0,0,0,0,0]
[33,11,{"$f":"FLOOR((C336+C338)/2,1)","v":552},578.1875,540,null,0,0,0,0,0,0]
[33,12,{"$f":"ROUND((0.597*POWER(A338,2)-1.33*A338-0.715)/5,0)*5","v":605},630.75,590,null,0,0,0,0,0,0]
[33,13,{"$f":"FLOOR((C338+C340)/2,1)","v":660},683.3125,640,null,0,0,0,0,0,0]
[33,14,{"$f":"ROUND(((C338+C342)/2)/5,0) * 5","v":715},735.875,690,null,0,0,0,0,0,0]
[33,15,{"$f":"FLOOR((C340+C342)/2,1)","v":767},788.4375,740,null,0,0,0,0,0,0]
[33,16,{"$f":"ROUND((0.796* POWER(A342,2)-1.375*A342-1.23)/5,0)*5","v":820},841,790,null,0,0,0,0,0,0]
[33,17,{"$f":"FLOOR((C342+C344)/2,1)","v":875},{"$f":"(POWER(A343-4,2)*B343)/16","v":893.5625},{"$f":"ROUND(((0.79*POWER(A343,2)-2*A343 -4)*B343/16)/10,0)*10","v":840},null,0,0,0,0,0,0]
[33,18,{"$f":"ROUND(((C342+C346)/2)/5,0) * 5","v":930},946.125,890,null,0,0,0,0,0,0]
[33,19,{"$f":"FLOOR((C344+C346)/2,1)","v":985},998.6875,940,null,0,0,0,0,0,0]
[33,20,{"$f":"ROUND((0.995*POWER(A346,2) - 1.221*A346 - 1.719)/5,0)*5","v":1040},1051.25,990,null,0,0,0,0,0,0]
[34,8,{"$f":"ROUND((0.398*POWER(A347,2)-1.086*A347-0.271)/5,0)*5","v":425},450,420,null,0,0,0,0,0,0]
[34,9,{"$f":"FLOOR((C347+C349)/2,1)","v":480},506.25,470,null,0,0,0,0,0,0]
[34,10,{"$f":"ROUND(((C347+C351)/2)/5,0) * 5","v":535},562.5,530,null,0,0,0,0,0,0]
[34,11,{"$f":"FLOOR((C349+C351)/2,1)","v":590},618.75,580,null,0,0,0,0,0,0]
[34,12,{"$f":"ROUND((0.597*POWER(A351,2)-1.33*A351-0.715)/5,0)*5","v":645},675,630,null,0,0,0,0,0,0]
[34,13,{"$f":"FLOOR((C351+C353)/2,1)","v":702},731.25,680,null,0,0,0,0,0,0]
[34,14,{"$f":"ROUND(((C351+C355)/2)/5,0) * 5","v":760},787.5,740,null,0,0,0,0,0,0]
[34,15,{"$f":"FLOOR((C353+C355)/2,1)","v":815},843.75,790,null,0,0,0,0,0,0]
[34,16,{"$f":"ROUND((0.796* POWER(A355,2)-1.375*A355-1.23)/5,0)*5","v":870},900,840,null,0,0,0,0,0,0]
[34,17,{"$f":"FLOOR((C355+C357)/2,1)","v":930},956.25,890,null,0,0,0,0,0,0]
[34,18,{"$f":"ROUND(((C355+C359)/2)/5,0) * 5","v":990},1012.5,950,null,0,0,0,0,0,0]
[34,19,{"$f":"FLOOR((C357+C359)/2,1)","v":1047},1068.75,1000,null,0,0,0,0,0,0]
[34,20,{"$f":"ROUND((0.995*POWER(A359,2) - 1.221*A359 - 1.719)/5,0)*5","v":1105},1125,1050,null,0,0,0,0,0,0]
[35,8,{"$f":"ROUND((0.398*POWER(A360,2)-1.086*A360-0.271)/5,0)*5","v":450},480.5,450,null,0,0,0,0,0,0]
[35,9,{"$f":"FLOOR((C360+C362)/2,1)","v":510},540.5625,500,null,0,0,0,0,0,0]
[35,10,{"$f":"ROUND(((C360+C364)/2)/5,0) * 5","v":570},600.625,560,null,0,0,0,0,0,0]
[35,11,{"$f":"FLOOR((C362+C364)/2,1)","v":627},660.6875,610,null,0,0,0,0,0,0]
[35,12,{"$f":"ROUND((0.597*POWER(A364,2)-1.33*A364-0.715)/5,0)*5","v":685},720.75,670,null,0,0,0,0,0,0]
[35,13,{"$f":"FLOOR((C364+C366)/2,1)","v":745},780.8125,730,null,0,0,0,0,0,0]
[35,14,{"$f":"ROUND(((C364+C368)/2)/5,0) * 5","v":805},840.875,780,null,0,0,0,0,0,0]
[35,15,{"$f":"FLOOR((C366+C368)/2,1)","v":865},900.9375,840,null,0,0,0,0,0,0]
[35,16,{"$f":"ROUND((0.796* POWER(A368,2)-1.375*A368-1.23)/5,0)*5","v":925},961,890,null,0,0,0,0,0,0]
[35,17,{"$f":"FLOOR((C368+C370)/2,1)","v":987},1021.0625,950,null,0,0,0,0,0,0]
[35,18,{"$f":"ROUND(((C368+C372)/2)/5,0) * 5","v":1050},1081.125,1010,null,0,0,0,0,0,0]
[35,19,{"$f":"FLOOR((C370+C372)/2,1)","v":1112},1141.1875,1060,null,0,0,0,0,0,0]
[35,20,{"$f":"ROUND((0.995*POWER(A372,2) - 1.221*A372 - 1.719)/5,0)*5","v":1175},1201.25,1120,null,0,0,0,0,0,0]
[36,8,{"$f":"ROUND((0.398*POWER(A373,2)-1.086*A373-0.271)/5,0)*5","v":475},512,470,null,0,0,0,0,0,0]
[36,9,{"$f":"FLOOR((C373+C375)/2,1)","v":537},576,530,null,0,0,0,0,0,0]
[36,10,{"$f":"ROUND(((C373+C377)/2)/5,0) * 5","v":600},640,590,null,0,0,0,0,0,0]
[36,11,{"$f":"FLOOR((C375+C377)/2,1)","v":662},704,650,null,0,0,0,0,0,0]
[36,12,{"$f":"ROUND((0.597*POWER(A377,2)-1.33*A377-0.715)/5,0)*5","v":725},768,710,null,0,0,0,0,0,0]
[36,13,{"$f":"FLOOR((C377+C379)/2,1)","v":790},832,770,null,0,0,0,0,0,0]
[36,14,{"$f":"ROUND(((C377+C381)/2)/5,0) * 5","v":855},896,830,null,0,0,0,0,0,0]
[36,15,{"$f":"FLOOR((C379+C381)/2,1)","v":917},960,890,null,0,0,0,0,0,0]
[36,16,{"$f":"ROUND((0.796* POWER(A381,2)-1.375*A381-1.23)/5,0)*5","v":980},1024,950,null,0,0,0,0,0,0]
[36,17,{"$f":"FLOOR((C381+C383)/2,1)","v":1047},1088,1010,null,0,0,0,0,0,0]
[36,18,{"$f":"ROUND(((C381+C385)/2)/5,0) * 5","v":1115},1152,1070,null,0,0,0,0,0,0]
[36,19,{"$f":"FLOOR((C383+C385)/2,1)","v":1180},1216,1130,null,0,0,0,0,0,0]
[36,20,{"$f":"ROUND((0.995*POWER(A385,2) - 1.221*A385 - 1.719)/5,0)*5","v":1245},1280,1180,null,0,0,0,0,0,0]

{"sheet":"Master","index":7,"n_rows":140,"n_cols":3,"rows_kept":140,"cut":false,"hidden":true,"merged":[[133,0,133,1],[116,0,116,1],[121,0,121,1],[126,0,126,1],[129,0,129,1]]}
[]
[]
[]
["Drop Down Box Data"]
["Tree Species"]
["ROAK"]
["WOAK"]
["HMAP"]
["CHERRY"]
["YPOP"]
["SMAP"]
["OTHER"]
["Log Grades"]
["Factory-1","Factory 1","USFS Log Grades"]
["Factory-2","Factory 2","Clear Face Grades"]
["Factory-3","Factory 3"]
["Construction","Construction"]
["4-Clear-Face","Trimmed Clear Face log grades"]
["3-Clear-Face"]
["2-Clear-Face"]
["1-Clear-Face"]
["0-Clear-Face"]
[]
["FULL"]
["SPLIT"]
[]
["Log Length"]
[8]
[9]
[10]
[11]
[12]
[13]
[14]
[15]
[16]
[]
["YES"]
["NO"]
[]
["International 1/4"]
["Doyle"]
["Scribner"]
[]
["Machine Utilization Rate"]
[100]
[80]
[60]
[40]
[]
["GRADE"]
["SLAB"]
["LIVE"]
[]
[]
["Interactive Default Parameters"]
["Species","ROAK"]
["Log Grade","Factory-2"]
["Small End Diameter",20]
["Large End Diameter",23.5]
["Log Length",16]
["Opening Face Width",6]
["Opening Face Length",8]
["Cant Height",6]
["Cant Width",0]
["Green Allowance",0.125]
["Thickness",1]
["Sawing Variation",0.03]
["Saw Kerf",0.125]
["Thickness",1]
["Sawing Variation",0.03]
["Saw Kerf",0.125]
["Full / Split Taper","SPLIT"]
["Sawing Method","GRADE"]
[]
[]
[]
["Batch Default Parameters"]
["Opening Face Width",6]
["Opening Face Length",8]
["Cant Height",6]
["Cant Width",0]
["Lumber Thickness",1]
["Kerf Thickness",0.13500000000000001]
["Sawing Variation",0.03]
["Lumber Thickness",1]
["Kerf Thickness",0.13500000000000001]
["Sawing Variation",0.03]
["Green Allowance",0.125]
["Sawing Method","GRADE"]
["Split or Full Taper?","SPLIT"]
[]
["Column 2 Parameters"]
["Number of Samples",40]
["Mean Small End Diameter",18]
["Small End Diameter Std Deviation",5]
["Mean Taper",3]
["Taper Std Deviation",1]
["Log Length",12]
["Log Grade","2-Clear-Face"]
["Species","YPOP"]
["SED Under 8\" Protection","YES"]
["Profit Loss Analysis uses","Clear Face Grades"]
[]
["Operation Costs"]
["space requirement",0]
["cost of space per year per sqft",0]
["machine energy consumption per hour",1]
["cost of energy per hour",4]
["fixed energy cost as % of total energy costs",10]
["depreciation period (straight line depreciation)",10]
["assumed interest rate",5]
["estimation of start-up and training costs",5]
["estimated labor overhead costs (benefits)",50]
["total working hours per year",1801]
[]
["Labor Requirements"]
["# of skilled operators (employee)",1]
["# of unskilled operators (employee)",1]
["# of supervising employees",0]
[]
["Labor costs"]
["labor cost skilled employee",50000]
["labor cost unskilled employee",35000]
["supervisor cost",65000]
[]
["Investment"]
["purchase price incl. transport and installation",55000]
[]
["Operating Cost per Year"]
["tools, blades, and jigs",0,2400]
["maintenance cost",100,500]
[]
["Overhead and Miscellaneous Cost per Year"]
["production overhead",0,0]
["miscellaneous cost",0,0]
[]
[]
["Original"]
["Revised"]

{"sheet":"Patterns","index":8,"n_rows":5,"n_cols":2,"rows_kept":5,"cut":false,"hidden":true,"merged":[]}
[null,"Livesaw"]
[null,"Slab_Saw_With_Cant"]
[null,"Slab_Saw_With_Cant_Resaw"]
[null,"Grade_Saw_With_Cant"]
[null,"Grade_Saw_With_Cant_Resaw"]

{"sheet":"Costs","index":9,"n_rows":85,"n_cols":14,"rows_kept":85,"cut":false,"hidden":false,"merged":[[38,0,38,1],[47,0,47,2],[9,1,9,8],[27,6,27,10],[0,1,0,11],[27,2,27,5],[3,3,3,4],[8,1,8,8],[3,0,3,2],[26,0,26,3]]}
[null,"Log, Lumber, Processing Costs and Prices",null,null,null,null,null,null,null,null,null,null,null,1]
[]
[]
["Log Scaling Method:",null,null,"International 1/4"]
[null,"Preferred Grade Recovery Prediction Model:",null,null,null,"Revised"]
[]
[]
["Operating Costs"]
[null,"Either sawn volume or input log volume-based costing can be used to apply operating costs to LORCAT's "]
[null,"sawmill recovery estimates."]
[]
[null,"Use Sawn Lumber Volume-Based Costing"]
[null,null,"Average sawn volume of lumber per hour",null,null,null,{"$f":"IF($N$1=1,\"✅\",\" \")","v":"✅"},1000,"bdft / hour"]
[null,null,"Use operating cost from \"Operations Costs\" sheet?",null,null,null,"NO"]
[null,null,"Utilization rate of equipment (100%;80%;60%;40%)",null,null,null,{"$f":"IF($N$1=1,\"✅\",\" \")","v":"✅"},100]
[null,null,"Operating cost from Operation Costs sheet",null,null,null,{"$f":"IF(AND(N1=1,G14=\"YES\"),\"✅\",\" \")","v":" "},{"$f":"IF(H15=100,'Operation Costs'!$D$71*(1000/H13),(IF(H15=80,'Operation Costs'!$D$72*(1000/H13),(IF(H15=60,'Operation Costs'!$D$73*(1000/H13),(IF(H15=40,'Operation Costs'!$D$74*(1000/H13),\"UTILIZATION RATE MUST BE 100, 80, 60, OR 40%\")))))))","v":81.26957245974458},"$ / hour"]
[null,null,"Operating cost, directly specified",null,null,null,{"$f":"IF(AND($N$1=1,$G$14=\"NO\"),\"✅\",\" \")","v":"✅"},206,"$ / hour"]
[null,null,"Operating cost per 1000 bdft sawn",null,null,null,{"$f":"IF(N1=1,\"✅\",\" \")","v":"✅"},{"$f":"IF(G14=\"NO\",H17/(H13/1000), H16/(H13/1000))","v":206},"$"]
[]
[null,"Use Input Log Volume-Based Costing"]
[null,null,"Input log volume at utilization rate / hour Scale (bdft)",null,null,null,{"$f":"IF($N$1=2,\"✅\",\" \")","v":" "},1000,"bdft / hour"]
[null,null,"Utilization rate of equipment (100%;80%;60%;40%)",null,null,null,{"$f":"IF($N$1=2,\"✅\",\" \")","v":" "},80,"%"]
[null,null,"Operating cost per 1000 bdft log input volume",null,null,null," ",{"$f":"IF(H22=100,'Operation Costs'!$D$71*(1000/H21),(IF(H22=80,'Operation Costs'!$D$72*(1000/H21),(IF(H22=60,'Operation Costs'!$D$73*(1000/H21),(IF(H22=40,'Operation Costs'!$D$74*(1000/H21),\"UTILIZATION RATE MUST BE 100, 80, 60, OR 40%\")))))))","v":82.585910605219325},"$"]
[]
[]
[]
["Log Costs per Thousand bdft",null,null,null,{"$f":"D4","v":"International 1/4"}]
[null,null,"USFS Log Grades",null,null,null,"Trimmed Clear Face Log Grades"]
[null,"Species","Factory-1","Factory-2","Factory-3","Construction","4-Clear-Face","3-Clear-Face","2-Clear-Face","1-Clear-Face","0-Clear-Face"]
[null,"ROAK",303,202,101,75,500,425,350,200,100]
[null,"WOAK",750,500,300,100,750,625,500,300,100]
[null,"YPOP",300,250,175,75,350,300,250,175,75]
[null,"HMAP",375,310,250,100,400,350,300,250,100]
[null,"SMAP",300,250,200,100,300,350,280,200,100]
[null,"CHERRY",750,500,200,150,750,675,500,250,150]
[null,"OTHER",{"$f":"FLOOR(AVERAGE(C30:C33),1)","v":432},{"$f":"FLOOR(AVERAGE(D30:D33),1)","v":315},{"$f":"FLOOR(AVERAGE(E30:E33),1)","v":206},{"$f":"FLOOR(AVERAGE(F30:F33),1)","v":87},{"$f":"FLOOR(AVERAGE(G30:G33),1)","v":500},{"$f":"FLOOR(AVERAGE(H30:H33),1)","v":425},350,{"$f":"FLOOR(AVERAGE(J30:J33),1)","v":231},{"$f":"FLOOR(AVERAGE(K30:K33),1)","v":93}]
[]
[]
["Cant Prices",null,"(prices per thousand bdft)"]
[null,"ROAK",440]
[null,"WOAK",440]
[null,"YPOP",340]
[null,"HMAP",360]
[null,"SMAP",340]
[null,"CHERRY",360]
[null,"OTHER",364]
[null," "]
["Green Lumber Prices",null,null,"(prices per thousand bdft)"]
[]
[null,"Species","Thickness","FAS","F1F","SEL","1C","2C","3A","3B"]
[null,"ROAK",1,935,920,886,643,490,440,440]
[null,"ROAK",1.25,900,812,625,575,525,443,406]
[null,"ROAK",1.5,1080,975,750,690,630,532,487]
[null,"ROAK",1.75,1260,1137,875,805,735,621,568]
[null,"ROAK",2,1440,1300,1000,920,840,710,650]
[null,"WOAK",1,1465,1400,750,675,480,420,400]
[null,"WOAK",1.25,1831,1750,937,843,600,525,500]
[null,"WOAK",1.5,2197,2100,1125,1012,720,630,600]
[null,"WOAK",1.75,2563,2450,1312,1181,840,735,700]
[null,"WOAK",2,2930,2800,1500,1350,960,840,800]
[null,"YPOP",1,680,710,528,394,316,198,146]
[null,"YPOP",1.25,867,905,673,502,402,252,186]
[null,"YPOP",1.5,1054,1100,818,610,489,306,226]
[null,"YPOP",1.75,1224,1278,950,709,568,356,262]
[null,"YPOP",2,1411,1473,1095,817,655,410,302]
[null,"HMAP",1,1122,1070,982,832,540,402,322]
[null,"HMAP",1.25,1430,1364,1252,1060,688,512,410]
[null,"HMAP",1.5,1739,1658,1522,1289,837,623,499]
[null,"HMAP",1.75,2019,1926,1767,1497,972,723,579]
[null,"HMAP",2,2328,2220,2037,1726,1120,834,668]
[null,"SMAP",1,1122,1070,982,832,540,402,322]
[null,"SMAP",1.25,1430,1364,1252,1060,688,512,410]
[null,"SMAP",1.5,1739,1658,1522,1289,837,623,499]
[null,"SMAP",1.75,2019,1926,1767,1497,972,723,579]
[null,"SMAP",2,2328,2220,2037,1726,1120,834,668]
[null,"CHERRY",1,1175,1165,700,650,380,300,225]
[null,"CHERRY",1.25,1498,1485,892,828,484,382,286]
[null,"CHERRY",1.5,1821,1805,1085,1007,589,465,348]
[null,"CHERRY",1.75,2115,2097,1260,1170,684,540,405]
[null,"CHERRY",2,2438,2417,1452,1348,788,622,466]
[null,"OTHER",1,864,800,662,610,622,508,388]
[null,"OTHER",1.25,1101,1020,844,777,793,647,494]
[null,"OTHER",1.5,1339,1240,1026,945,964,787,601]
[null,"OTHER",1.75,1555,1440,1191,1098,1119,914,698]
[null,"OTHER",2,1792,1660,1373,1265,1290,1054,805]

{"sheet":"USFS-TCF-Converter","index":10,"n_rows":49,"n_cols":16,"rows_kept":49,"cut":false,"hidden":true,"merged":[[7,1,7,2],[3,6,3,7],[3,1,3,2],[5,14,5,15],[5,1,5,2],[5,12,5,13],[5,4,5,5],[5,6,5,7],[0,0,0,2],[1,4,1,5],[0,11,0,13],[2,4,2,5],[4,4,4,5],[1,6,1,7],[4,6,4,7],[2,6,2,7],[0,4,0,7],[1,1,1,2],[2,1,2,2],[4,1,4,2]]}
["Grade Convertor for Interactive",null,null,null,"Grade Convertor for Batch",null,null,null,null,null,null,"Random Seeds"]
["CF",{"$f":"'Interactive Sawing'!D8","v":"Factory-2"},null,null,"CF",null,"Factory-2",null,null,null,null,{"$f":"RAND()","v":0.85019705188953543},{"$f":"RAND()","v":0.68963305335823133},{"$f":"RAND()","v":0.4198171797445478}]
["Scale Diameter",{"$f":"FLOOR('Interactive Sawing'!D9,1)","v":20},null,null,"Scale Diameter",null,14]
["Log Length",{"$f":"'Interactive Sawing'!D11","v":16},null,null,"Log Length",null,16]
["Factory Grade",{"$f":"MAX(N10:N49)","v":0},null,null,"Factory Grade",null,{"$f":"MAX(P10:P49)","v":0}]
["Grade Name",{"$f":"IF(B5=1,\"Factory-1\",IF(B5=2,\"Factory-2\",IF(B5=3,\"Factory-3\",B2)))","v":"Factory-2"},null,null,"Grade Name",null,{"$f":"IF(G5=1,\"Factory-1\",IF(G5=2,\"Factory-2\",IF(G5=3,\"Factory-3\",G2)))","v":"Factory-2"},null,null,null,null,null,"Interactive Lookup",null,"Batch Lookup"]
[null,null,null,null,null,null,null,null,null,null,null,null,"Most Likely","USFS","Most Likely","USFS"]
[null,"Diameter Range",null,"Length Range",null,null,null,null,"F1","F2","F3","Nearest","USFS","Grade","USFS","Grade"]
["ClearFace","Min","Max","Min","Max","F1","F2","F3","Diff","Diff","Diff","Pct Odds","Grade","Selector","Grade","Selector"]
["0-Clear-Face",8,10,8,10,0,0,1,{"$f":"F10*$L$2","v":0},{"$f":"G10*$M$2","v":0},{"$f":"H10*$N$2","v":0.4198171797445478},{"$f":"MAX(I10:K10)","v":0.4198171797445478},{"$f":"IF(L10=K10,3,IF(L10=J10,2,1))","v":3},{"$f":"IF(AND($B$2=A10,AND($B$3>=$B10,AND($B$3<=$C10,AND($B$4>=$D10,$B$4<=$E10)))),M10,0)","v":0},{"$f":"IF(L10=K10,3,IF(L10=J10,2,1))","v":3},{"$f":"IF(AND($G$2=A10,AND($G$3>=$B10,AND($G$3<=$C10,AND($G$4>=$D10,$G$4<=$E10)))),O10,0)","v":0}]
["0-Clear-Face",11,12,8,10,0,0,1,{"$f":"F11*$L$2","v":0},{"$f":"G11*$M$2","v":0},{"$f":"H11*$N$2","v":0.4198171797445478},0.4198171797445478,3,{"$f":"IF(AND($B$2=A11,AND($B$3>=B11,AND($B$3<=C11,AND($B$4>=D11,$B$4<=E11)))),M11,0)","v":0},3,{"$f":"IF(AND($G$2=A11,AND($G$3>=$B11,AND($G$3<=$C11,AND($G$4>=$D11,$G$4<=$E11)))),O11,0)","v":0}]
["0-Clear-Face",13,15,8,10,0,0.15384615384615399,0.84615384615384603,0,0.10609739282434338,0.35522992132230963,0.35522992132230963,3,0,3,0]
["0-Clear-Face",16,32,8,10,0,0.33333333333333298,0.66666666666666696,0,0.22987768445274354,0.27987811982969868,0.27987811982969868,3,0,3,0]
["0-Clear-Face",8,10,11,17,0,0,1,0,0,0.4198171797445478,0.4198171797445478,3,0,3,0]
["0-Clear-Face",11,12,11,17,0,0.37554585152838399,0.62445414847161596,0,0.25898883226553648,0.26215657949113691,0.26215657949113691,3,0,3,0]
["0-Clear-Face",13,15,11,17,4.8543689320388302E-3,0.5,0.495145631067961,4.1271701548035661E-3,0.34481652667911566,0.20787064239778574,0.34481652667911566,2,0,2,0]
["0-Clear-Face",16,32,11,17,3.8461538461538498E-2,0.47115384615384598,0.49038461538461497,3.2699886611136007E-2,0.3249232655245512,0.20587188622088384,0.3249232655245512,2,0,2,0]
["1-Clear-Face",8,10,8,10,0,0,1,0,0,0.4198171797445478,0.4198171797445478,3,0,3,0]
["1-Clear-Face",11,12,8,10,0,0.21276595744680801,0.78723404255319196,0,0.14673043688472973,0.33049437554358035,0.33049437554358035,3,0,3,0]
["1-Clear-Face",13,15,8,10,0,0.625,0.375,0,0.43102065834889458,0.15743144240420542,0.43102065834889458,2,0,2,0]
["1-Clear-Face",16,32,8,10,0,0.375,0.625,0,0.25861239500933675,0.26238573734034237,0.26238573734034237,3,0,3,0]
["1-Clear-Face",8,10,11,17,0,0,1,0,0,0.4198171797445478,0.4198171797445478,3,0,3,0]
["1-Clear-Face",11,12,11,17,0,0.70967741935483897,0.29032258064516098,0,0.48941700560906759,0.12188240702261052,0.48941700560906759,2,0,2,0]
["1-Clear-Face",13,15,11,17,3.5175879396984903E-2,0.70351758793969899,0.26130653266331699,2.9906428960938414E-2,0.48516898226207261,0.1097009715915403,0.48516898226207261,2,0,2,0]
["1-Clear-Face",16,32,11,17,0.154411764705882,0.67647058823529405,0.16911764705882401,0.13128042713000149,0.46651647727174467,7.0998493633269322E-2,0.46651647727174467,2,0,2,0]
["2-Clear-Face",8,10,8,10,0,0,1,0,0,0.4198171797445478,0.4198171797445478,3,0,3,0]
["2-Clear-Face",11,12,8,10,0,0.04,0.96,0,2.7585322134329255E-2,0.40302449255476586,0.40302449255476586,3,0,3,0]
["2-Clear-Face",13,15,8,10,0,1,0,0,0.68963305335823133,0,0.68963305335823133,2,0,2,0]
["2-Clear-Face",16,32,8,10,0,0.86666666666666703,0.133333333333333,0,0.59768197957713409,5.5975623965939567E-2,0.59768197957713409,2,0,2,0]
["2-Clear-Face",8,10,11,17,0,0,1,0,0,0.4198171797445478,0.4198171797445478,3,0,3,0]
["2-Clear-Face",11,12,11,17,0,0.891891891891892,0.108108108108108,0,0.6150781286708551,4.5385641053464584E-2,0.6150781286708551,2,0,2,0]
["2-Clear-Face",13,15,11,17,0.36428571428571399,0.54285714285714304,9.2857142857142902E-2,0.30971464033118767,0.37437222896589711,3.8983023833422316E-2,0.37437222896589711,2,0,2,0]
["2-Clear-Face",16,32,11,17,0.51612903225806495,0.43548387096774199,4.8387096774193603E-2,0.43881138162040573,0.30032407162374591,2.0313734503768464E-2,0.43881138162040573,1,0,1,0]
["3-Clear-Face",8,10,8,10,0,0,1,0,0,0.4198171797445478,0.4198171797445478,3,0,3,0]
["3-Clear-Face",11,12,8,10,0,0.75,0.25,0,0.5172247900186735,0.10495429493613695,0.5172247900186735,2,0,2,0]
["3-Clear-Face",13,15,8,10,0,1,0,0,0.68963305335823133,0,0.68963305335823133,2,0,2,0]
["3-Clear-Face",16,32,8,10,0,1,0,0,0.68963305335823133,0,0.68963305335823133,2,0,2,0]
["3-Clear-Face",8,10,11,17,0,0,1,0,0,0.4198171797445478,0.4198171797445478,3,0,3,0]
["3-Clear-Face",11,12,11,17,0,0.96428571428571397,3.5714285714285698E-2,0,0.66500330145258002,1.4993470705162415E-2,0.66500330145258002,2,0,2,0]
["3-Clear-Face",13,15,11,17,0.97278911564625903,6.8027210884353704E-3,2.04081632653061E-2,0.82706243823267778,4.6913813153621154E-3,8.5676975458070879E-3,0.82706243823267778,1,0,1,0]
["3-Clear-Face",16,32,11,17,1,0,0,0.85019705188953543,0,0,0.85019705188953543,1,0,1,0]
["4-Clear-Face",8,10,8,10,0,0,1,0,0,0.4198171797445478,0.4198171797445478,3,0,3,0]
["4-Clear-Face",11,12,8,10,0,0.27777777777777801,0.72222222222222199,0,0.1915647370439533,0.30320129648217331,0.30320129648217331,3,0,3,0]
["4-Clear-Face",13,15,8,10,0,1,0,0,0.68963305335823133,0,0.68963305335823133,2,0,2,0]
["4-Clear-Face",16,32,8,10,0,1,0,0,0.68963305335823133,0,0.68963305335823133,2,0,2,0]
["4-Clear-Face",8,10,11,17,0,0,1,0,0,0.4198171797445478,0.4198171797445478,3,0,3,0]
["4-Clear-Face",11,12,11,17,0,0.97058823529411797,2.94117647058823E-2,0,0.66934972825946004,1.2347564110133737E-2,0.66934972825946004,2,0,2,0]
["4-Clear-Face",13,15,11,17,0.98876404494381998,1.1235955056179799E-2,0,0.84064427602560787,7.748685992789133E-3,0,0.84064427602560787,1,0,1,0]
["4-Clear-Face",16,32,11,17,0.98,0.02,0,0.83319311085174474,1.3792661067164627E-2,0,0.83319311085174474,1,0,1,0]

{"sheet":"Cost Lookup","index":11,"n_rows":73,"n_cols":23,"rows_kept":73,"cut":false,"hidden":true,"merged":[]}
[]
["Interactive Lookup",null,null,null,"Batch Lookup"]
["Species",{"$f":"'Interactive Sawing'!D7","v":"ROAK"},null,null,"Species","ROAK"]
["LogGrade",{"$f":"'Interactive Sawing'!D8","v":"Factory-2"},null,null,"LogGrade","Factory-2"]
["Thickness",{"$f":"IF(ROUND('Interactive Sawing'!D16*4,0)/4 < 0.9, 1, ROUND('Interactive Sawing'!D16*4,0)/4)","v":1},null,null,"Thickness",{"$f":"IF(ROUND(G5*4,0)/4<0.9,1,ROUND(G5*4,0)/4)","v":1},0.125]
["Log Price",{"$f":"K18","v":202},{"$f":"B6/1000","v":0.20200000000000001},null,"Log Price",{"$f":"L18","v":202},{"$f":"F6/1000","v":0.20200000000000001}]
["Cant Price",{"$f":"C28","v":440},{"$f":"B7/1000","v":0.44},null,"Cant Price",{"$f":"D28","v":440},{"$f":"F7/1000","v":0.44}]
["FAS",{"$f":"J37","v":935},{"$f":"B8/1000","v":0.93500000000000005},null,"FAS",{"$f":"Q37","v":935},{"$f":"F8/1000","v":0.93500000000000005}]
["F1F",{"$f":"K37","v":920},0.92,null,"F1F",{"$f":"R37","v":920},0.92]
["SEL",{"$f":"L37","v":886},0.88600000000000001,null,"SEL",{"$f":"S37","v":886},0.88600000000000001]
["1C",{"$f":"M37","v":643},0.64300000000000002,null,"1C",{"$f":"T37","v":643},0.64300000000000002]
["2A",{"$f":"N37","v":490},0.49,null,"2A",{"$f":"U37","v":490},0.49]
["3A",{"$f":"O37","v":440},0.44,null,"3A",{"$f":"V37","v":440},0.44]
["3B",{"$f":"P37","v":440},0.44,null,"3B",{"$f":"W37","v":440},0.44]
[]
[]
["LOG",null,null,null,null,null,null,null,null,null,"Interactive","Batch"]
[{"$f":"Costs!B29","v":"Species"},"Factory-1","Factory-2","Factory-3",{"$f":"Costs!F29","v":"Construction"},"4-ClearFace","3-Clear-Face","2-Clear-Face","1-Clear-Face","0-Clear-Face",{"$f":"MAX(K19:K25)","v":202},{"$f":"MAX(L19:L25)","v":202}]
[{"$f":"Costs!B30","v":"ROAK"},{"$f":"Costs!C30","v":303},{"$f":"Costs!D30","v":202},{"$f":"Costs!E30","v":101},{"$f":"Costs!F30","v":75},{"$f":"Costs!G30","v":500},{"$f":"Costs!H30","v":425},{"$f":"Costs!I30","v":350},{"$f":"Costs!J30","v":200},{"$f":"Costs!K30","v":100},{"$f":"IF($B$3=A19,IF($B$4=\"Factory-1\",B19,IF($B$4=\"Factory-2\",C19,IF($B$4=\"Factory-3\",D19,IF($B$4=\"Construction\", E19, IF($B$4=\"4-Clear-Face\",F19,IF($B$4=\"3-Clear-Face\",G19,IF($B$4=\"2-Clear-Face\",H19,IF($B$4=\"1-Clear-Face\",I19,IF($B$4=\"0-Clear-Face\",J19,0))))))))),0)","v":202},{"$f":"IF($F$3=A19,IF($F$4=\"Factory-1\",B19,IF($F$4=\"Factory-2\",C19,IF($F$4=\"Factory-3\",D19,IF($F$4=\"Construction\", E19, IF($F$4=\"4-Clear-Face\",F19,IF($F$4=\"3-Clear-Face\",G19,IF($F$4=\"2-Clear-Face\",H19,IF($F$4=\"1-Clear-Face\",I19,IF($F$4=\"0-Clear-Face\",J19,0))))))))),0)","v":202}]
[{"$f":"Costs!B31","v":"WOAK"},{"$f":"Costs!C31","v":750},{"$f":"Costs!D31","v":500},{"$f":"Costs!E31","v":300},{"$f":"Costs!F31","v":100},{"$f":"Costs!G31","v":750},{"$f":"Costs!H31","v":625},{"$f":"Costs!I31","v":500},{"$f":"Costs!J31","v":300},{"$f":"Costs!K31","v":100},{"$f":"IF($B$3=A20,IF($B$4=\"Factory-1\",B20,IF($B$4=\"Factory-2\",C20,IF($B$4=\"Factory-3\",D20,IF($B$4=\"Construction\", E20, IF($B$4=\"4-Clear-Face\",F20,IF($B$4=\"3-Clear-Face\",G20,IF($B$4=\"2-Clear-Face\",H20,IF($B$4=\"1-Clear-Face\",I20,IF($B$4=\"0-Clear-Face\",J20,0))))))))),0)","v":0},{"$f":"IF($F$3=A20,IF($F$4=\"Factory-1\",B20,IF($F$4=\"Factory-2\",C20,IF($F$4=\"Factory-3\",D20,IF($F$4=\"Construction\", E20, IF($F$4=\"4-Clear-Face\",F20,IF($F$4=\"3-Clear-Face\",G20,IF($F$4=\"2-Clear-Face\",H20,IF($F$4=\"1-Clear-Face\",I20,IF($F$4=\"0-Clear-Face\",J20,0))))))))),0)","v":0}]
[{"$f":"Costs!B32","v":"YPOP"},{"$f":"Costs!C32","v":300},{"$f":"Costs!D32","v":250},{"$f":"Costs!E32","v":175},{"$f":"Costs!F32","v":75},{"$f":"Costs!G32","v":350},{"$f":"Costs!H32","v":300},{"$f":"Costs!I32","v":250},{"$f":"Costs!J32","v":175},{"$f":"Costs!K32","v":75},0,0]
[{"$f":"Costs!B33","v":"HMAP"},{"$f":"Costs!C33","v":375},{"$f":"Costs!D33","v":310},{"$f":"Costs!E33","v":250},{"$f":"Costs!F33","v":100},{"$f":"Costs!G33","v":400},{"$f":"Costs!H33","v":350},{"$f":"Costs!I33","v":300},{"$f":"Costs!J33","v":250},{"$f":"Costs!K33","v":100},0,0]
[{"$f":"Costs!B34","v":"SMAP"},{"$f":"Costs!C34","v":300},{"$f":"Costs!D34","v":250},{"$f":"Costs!E34","v":200},{"$f":"Costs!F34","v":100},{"$f":"Costs!G34","v":300},{"$f":"Costs!H34","v":350},{"$f":"Costs!I34","v":280},{"$f":"Costs!J34","v":200},{"$f":"Costs!K34","v":100},0,0]
["CHERRY",{"$f":"Costs!C35","v":750},{"$f":"Costs!D35","v":500},{"$f":"Costs!E35","v":200},{"$f":"Costs!F35","v":150},{"$f":"Costs!G35","v":750},{"$f":"Costs!H35","v":675},{"$f":"Costs!I35","v":500},{"$f":"Costs!J35","v":250},{"$f":"Costs!K35","v":150},0,0]
[{"$f":"Costs!B36","v":"OTHER"},{"$f":"Costs!C36","v":432},{"$f":"Costs!D36","v":315},{"$f":"Costs!E36","v":206},{"$f":"Costs!F36","v":87},{"$f":"Costs!G36","v":500},{"$f":"Costs!H36","v":425},{"$f":"Costs!I36","v":350},{"$f":"Costs!J36","v":231},{"$f":"Costs!K36","v":93},0,0]
[]
["CANT",null,"Interactive","Batch"]
[null,null,{"$f":"MAX(C29:C35)","v":440},{"$f":"MAX(D29:D35)","v":440}]
[{"$f":"Costs!B40","v":"ROAK"},{"$f":"Costs!C40","v":440},{"$f":"IF(A29=$B$3, B29, 0)","v":440},{"$f":"IF(A29=$F$3, B29, 0)","v":440}]
[{"$f":"Costs!B41","v":"WOAK"},{"$f":"Costs!C41","v":440},0,0]
[{"$f":"Costs!B42","v":"YPOP"},{"$f":"Costs!C42","v":340},0,0]
[{"$f":"Costs!B43","v":"HMAP"},{"$f":"Costs!C43","v":360},0,0]
[{"$f":"Costs!B44","v":"SMAP"},{"$f":"Costs!C44","v":340},0,0]
["CHERRY",{"$f":"Costs!C45","v":360},{"$f":"IF(A34=$B$3, B34, 0)","v":0},{"$f":"IF(A34=$F$3, B34, 0)","v":0}]
["OTHER",{"$f":"Costs!C46","v":364},0,0]
[]
["Lumber",null,null,null,null,null,null,null,null,{"$f":"MAX(J39:J73)","v":935},{"$f":"MAX(K39:K73)","v":920},886,643,490,440,440,935,920,886,643,490,440,440]
[{"$f":"Costs!B50","v":"Species"},{"$f":"Costs!C50","v":"Thickness"},{"$f":"Costs!D50","v":"FAS"},{"$f":"Costs!E50","v":"F1F"},{"$f":"Costs!F50","v":"SEL"},{"$f":"Costs!G50","v":"1C"},{"$f":"Costs!H50","v":"2C"},{"$f":"Costs!I50","v":"3A"},{"$f":"Costs!J50","v":"3B"},"FAS","F1F","SEL","1C","2C","3A","3B","FAS","F1F","SEL","1C","2C","3A","3B"]
[{"$f":"Costs!B51","v":"ROAK"},{"$f":"Costs!C51","v":1},{"$f":"Costs!D51","v":935},{"$f":"Costs!E51","v":920},{"$f":"Costs!F51","v":886},{"$f":"Costs!G51","v":643},{"$f":"Costs!H51","v":490},{"$f":"Costs!I51","v":440},{"$f":"Costs!J51","v":440},{"$f":"IF(AND(A39=$B$3,B39=$B$5),C39,0)","v":935},{"$f":"IF(AND($A39=$B$3,$B39=$B$5),D39,0)","v":920},886,643,490,440,440,{"$f":"IF(AND($A39=$F$3,$B39=$F$5),C39,0)","v":935},{"$f":"IF(AND($A39=$F$3,$B39=$F$5),D39,0)","v":920},886,643,490,440,440]
[{"$f":"Costs!B52","v":"ROAK"},{"$f":"Costs!C52","v":1.25},{"$f":"Costs!D52","v":900},{"$f":"Costs!E52","v":812},{"$f":"Costs!F52","v":625},{"$f":"Costs!G52","v":575},{"$f":"Costs!H52","v":525},{"$f":"Costs!I52","v":443},{"$f":"Costs!J52","v":406},{"$f":"IF(AND(A40=$B$3,B40=$B$5),C40,0)","v":0},{"$f":"IF(AND($A40=$B$3,$B40=$B$5),D40,0)","v":0},{"$f":"IF(AND($A40=$B$3,$B40=$B$5),E40,0)","v":0},{"$f":"IF(AND($A40=$B$3,$B40=$B$5),F40,0)","v":0},{"$f":"IF(AND($A40=$B$3,$B40=$B$5),G40,0)","v":0},{"$f":"IF(AND($A40=$B$3,$B40=$B$5),H40,0)","v":0},{"$f":"IF(AND($A40=$B$3,$B40=$B$5),I40,0)","v":0},{"$f":"IF(AND($A40=$F$3,$B40=$F$5),C40,0)","v":0},{"$f":"IF(AND($A40=$F$3,$B40=$F$5),D40,0)","v":0},{"$f":"IF(AND($A40=$F$3,$B40=$F$5),E40,0)","v":0},{"$f":"IF(AND($A40=$F$3,$B40=$F$5),F40,0)","v":0},{"$f":"IF(AND($A40=$F$3,$B40=$F$5),G40,0)","v":0},{"$f":"IF(AND($A40=$F$3,$B40=$F$5),H40,0)","v":0},{"$f":"IF(AND($A40=$F$3,$B40=$F$5),I40,0)","v":0}]
[{"$f":"Costs!B53","v":"ROAK"},{"$f":"Costs!C53","v":1.5},{"$f":"Costs!D53","v":1080},{"$f":"Costs!E53","v":975},{"$f":"Costs!F53","v":750},{"$f":"Costs!G53","v":690},{"$f":"Costs!H53","v":630},{"$f":"Costs!I53","v":532},{"$f":"Costs!J53","v":487},0,0,0,0,0,0,0,0,0,0,0,0,0,0]
[{"$f":"Costs!B54","v":"ROAK"},{"$f":"Costs!C54","v":1.75},{"$f":"Costs!D54","v":1260},{"$f":"Costs!E54","v":1137},{"$f":"Costs!F54","v":875},{"$f":"Costs!G54","v":805},{"$f":"Costs!H54","v":735},{"$f":"Costs!I54","v":621},{"$f":"Costs!J54","v":568},0,0,0,0,0,0,0,0,0,0,0,0,0,0]
[{"$f":"Costs!B55","v":"ROAK"},{"$f":"Costs!C55","v":2},{"$f":"Costs!D55","v":1440},{"$f":"Costs!E55","v":1300},{"$f":"Costs!F55","v":1000},{"$f":"Costs!G55","v":920},{"$f":"Costs!H55","v":840},{"$f":"Costs!I55","v":710},{"$f":"Costs!J55","v":650},0,0,0,0,0,0,0,0,0,0,0,0,0,0]
[{"$f":"Costs!B56","v":"WOAK"},{"$f":"Costs!C56","v":1},{"$f":"Costs!D56","v":1465},{"$f":"Costs!E56","v":1400},{"$f":"Costs!F56","v":750},{"$f":"Costs!G56","v":675},{"$f":"Costs!H56","v":480},{"$f":"Costs!I56","v":420},{"$f":"Costs!J56","v":400},0,0,0,0,0,0,0,0,0,0,0,0,0,0]
[{"$f":"Costs!B57","v":"WOAK"},{"$f":"Costs!C57","v":1.25},{"$f":"Costs!D57","v":1831},{"$f":"Costs!E57","v":1750},{"$f":"Costs!F57","v":937},{"$f":"Costs!G57","v":843},{"$f":"Costs!H57","v":600},{"$f":"Costs!I57","v":525},{"$f":"Costs!J57","v":500},0,0,0,0,0,0,0,0,0,0,0,0,0,0]
[{"$f":"Costs!B58","v":"WOAK"},{"$f":"Costs!C58","v":1.5},{"$f":"Costs!D58","v":2197},{"$f":"Costs!E58","v":2100},{"$f":"Costs!F58","v":1125},{"$f":"Costs!G58","v":1012},{"$f":"Costs!H58","v":720},{"$f":"Costs!I58","v":630},{"$f":"Costs!J58","v":600},0,0,0,0,0,0,0,0,0,0,0,0,0,0]
[{"$f":"Costs!B59","v":"WOAK"},{"$f":"Costs!C59","v":1.75},{"$f":"Costs!D59","v":2563},{"$f":"Costs!E59","v":2450},{"$f":"Costs!F59","v":1312},{"$f":"Costs!G59","v":1181},{"$f":"Costs!H59","v":840},{"$f":"Costs!I59","v":735},{"$f":"Costs!J59","v":700},0,0,0,0,0,0,0,0,0,0,0,0,0,0]
[{"$f":"Costs!B60","v":"WOAK"},{"$f":"Costs!C60","v":2},{"$f":"Costs!D60","v":2930},{"$f":"Costs!E60","v":2800},{"$f":"Costs!F60","v":1500},{"$f":"Costs!G60","v":1350},{"$f":"Costs!H60","v":960},{"$f":"Costs!I60","v":840},{"$f":"Costs!J60","v":800},0,0,0,0,0,0,0,0,0,0,0,0,0,0]
[{"$f":"Costs!B61","v":"YPOP"},{"$f":"Costs!C61","v":1},{"$f":"Costs!D61","v":680},{"$f":"Costs!E61","v":710},{"$f":"Costs!F61","v":528},{"$f":"Costs!G61","v":394},{"$f":"Costs!H61","v":316},{"$f":"Costs!I61","v":198},{"$f":"Costs!J61","v":146},0,0,0,0,0,0,0,0,0,0,0,0,0,0]
[{"$f":"Costs!B62","v":"YPOP"},{"$f":"Costs!C62","v":1.25},{"$f":"Costs!D62","v":867},{"$f":"Costs!E62","v":905},{"$f":"Costs!F62","v":673},{"$f":"Costs!G62","v":502},{"$f":"Costs!H62","v":402},{"$f":"Costs!I62","v":252},{"$f":"Costs!J62","v":186},0,0,0,0,0,0,0,0,0,0,0,0,0,0]
[{"$f":"Costs!B63","v":"YPOP"},{"$f":"Costs!C63","v":1.5},{"$f":"Costs!D63","v":1054},{"$f":"Costs!E63","v":1100},{"$f":"Costs!F63","v":818},{"$f":"Costs!G63","v":610},{"$f":"Costs!H63","v":489},{"$f":"Costs!I63","v":306},{"$f":"Costs!J63","v":226},0,0,0,0,0,0,0,0,0,0,0,0,0,0]
[{"$f":"Costs!B64","v":"YPOP"},{"$f":"Costs!C64","v":1.75},{"$f":"Costs!D64","v":1224},{"$f":"Costs!E64","v":1278},{"$f":"Costs!F64","v":950},{"$f":"Costs!G64","v":709},{"$f":"Costs!H64","v":568},{"$f":"Costs!I64","v":356},{"$f":"Costs!J64","v":262},0,0,0,0,0,0,0,0,0,0,0,0,0,0]
[{"$f":"Costs!B65","v":"YPOP"},{"$f":"Costs!C65","v":2},{"$f":"Costs!D65","v":1411},{"$f":"Costs!E65","v":1473},{"$f":"Costs!F65","v":1095},{"$f":"Costs!G65","v":817},{"$f":"Costs!H65","v":655},{"$f":"Costs!I65","v":410},{"$f":"Costs!J65","v":302},0,0,0,0,0,0,0,0,0,0,0,0,0,0]
[{"$f":"Costs!B66","v":"HMAP"},{"$f":"Costs!C66","v":1},{"$f":"Costs!D66","v":1122},{"$f":"Costs!E66","v":1070},{"$f":"Costs!F66","v":982},{"$f":"Costs!G66","v":832},{"$f":"Costs!H66","v":540},{"$f":"Costs!I66","v":402},{"$f":"Costs!J66","v":322},0,0,0,0,0,0,0,0,0,0,0,0,0,0]
[{"$f":"Costs!B67","v":"HMAP"},{"$f":"Costs!C67","v":1.25},{"$f":"Costs!D67","v":1430},{"$f":"Costs!E67","v":1364},{"$f":"Costs!F67","v":1252},{"$f":"Costs!G67","v":1060},{"$f":"Costs!H67","v":688},{"$f":"Costs!I67","v":512},{"$f":"Costs!J67","v":410},0,0,0,0,0,0,0,0,0,0,0,0,0,0]
[{"$f":"Costs!B68","v":"HMAP"},{"$f":"Costs!C68","v":1.5},{"$f":"Costs!D68","v":1739},{"$f":"Costs!E68","v":1658},{"$f":"Costs!F68","v":1522},{"$f":"Costs!G68","v":1289},{"$f":"Costs!H68","v":837},{"$f":"Costs!I68","v":623},{"$f":"Costs!J68","v":499},0,0,0,0,0,0,0,0,0,0,0,0,0,0]
[{"$f":"Costs!B69","v":"HMAP"},{"$f":"Costs!C69","v":1.75},{"$f":"Costs!D69","v":2019},{"$f":"Costs!E69","v":1926},{"$f":"Costs!F69","v":1767},{"$f":"Costs!G69","v":1497},{"$f":"Costs!H69","v":972},{"$f":"Costs!I69","v":723},{"$f":"Costs!J69","v":579},0,0,0,0,0,0,0,0,0,0,0,0,0,0]
[{"$f":"Costs!B70","v":"HMAP"},{"$f":"Costs!C70","v":2},{"$f":"Costs!D70","v":2328},{"$f":"Costs!E70","v":2220},{"$f":"Costs!F70","v":2037},{"$f":"Costs!G70","v":1726},{"$f":"Costs!H70","v":1120},{"$f":"Costs!I70","v":834},{"$f":"Costs!J70","v":668},0,0,0,0,0,0,0,0,0,0,0,0,0,0]
[{"$f":"Costs!B71","v":"SMAP"},{"$f":"Costs!C71","v":1},{"$f":"Costs!D71","v":1122},{"$f":"Costs!E71","v":1070},{"$f":"Costs!F71","v":982},{"$f":"Costs!G71","v":832},{"$f":"Costs!H71","v":540},{"$f":"Costs!I71","v":402},{"$f":"Costs!J71","v":322},0,0,0,0,0,0,0,0,0,0,0,0,0,0]
[{"$f":"Costs!B72","v":"SMAP"},{"$f":"Costs!C72","v":1.25},{"$f":"Costs!D72","v":1430},{"$f":"Costs!E72","v":1364},{"$f":"Costs!F72","v":1252},{"$f":"Costs!G72","v":1060},{"$f":"Costs!H72","v":688},{"$f":"Costs!I72","v":512},{"$f":"Costs!J72","v":410},0,0,0,0,0,0,0,0,0,0,0,0,0,0]
[{"$f":"Costs!B73","v":"SMAP"},{"$f":"Costs!C73","v":1.5},{"$f":"Costs!D73","v":1739},{"$f":"Costs!E73","v":1658},{"$f":"Costs!F73","v":1522},{"$f":"Costs!G73","v":1289},{"$f":"Costs!H73","v":837},{"$f":"Costs!I73","v":623},{"$f":"Costs!J73","v":499},0,0,0,0,0,0,0,0,0,0,0,0,0,0]
[{"$f":"Costs!B74","v":"SMAP"},{"$f":"Costs!C74","v":1.75},{"$f":"Costs!D74","v":2019},{"$f":"Costs!E74","v":1926},{"$f":"Costs!F74","v":1767},{"$f":"Costs!G74","v":1497},{"$f":"Costs!H74","v":972},{"$f":"Costs!I74","v":723},{"$f":"Costs!J74","v":579},0,0,0,0,0,0,0,0,0,0,0,0,0,0]
[{"$f":"Costs!B75","v":"SMAP"},{"$f":"Costs!C75","v":2},{"$f":"Costs!D75","v":2328},{"$f":"Costs!E75","v":2220},{"$f":"Costs!F75","v":2037},{"$f":"Costs!G75","v":1726},{"$f":"Costs!H75","v":1120},{"$f":"Costs!I75","v":834},{"$f":"Costs!J75","v":668},0,0,0,0,0,0,0,0,0,0,0,0,0,0]
["CHERRY",{"$f":"Costs!C76","v":1},{"$f":"Costs!D76","v":1175},{"$f":"Costs!E76","v":1165},{"$f":"Costs!F76","v":700},{"$f":"Costs!G76","v":650},{"$f":"Costs!H76","v":380},{"$f":"Costs!I76","v":300},{"$f":"Costs!J76","v":225},{"$f":"IF(AND(A64=$B$3,B64=$B$5),C64,0)","v":0},{"$f":"IF(AND($A64=$B$3,$B64=$B$5),D64,0)","v":0},{"$f":"IF(AND($A64=$B$3,$B64=$B$5),E64,0)","v":0},{"$f":"IF(AND($A64=$B$3,$B64=$B$5),F64,0)","v":0},{"$f":"IF(AND($A64=$B$3,$B64=$B$5),G64,0)","v":0},{"$f":"IF(AND($A64=$B$3,$B64=$B$5),H64,0)","v":0},{"$f":"IF(AND($A64=$B$3,$B64=$B$5),I64,0)","v":0},{"$f":"IF(AND($A64=$F$3,$B64=$F$5),C64,0)","v":0},{"$f":"IF(AND($A64=$F$3,$B64=$F$5),D64,0)","v":0},{"$f":"IF(AND($A64=$F$3,$B64=$F$5),E64,0)","v":0},{"$f":"IF(AND($A64=$F$3,$B64=$F$5),F64,0)","v":0},{"$f":"IF(AND($A64=$F$3,$B64=$F$5),G64,0)","v":0},{"$f":"IF(AND($A64=$F$3,$B64=$F$5),H64,0)","v":0},{"$f":"IF(AND($A64=$F$3,$B64=$F$5),I64,0)","v":0}]
["CHERRY",{"$f":"Costs!C77","v":1.25},{"$f":"Costs!D77","v":1498},{"$f":"Costs!E77","v":1485},{"$f":"Costs!F77","v":892},{"$f":"Costs!G77","v":828},{"$f":"Costs!H77","v":484},{"$f":"Costs!I77","v":382},{"$f":"Costs!J77","v":286},0,0,0,0,0,0,0,0,0,0,0,0,0,0]
["CHERRY",{"$f":"Costs!C78","v":1.5},{"$f":"Costs!D78","v":1821},{"$f":"Costs!E78","v":1805},{"$f":"Costs!F78","v":1085},{"$f":"Costs!G78","v":1007},{"$f":"Costs!H78","v":589},{"$f":"Costs!I78","v":465},{"$f":"Costs!J78","v":348},0,0,0,0,0,0,0,0,0,0,0,0,0,0]
["CHERRY",{"$f":"Costs!C79","v":1.75},{"$f":"Costs!D79","v":2115},{"$f":"Costs!E79","v":2097},{"$f":"Costs!F79","v":1260},{"$f":"Costs!G79","v":1170},{"$f":"Costs!H79","v":684},{"$f":"Costs!I79","v":540},{"$f":"Costs!J79","v":405},0,0,0,0,0,0,0,0,0,0,0,0,0,0]
["CHERRY",{"$f":"Costs!C80","v":2},{"$f":"Costs!D80","v":2438},{"$f":"Costs!E80","v":2417},{"$f":"Costs!F80","v":1452},{"$f":"Costs!G80","v":1348},{"$f":"Costs!H80","v":788},{"$f":"Costs!I80","v":622},{"$f":"Costs!J80","v":466},0,0,0,0,0,0,0,0,0,0,0,0,0,0]
["OTHER",{"$f":"Costs!C81","v":1},{"$f":"Costs!D81","v":864},{"$f":"Costs!E81","v":800},{"$f":"Costs!F81","v":662},{"$f":"Costs!G81","v":610},{"$f":"Costs!H81","v":622},{"$f":"Costs!I81","v":508},{"$f":"Costs!J81","v":388},{"$f":"IF(AND(A69=$B$3,B69=$B$5),C69,0)","v":0},{"$f":"IF(AND($A69=$B$3,$B69=$B$5),D69,0)","v":0},0,0,0,0,0,{"$f":"IF(AND($A69=$F$3,$B69=$F$5),C69,0)","v":0},0,0,0,0,0,0]
["OTHER",{"$f":"Costs!C82","v":1.25},{"$f":"Costs!D82","v":1101},{"$f":"Costs!E82","v":1020},{"$f":"Costs!F82","v":844},{"$f":"Costs!G82","v":777},{"$f":"Costs!H82","v":793},{"$f":"Costs!I82","v":647},{"$f":"Costs!J82","v":494},{"$f":"IF(AND(A70=$B$3,B70=$B$5),C70,0)","v":0},0,0,0,0,0,0,0,0,0,0,0,0,0]
["OTHER",{"$f":"Costs!C83","v":1.5},{"$f":"Costs!D83","v":1339},{"$f":"Costs!E83","v":1240},{"$f":"Costs!F83","v":1026},{"$f":"Costs!G83","v":945},{"$f":"Costs!H83","v":964},{"$f":"Costs!I83","v":787},{"$f":"Costs!J83","v":601},{"$f":"IF(AND(A71=$B$3,B71=$B$5),C71,0)","v":0},0,0,0,0,0,0,0,0,0,0,0,0,0]
["OTHER",{"$f":"Costs!C84","v":1.75},{"$f":"Costs!D84","v":1555},{"$f":"Costs!E84","v":1440},{"$f":"Costs!F84","v":1191},{"$f":"Costs!G84","v":1098},{"$f":"Costs!H84","v":1119},{"$f":"Costs!I84","v":914},{"$f":"Costs!J84","v":698},{"$f":"IF(AND(A72=$B$3,B72=$B$5),C72,0)","v":0},0,0,0,0,0,0,0,0,0,0,0,0,0]
["OTHER",{"$f":"Costs!C85","v":2},{"$f":"Costs!D85","v":1792},{"$f":"Costs!E85","v":1660},{"$f":"Costs!F85","v":1373},{"$f":"Costs!G85","v":1265},{"$f":"Costs!H85","v":1290},{"$f":"Costs!I85","v":1054},{"$f":"Costs!J85","v":805},{"$f":"IF(AND(A73=$B$3,B73=$B$5),C73,0)","v":0},0,0,0,0,0,0,0,0,0,0,0,0,0]

{"sheet":"Width_Distribution","index":12,"n_rows":63,"n_cols":11,"rows_kept":63,"cut":false,"hidden":true,"merged":[[0,0,0,3],[0,4,0,5],[1,9,1,10]]}
["- - - - - - Slab - - - - - -",null,null,null,"- - - - - Grade - - - - -",null,"Active"]
["Split Taper","Split Taper","Split Taper","Full","Split","Full","Sawing ",null,null,"Distribution"]
["Min Open (1)","Cheek Cut (2)","Standard (3)","Taper","Taper","Taper","Solution","Min ","Max","Range","Count"]
[{"$f":"InteractiveProcess!B26","v":12.428289851286362},{"$f":"InteractiveProcess!B120","v":8.0965990115476156},{"$f":"InteractiveProcess!B163","v":18.05372645477868},{"$f":"InteractiveProcess!B256","v":18.05372645477868},{"$f":"InteractiveProcess!B361","v":14.361184767198385},{"$f":"InteractiveProcess!B471","v":6},{"$f":"IF(AND(InteractiveProcess!B$20=\"GRADE\",InteractiveProcess!B$17=\"SPLIT\"), Width_Distribution!E4,IF(AND(InteractiveProcess!B$20=\"GRADE\",InteractiveProcess!B$17=\"FULL\"), Width_Distribution!F4, IF(AND(OR(InteractiveProcess!B$20=\"SLAB\", InteractiveProcess!B$20=\"LIVE\"),InteractiveProcess!F$244=1), Width_Distribution!A4,IF(AND(OR(InteractiveProcess!B$20=\"SLAB\", InteractiveProcess!B$20=\"LIVE\"),InteractiveProcess!F$244=2), Width_Distribution!B4,IF(AND(OR(InteractiveProcess!$B20=\"SLAB\", InteractiveProcess!B$20=\"LIVE\"),InteractiveProcess!F$244=3), Width_Distribution!C4, Width_Distribution!D4)))))","v":14.361184767198385},0.1,4,"< 4",{"$f":"COUNTIFS(G$4:G$63,\">=\"&H4, G$4:G$63,\"<\"&I4)","v":0}]
[{"$f":"InteractiveProcess!B25","v":8.0965990115476156},{"$f":"InteractiveProcess!B121","v":8.0965990115476156},{"$f":"InteractiveProcess!B186","v":0},{"$f":"InteractiveProcess!B279","v":0},{"$f":"InteractiveProcess!B370","v":14.361184767198385},{"$f":"InteractiveProcess!B472","v":11.359981225600412},{"$f":"IF(AND(InteractiveProcess!B$20=\"GRADE\",InteractiveProcess!B$17=\"SPLIT\"), Width_Distribution!E5,IF(AND(InteractiveProcess!B$20=\"GRADE\",InteractiveProcess!B$17=\"FULL\"), Width_Distribution!F5, IF(AND(OR(InteractiveProcess!B$20=\"SLAB\", InteractiveProcess!B$20=\"LIVE\"),InteractiveProcess!F$244=1), Width_Distribution!A5,IF(AND(OR(InteractiveProcess!B$20=\"SLAB\", InteractiveProcess!B$20=\"LIVE\"),InteractiveProcess!F$244=2), Width_Distribution!B5,IF(AND(OR(InteractiveProcess!$B21=\"SLAB\", InteractiveProcess!B$20=\"LIVE\"),InteractiveProcess!F$244=3), Width_Distribution!C5, Width_Distribution!D5)))))","v":14.361184767198385},4,5,"4<= wid <5",{"$f":"COUNTIFS(G$4:G$63,\">=\"&H5, G$4:G$63,\"<\"&I5)","v":0}]
[{"$f":"InteractiveProcess!B56","v":8.0965990115476156},{"$f":"InteractiveProcess!B122","v":8.0965990115476156},{"$f":"InteractiveProcess!B162","v":16.553479782147971},{"$f":"InteractiveProcess!B255","v":16.553479782147971},{"$f":"InteractiveProcess!B379","v":14.361184767198385},{"$f":"InteractiveProcess!B473","v":0},{"$f":"IF(AND(InteractiveProcess!B$20=\"GRADE\",InteractiveProcess!B$17=\"SPLIT\"), Width_Distribution!E6,IF(AND(InteractiveProcess!B$20=\"GRADE\",InteractiveProcess!B$17=\"FULL\"), Width_Distribution!F6, IF(AND(OR(InteractiveProcess!B$20=\"SLAB\", InteractiveProcess!B$20=\"LIVE\"),InteractiveProcess!F$244=1), Width_Distribution!A6,IF(AND(OR(InteractiveProcess!B$20=\"SLAB\", InteractiveProcess!B$20=\"LIVE\"),InteractiveProcess!F$244=2), Width_Distribution!B6,IF(AND(OR(InteractiveProcess!$B22=\"SLAB\", InteractiveProcess!B$20=\"LIVE\"),InteractiveProcess!F$244=3), Width_Distribution!C6, Width_Distribution!D6)))))","v":14.361184767198385},5,6,"5<= wid <6",0]
[{"$f":"InteractiveProcess!B69","v":6},{"$f":"InteractiveProcess!B123","v":8.0965990115476156},{"$f":"InteractiveProcess!B187","v":16.553479782147971},{"$f":"InteractiveProcess!B280","v":16.553479782147971},{"$f":"InteractiveProcess!B387","v":13.051439797149531},{"$f":"InteractiveProcess!B474","v":0},{"$f":"IF(AND(InteractiveProcess!B$20=\"GRADE\",InteractiveProcess!B$17=\"SPLIT\"), Width_Distribution!E7,IF(AND(InteractiveProcess!B$20=\"GRADE\",InteractiveProcess!B$17=\"FULL\"), Width_Distribution!F7, IF(AND(OR(InteractiveProcess!B$20=\"SLAB\", InteractiveProcess!B$20=\"LIVE\"),InteractiveProcess!F$244=1), Width_Distribution!A7,IF(AND(OR(InteractiveProcess!B$20=\"SLAB\", InteractiveProcess!B$20=\"LIVE\"),InteractiveProcess!F$244=2), Width_Distribution!B7,IF(AND(OR(InteractiveProcess!$B23=\"SLAB\", InteractiveProcess!B$20=\"LIVE\"),InteractiveProcess!F$244=3), Width_Distribution!C7, Width_Distribution!D7)))))","v":13.051439797149531},6,7,"6<= wid <7",9]
[{"$f":"InteractiveProcess!B70","v":6},{"$f":"InteractiveProcess!B124","v":8.0965990115476156},{"$f":"InteractiveProcess!B161","v":14.435664321810332},{"$f":"InteractiveProcess!B254","v":14.435664321810332},{"$f":"InteractiveProcess!B388","v":11.74233979714953},{"$f":"InteractiveProcess!B480","v":6},{"$f":"IF(AND(InteractiveProcess!B$20=\"GRADE\",InteractiveProcess!B$17=\"SPLIT\"), Width_Distribution!E8,IF(AND(InteractiveProcess!B$20=\"GRADE\",InteractiveProcess!B$17=\"FULL\"), Width_Distribution!F8, IF(AND(OR(InteractiveProcess!B$20=\"SLAB\", InteractiveProcess!B$20=\"LIVE\"),InteractiveProcess!F$244=1), Width_Distribution!A8,IF(AND(OR(InteractiveProcess!B$20=\"SLAB\", InteractiveProcess!B$20=\"LIVE\"),InteractiveProcess!F$244=2), Width_Distribution!B8,IF(AND(OR(InteractiveProcess!$B24=\"SLAB\", InteractiveProcess!B$20=\"LIVE\"),InteractiveProcess!F$244=3), Width_Distribution!C8, Width_Distribution!D8)))))","v":11.74233979714953},7,8,"7<= wid <8",2]
[{"$f":"InteractiveProcess!B97","v":6},{"$f":"InteractiveProcess!B144","v":8.0965990115476156},{"$f":"InteractiveProcess!B188","v":14.435664321810332},{"$f":"InteractiveProcess!B281","v":14.435664321810332},{"$f":"InteractiveProcess!B389","v":11.74233979714953},{"$f":"InteractiveProcess!B481","v":11.359981225600412},{"$f":"IF(AND(InteractiveProcess!B$20=\"GRADE\",InteractiveProcess!B$17=\"SPLIT\"), Width_Distribution!E9,IF(AND(InteractiveProcess!B$20=\"GRADE\",InteractiveProcess!B$17=\"FULL\"), Width_Distribution!F9, IF(AND(OR(InteractiveProcess!B$20=\"SLAB\", InteractiveProcess!B$20=\"LIVE\"),InteractiveProcess!F$244=1), Width_Distribution!A9,IF(AND(OR(InteractiveProcess!B$20=\"SLAB\", InteractiveProcess!B$20=\"LIVE\"),InteractiveProcess!F$244=2), Width_Distribution!B9,IF(AND(OR(InteractiveProcess!$B25=\"SLAB\", InteractiveProcess!B$20=\"LIVE\"),InteractiveProcess!F$244=3), Width_Distribution!C9, Width_Distribution!D9)))))","v":11.74233979714953},8,9,"8<= wid <9",4]
[{"$f":"InteractiveProcess!B98","v":6},{"$f":"InteractiveProcess!B145","v":8.0965990115476156},{"$f":"InteractiveProcess!B160","v":11.359981225600412},{"$f":"InteractiveProcess!B253","v":11.359981225600412},{"$f":"InteractiveProcess!B351","v":8.0965990115476156},{"$f":"InteractiveProcess!B482","v":0},{"$f":"IF(AND(InteractiveProcess!B$20=\"GRADE\",InteractiveProcess!B$17=\"SPLIT\"), Width_Distribution!E10,IF(AND(InteractiveProcess!B$20=\"GRADE\",InteractiveProcess!B$17=\"FULL\"), Width_Distribution!F10, IF(AND(OR(InteractiveProcess!B$20=\"SLAB\", InteractiveProcess!B$20=\"LIVE\"),InteractiveProcess!F$244=1), Width_Distribution!A10,IF(AND(OR(InteractiveProcess!B$20=\"SLAB\", InteractiveProcess!B$20=\"LIVE\"),InteractiveProcess!F$244=2), Width_Distribution!B10,IF(AND(OR(InteractiveProcess!$B26=\"SLAB\", InteractiveProcess!B$20=\"LIVE\"),InteractiveProcess!F$244=3), Width_Distribution!C10, Width_Distribution!D10)))))","v":8.0965990115476156},9,10,"9<= wid <10",2]
[{"$f":"InteractiveProcess!J26","v":5.9999999999999956},{"$f":"InteractiveProcess!B146","v":8.0965990115476156},{"$f":"InteractiveProcess!B189","v":11.359981225600412},{"$f":"InteractiveProcess!B282","v":11.359981225600412},{"$f":"InteractiveProcess!B360","v":8.0965990115476156},{"$f":"InteractiveProcess!B483","v":0},{"$f":"IF(AND(InteractiveProcess!B$20=\"GRADE\",InteractiveProcess!B$17=\"SPLIT\"), Width_Distribution!E11,IF(AND(InteractiveProcess!B$20=\"GRADE\",InteractiveProcess!B$17=\"FULL\"), Width_Distribution!F11, IF(AND(OR(InteractiveProcess!B$20=\"SLAB\", InteractiveProcess!B$20=\"LIVE\"),InteractiveProcess!F$244=1), Width_Distribution!A11,IF(AND(OR(InteractiveProcess!B$20=\"SLAB\", InteractiveProcess!B$20=\"LIVE\"),InteractiveProcess!F$244=2), Width_Distribution!B11,IF(AND(OR(InteractiveProcess!$B27=\"SLAB\", InteractiveProcess!B$20=\"LIVE\"),InteractiveProcess!F$244=3), Width_Distribution!C11, Width_Distribution!D11)))))","v":8.0965990115476156},10,11,"10<= wid <11",2]
[{"$f":"InteractiveProcess!J26","v":5.9999999999999956},{"$f":"InteractiveProcess!B147","v":8.0965990115476156},{"$f":"InteractiveProcess!B159","v":6},{"$f":"InteractiveProcess!C296","v":8},{"$f":"InteractiveProcess!B369","v":8.0965990115476156},{"$f":"InteractiveProcess!B489","v":6},{"$f":"IF(AND(InteractiveProcess!B$20=\"GRADE\",InteractiveProcess!B$17=\"SPLIT\"), Width_Distribution!E12,IF(AND(InteractiveProcess!B$20=\"GRADE\",InteractiveProcess!B$17=\"FULL\"), Width_Distribution!F12, IF(AND(OR(InteractiveProcess!B$20=\"SLAB\", InteractiveProcess!B$20=\"LIVE\"),InteractiveProcess!F$244=1), Width_Distribution!A12,IF(AND(OR(InteractiveProcess!B$20=\"SLAB\", InteractiveProcess!B$20=\"LIVE\"),InteractiveProcess!F$244=2), Width_Distribution!B12,IF(AND(OR(InteractiveProcess!$B28=\"SLAB\", InteractiveProcess!B$20=\"LIVE\"),InteractiveProcess!F$244=3), Width_Distribution!C12, Width_Distribution!D12)))))","v":8.0965990115476156},11,12,"11<= wid <12",2]
[{"$f":"IF(InteractiveProcess!B20=\"LIVE\", 0,InteractiveProcess!J44)","v":5.9999999999999956},{"$f":"InteractiveProcess!B111","v":5.9999999999999956},{"$f":"InteractiveProcess!B190","v":6},{"$f":"InteractiveProcess!C297","v":8},{"$f":"InteractiveProcess!B378","v":8.0965990115476156},{"$f":"InteractiveProcess!B490","v":11.359981225600412},{"$f":"IF(AND(InteractiveProcess!B$20=\"GRADE\",InteractiveProcess!B$17=\"SPLIT\"), Width_Distribution!E13,IF(AND(InteractiveProcess!B$20=\"GRADE\",InteractiveProcess!B$17=\"FULL\"), Width_Distribution!F13, IF(AND(OR(InteractiveProcess!B$20=\"SLAB\", InteractiveProcess!B$20=\"LIVE\"),InteractiveProcess!F$244=1), Width_Distribution!A13,IF(AND(OR(InteractiveProcess!B$20=\"SLAB\", InteractiveProcess!B$20=\"LIVE\"),InteractiveProcess!F$244=2), Width_Distribution!B13,IF(AND(OR(InteractiveProcess!$B29=\"SLAB\", InteractiveProcess!B$20=\"LIVE\"),InteractiveProcess!F$244=3), Width_Distribution!C13, Width_Distribution!D13)))))","v":8.0965990115476156},12,13,"12<= wid <13",0]
[{"$f":"IF(InteractiveProcess!B20=\"LIVE\",0,InteractiveProcess!J44)","v":5.9999999999999956},{"$f":"InteractiveProcess!B113","v":5.9999999999999956},{"$f":"InteractiveProcess!B203","v":6},{"$f":"InteractiveProcess!C298","v":8},{"$f":"InteractiveProcess!B390","v":10.433239797149529},{"$f":"InteractiveProcess!B491","v":0},{"$f":"IF(AND(InteractiveProcess!B$20=\"GRADE\",InteractiveProcess!B$17=\"SPLIT\"), Width_Distribution!E14,IF(AND(InteractiveProcess!B$20=\"GRADE\",InteractiveProcess!B$17=\"FULL\"), Width_Distribution!F14, IF(AND(OR(InteractiveProcess!B$20=\"SLAB\", InteractiveProcess!B$20=\"LIVE\"),InteractiveProcess!F$244=1), Width_Distribution!A14,IF(AND(OR(InteractiveProcess!B$20=\"SLAB\", InteractiveProcess!B$20=\"LIVE\"),InteractiveProcess!F$244=2), Width_Distribution!B14,IF(AND(OR(InteractiveProcess!$B30=\"SLAB\", InteractiveProcess!B$20=\"LIVE\"),InteractiveProcess!F$244=3), Width_Distribution!C14, Width_Distribution!D14)))))","v":10.433239797149529},13,14,"13<= wid <14",1]
[{"$f":"InteractiveProcess!B27","v":15.154534609198047},{"$f":"InteractiveProcess!B119","v":5.9999999999999956},{"$f":"InteractiveProcess!B204","v":6},{"$f":"InteractiveProcess!C299","v":8},{"$f":"InteractiveProcess!B394","v":10.433239797149529},{"$f":"InteractiveProcess!B492","v":0},{"$f":"IF(AND(InteractiveProcess!B$20=\"GRADE\",InteractiveProcess!B$17=\"SPLIT\"), Width_Distribution!E15,IF(AND(InteractiveProcess!B$20=\"GRADE\",InteractiveProcess!B$17=\"FULL\"), Width_Distribution!F15, IF(AND(OR(InteractiveProcess!B$20=\"SLAB\", InteractiveProcess!B$20=\"LIVE\"),InteractiveProcess!F$244=1), Width_Distribution!A15,IF(AND(OR(InteractiveProcess!B$20=\"SLAB\", InteractiveProcess!B$20=\"LIVE\"),InteractiveProcess!F$244=2), Width_Distribution!B15,IF(AND(OR(InteractiveProcess!$B31=\"SLAB\", InteractiveProcess!B$20=\"LIVE\"),InteractiveProcess!F$244=3), Width_Distribution!C15, Width_Distribution!D15)))))","v":10.433239797149529},14,15,"14<= wid <15",4]
[{"$f":"InteractiveProcess!B28","v":17.063045078038538},{"$f":"InteractiveProcess!B148","v":5.9999999999999956},{"$f":"InteractiveProcess!B205","v":6},{"$f":"InteractiveProcess!C300","v":8},{"$f":"InteractiveProcess!B395","v":9.1241397971495282},{"$f":"InteractiveProcess!B498","v":6},{"$f":"IF(AND(InteractiveProcess!B$20=\"GRADE\",InteractiveProcess!B$17=\"SPLIT\"), Width_Distribution!E16,IF(AND(InteractiveProcess!B$20=\"GRADE\",InteractiveProcess!B$17=\"FULL\"), Width_Distribution!F16, IF(AND(OR(InteractiveProcess!B$20=\"SLAB\", InteractiveProcess!B$20=\"LIVE\"),InteractiveProcess!F$244=1), Width_Distribution!A16,IF(AND(OR(InteractiveProcess!B$20=\"SLAB\", InteractiveProcess!B$20=\"LIVE\"),InteractiveProcess!F$244=2), Width_Distribution!B16,IF(AND(OR(InteractiveProcess!$B32=\"SLAB\", InteractiveProcess!B$20=\"LIVE\"),InteractiveProcess!F$244=3), Width_Distribution!C16, Width_Distribution!D16)))))","v":9.1241397971495282},15,16,"15<= wid <16",0]
[{"$f":"InteractiveProcess!B29","v":18.409919960960423},{"$f":"InteractiveProcess!B125","v":8.0965990115476156},{"$f":"InteractiveProcess!B206","v":6},{"$f":"InteractiveProcess!B321","v":6},{"$f":"InteractiveProcess!B396","v":9.1241397971495282},{"$f":"InteractiveProcess!B499","v":11.359981225600412},{"$f":"IF(AND(InteractiveProcess!B$20=\"GRADE\",InteractiveProcess!B$17=\"SPLIT\"), Width_Distribution!E17,IF(AND(InteractiveProcess!B$20=\"GRADE\",InteractiveProcess!B$17=\"FULL\"), Width_Distribution!F17, IF(AND(OR(InteractiveProcess!B$20=\"SLAB\", InteractiveProcess!B$20=\"LIVE\"),InteractiveProcess!F$244=1), Width_Distribution!A17,IF(AND(OR(InteractiveProcess!B$20=\"SLAB\", InteractiveProcess!B$20=\"LIVE\"),InteractiveProcess!F$244=2), Width_Distribution!B17,IF(AND(OR(InteractiveProcess!$B33=\"SLAB\", InteractiveProcess!B$20=\"LIVE\"),InteractiveProcess!F$244=3), Width_Distribution!C17, Width_Distribution!D17)))))","v":9.1241397971495282},16,17,"16<= wid <17",0]
[{"$f":"InteractiveProcess!B30","v":0},{"$f":"InteractiveProcess!B126","v":0},{"$f":"InteractiveProcess!B207","v":6},{"$f":"InteractiveProcess!B322","v":6},{"$f":"InteractiveProcess!B397","v":7.8150397971495282},{"$f":"InteractiveProcess!B500","v":0},{"$f":"IF(AND(InteractiveProcess!B$20=\"GRADE\",InteractiveProcess!B$17=\"SPLIT\"), Width_Distribution!E18,IF(AND(InteractiveProcess!B$20=\"GRADE\",InteractiveProcess!B$17=\"FULL\"), Width_Distribution!F18, IF(AND(OR(InteractiveProcess!B$20=\"SLAB\", InteractiveProcess!B$20=\"LIVE\"),InteractiveProcess!F$244=1), Width_Distribution!A18,IF(AND(OR(InteractiveProcess!B$20=\"SLAB\", InteractiveProcess!B$20=\"LIVE\"),InteractiveProcess!F$244=2), Width_Distribution!B18,IF(AND(OR(InteractiveProcess!$B34=\"SLAB\", InteractiveProcess!B$20=\"LIVE\"),InteractiveProcess!F$244=3), Width_Distribution!C18, Width_Distribution!D18)))))","v":7.8150397971495282},17,18,"17<= wid <18",0]
[{"$f":"InteractiveProcess!B31","v":0},{"$f":"InteractiveProcess!B127","v":0},{"$f":"InteractiveProcess!B228","v":6},{"$f":"InteractiveProcess!B323","v":6},{"$f":"InteractiveProcess!B402","v":6.5059397971495283},{"$f":"InteractiveProcess!B501","v":0},{"$f":"IF(AND(InteractiveProcess!B$20=\"GRADE\",InteractiveProcess!B$17=\"SPLIT\"), Width_Distribution!E19,IF(AND(InteractiveProcess!B$20=\"GRADE\",InteractiveProcess!B$17=\"FULL\"), Width_Distribution!F19, IF(AND(OR(InteractiveProcess!B$20=\"SLAB\", InteractiveProcess!B$20=\"LIVE\"),InteractiveProcess!F$244=1), Width_Distribution!A19,IF(AND(OR(InteractiveProcess!B$20=\"SLAB\", InteractiveProcess!B$20=\"LIVE\"),InteractiveProcess!F$244=2), Width_Distribution!B19,IF(AND(OR(InteractiveProcess!$B35=\"SLAB\", InteractiveProcess!B$20=\"LIVE\"),InteractiveProcess!F$244=3), Width_Distribution!C19, Width_Distribution!D19)))))","v":6.5059397971495283},18,30,"18<= wid <30",0]
[{"$f":"InteractiveProcess!B32","v":0},{"$f":"InteractiveProcess!B128","v":0},{"$f":"InteractiveProcess!B229","v":6},{"$f":"InteractiveProcess!B324","v":6},{"$f":"InteractiveProcess!B350","v":5.9999999999999956},{"$f":"InteractiveProcess!B508","v":13.051439797149531},{"$f":"IF(AND(InteractiveProcess!B$20=\"GRADE\",InteractiveProcess!B$17=\"SPLIT\"), Width_Distribution!E20,IF(AND(InteractiveProcess!B$20=\"GRADE\",InteractiveProcess!B$17=\"FULL\"), Width_Distribution!F20, IF(AND(OR(InteractiveProcess!B$20=\"SLAB\", InteractiveProcess!B$20=\"LIVE\"),InteractiveProcess!F$244=1), Width_Distribution!A20,IF(AND(OR(InteractiveProcess!B$20=\"SLAB\", InteractiveProcess!B$20=\"LIVE\"),InteractiveProcess!F$244=2), Width_Distribution!B20,IF(AND(OR(InteractiveProcess!$B36=\"SLAB\", InteractiveProcess!B$20=\"LIVE\"),InteractiveProcess!F$244=3), Width_Distribution!C20, Width_Distribution!D20)))))","v":5.9999999999999956}]
[{"$f":"InteractiveProcess!B33","v":0},{"$f":"InteractiveProcess!B129","v":0},{"$f":"InteractiveProcess!B230","v":6},{"$f":"InteractiveProcess!B325","v":6},{"$f":"InteractiveProcess!B359","v":5.9999999999999956},{"$f":"InteractiveProcess!B509","v":12.533284028338915},{"$f":"IF(AND(InteractiveProcess!B$20=\"GRADE\",InteractiveProcess!B$17=\"SPLIT\"), Width_Distribution!E21,IF(AND(InteractiveProcess!B$20=\"GRADE\",InteractiveProcess!B$17=\"FULL\"), Width_Distribution!F21, IF(AND(OR(InteractiveProcess!B$20=\"SLAB\", InteractiveProcess!B$20=\"LIVE\"),InteractiveProcess!F$244=1), Width_Distribution!A21,IF(AND(OR(InteractiveProcess!B$20=\"SLAB\", InteractiveProcess!B$20=\"LIVE\"),InteractiveProcess!F$244=2), Width_Distribution!B21,IF(AND(OR(InteractiveProcess!$B37=\"SLAB\", InteractiveProcess!B$20=\"LIVE\"),InteractiveProcess!F$244=3), Width_Distribution!C21, Width_Distribution!D21)))))","v":5.9999999999999956}]
[{"$f":"InteractiveProcess!B34","v":0},{"$f":"InteractiveProcess!B130","v":0},{"$f":"InteractiveProcess!B231","v":6},{"$f":"InteractiveProcess!B252","v":6},{"$f":"InteractiveProcess!B368","v":5.9999999999999956},{"$f":"InteractiveProcess!B510","v":12.533284028338915},{"$f":"IF(AND(InteractiveProcess!B$20=\"GRADE\",InteractiveProcess!B$17=\"SPLIT\"), Width_Distribution!E22,IF(AND(InteractiveProcess!B$20=\"GRADE\",InteractiveProcess!B$17=\"FULL\"), Width_Distribution!F22, IF(AND(OR(InteractiveProcess!B$20=\"SLAB\", InteractiveProcess!B$20=\"LIVE\"),InteractiveProcess!F$244=1), Width_Distribution!A22,IF(AND(OR(InteractiveProcess!B$20=\"SLAB\", InteractiveProcess!B$20=\"LIVE\"),InteractiveProcess!F$244=2), Width_Distribution!B22,IF(AND(OR(InteractiveProcess!$B38=\"SLAB\", InteractiveProcess!B$20=\"LIVE\"),InteractiveProcess!F$244=3), Width_Distribution!C22, Width_Distribution!D22)))))","v":5.9999999999999956}]
[{"$f":"InteractiveProcess!B35","v":0},{"$f":"InteractiveProcess!B131","v":0},{"$f":"InteractiveProcess!B232","v":6},{"$f":"InteractiveProcess!B283","v":6},{"$f":"InteractiveProcess!B377","v":5.9999999999999956},{"$f":"InteractiveProcess!B511","v":11.224184028338914},{"$f":"IF(AND(InteractiveProcess!B$20=\"GRADE\",InteractiveProcess!B$17=\"SPLIT\"), Width_Distribution!E23,IF(AND(InteractiveProcess!B$20=\"GRADE\",InteractiveProcess!B$17=\"FULL\"), Width_Distribution!F23, IF(AND(OR(InteractiveProcess!B$20=\"SLAB\", InteractiveProcess!B$20=\"LIVE\"),InteractiveProcess!F$244=1), Width_Distribution!A23,IF(AND(OR(InteractiveProcess!B$20=\"SLAB\", InteractiveProcess!B$20=\"LIVE\"),InteractiveProcess!F$244=2), Width_Distribution!B23,IF(AND(OR(InteractiveProcess!$B39=\"SLAB\", InteractiveProcess!B$20=\"LIVE\"),InteractiveProcess!F$244=3), Width_Distribution!C23, Width_Distribution!D23)))))","v":5.9999999999999956}]
[{"$f":"InteractiveProcess!B36","v":0},{"$f":"InteractiveProcess!B132","v":0},{"$f":"InteractiveProcess!B164","v":0},{"$f":"InteractiveProcess!B257","v":0},{"$f":"InteractiveProcess!B352","v":14.361184767198385},{"$f":"InteractiveProcess!B515","v":11.224184028338914},{"$f":"IF(AND(InteractiveProcess!B$20=\"GRADE\",InteractiveProcess!B$17=\"SPLIT\"), Width_Distribution!E24,IF(AND(InteractiveProcess!B$20=\"GRADE\",InteractiveProcess!B$17=\"FULL\"), Width_Distribution!F24, IF(AND(OR(InteractiveProcess!B$20=\"SLAB\", InteractiveProcess!B$20=\"LIVE\"),InteractiveProcess!F$244=1), Width_Distribution!A24,IF(AND(OR(InteractiveProcess!B$20=\"SLAB\", InteractiveProcess!B$20=\"LIVE\"),InteractiveProcess!F$244=2), Width_Distribution!B24,IF(AND(OR(InteractiveProcess!$B40=\"SLAB\", InteractiveProcess!B$20=\"LIVE\"),InteractiveProcess!F$244=3), Width_Distribution!C24, Width_Distribution!D24)))))","v":14.361184767198385}]
[{"$f":"InteractiveProcess!B37","v":0},{"$f":"InteractiveProcess!B135","v":0},{"$f":"InteractiveProcess!B165","v":0},{"$f":"InteractiveProcess!B258","v":0},{"$f":"InteractiveProcess!B353","v":0},{"$f":"InteractiveProcess!B516","v":9.9150840283389137},{"$f":"IF(AND(InteractiveProcess!B$20=\"GRADE\",InteractiveProcess!B$17=\"SPLIT\"), Width_Distribution!E25,IF(AND(InteractiveProcess!B$20=\"GRADE\",InteractiveProcess!B$17=\"FULL\"), Width_Distribution!F25, IF(AND(OR(InteractiveProcess!B$20=\"SLAB\", InteractiveProcess!B$20=\"LIVE\"),InteractiveProcess!F$244=1), Width_Distribution!A25,IF(AND(OR(InteractiveProcess!B$20=\"SLAB\", InteractiveProcess!B$20=\"LIVE\"),InteractiveProcess!F$244=2), Width_Distribution!B25,IF(AND(OR(InteractiveProcess!$B41=\"SLAB\", InteractiveProcess!B$20=\"LIVE\"),InteractiveProcess!F$244=3), Width_Distribution!C25, Width_Distribution!D25)))))","v":0}]
[{"$f":"InteractiveProcess!B38","v":0},{"$f":"InteractiveProcess!B136","v":0},{"$f":"InteractiveProcess!B166","v":0},{"$f":"InteractiveProcess!B259","v":0},{"$f":"InteractiveProcess!B362","v":0},{"$f":"InteractiveProcess!B517","v":9.9150840283389137},{"$f":"IF(AND(InteractiveProcess!B$20=\"GRADE\",InteractiveProcess!B$17=\"SPLIT\"), Width_Distribution!E26,IF(AND(InteractiveProcess!B$20=\"GRADE\",InteractiveProcess!B$17=\"FULL\"), Width_Distribution!F26, IF(AND(OR(InteractiveProcess!B$20=\"SLAB\", InteractiveProcess!B$20=\"LIVE\"),InteractiveProcess!F$244=1), Width_Distribution!A26,IF(AND(OR(InteractiveProcess!B$20=\"SLAB\", InteractiveProcess!B$20=\"LIVE\"),InteractiveProcess!F$244=2), Width_Distribution!B26,IF(AND(OR(InteractiveProcess!$B42=\"SLAB\", InteractiveProcess!B$20=\"LIVE\"),InteractiveProcess!F$244=3), Width_Distribution!C26, Width_Distribution!D26)))))","v":0}]
[{"$f":"InteractiveProcess!B43","v":0},{"$f":"InteractiveProcess!B137","v":0},{"$f":"InteractiveProcess!B167","v":0},{"$f":"InteractiveProcess!B260","v":0},{"$f":"InteractiveProcess!B371","v":0},{"$f":"InteractiveProcess!B518","v":8.6059840283389129},{"$f":"IF(AND(InteractiveProcess!B$20=\"GRADE\",InteractiveProcess!B$17=\"SPLIT\"), Width_Distribution!E27,IF(AND(InteractiveProcess!B$20=\"GRADE\",InteractiveProcess!B$17=\"FULL\"), Width_Distribution!F27, IF(AND(OR(InteractiveProcess!B$20=\"SLAB\", InteractiveProcess!B$20=\"LIVE\"),InteractiveProcess!F$244=1), Width_Distribution!A27,IF(AND(OR(InteractiveProcess!B$20=\"SLAB\", InteractiveProcess!B$20=\"LIVE\"),InteractiveProcess!F$244=2), Width_Distribution!B27,IF(AND(OR(InteractiveProcess!$B43=\"SLAB\", InteractiveProcess!B$20=\"LIVE\"),InteractiveProcess!F$244=3), Width_Distribution!C27, Width_Distribution!D27)))))","v":0}]
[{"$f":"InteractiveProcess!B44","v":0},{"$f":"InteractiveProcess!B138","v":0},{"$f":"InteractiveProcess!B168","v":0},{"$f":"InteractiveProcess!B261","v":0},{"$f":"InteractiveProcess!B380","v":0},{"$f":"InteractiveProcess!B522","v":8.6059840283389129},{"$f":"IF(AND(InteractiveProcess!B$20=\"GRADE\",InteractiveProcess!B$17=\"SPLIT\"), Width_Distribution!E28,IF(AND(InteractiveProcess!B$20=\"GRADE\",InteractiveProcess!B$17=\"FULL\"), Width_Distribution!F28, IF(AND(OR(InteractiveProcess!B$20=\"SLAB\", InteractiveProcess!B$20=\"LIVE\"),InteractiveProcess!F$244=1), Width_Distribution!A28,IF(AND(OR(InteractiveProcess!B$20=\"SLAB\", InteractiveProcess!B$20=\"LIVE\"),InteractiveProcess!F$244=2), Width_Distribution!B28,IF(AND(OR(InteractiveProcess!$B44=\"SLAB\", InteractiveProcess!B$20=\"LIVE\"),InteractiveProcess!F$244=3), Width_Distribution!C28, Width_Distribution!D28)))))","v":0}]
[{"$f":"InteractiveProcess!B45","v":0},{"$f":"InteractiveProcess!B139","v":0},{"$f":"InteractiveProcess!B169","v":0},{"$f":"InteractiveProcess!B262","v":0},{"$f":"InteractiveProcess!B401","v":7.8150397971495282},{"$f":"InteractiveProcess!B523","v":7.2968840283389129},{"$f":"IF(AND(InteractiveProcess!B$20=\"GRADE\",InteractiveProcess!B$17=\"SPLIT\"), Width_Distribution!E29,IF(AND(InteractiveProcess!B$20=\"GRADE\",InteractiveProcess!B$17=\"FULL\"), Width_Distribution!F29, IF(AND(OR(InteractiveProcess!B$20=\"SLAB\", InteractiveProcess!B$20=\"LIVE\"),InteractiveProcess!F$244=1), Width_Distribution!A29,IF(AND(OR(InteractiveProcess!B$20=\"SLAB\", InteractiveProcess!B$20=\"LIVE\"),InteractiveProcess!F$244=2), Width_Distribution!B29,IF(AND(OR(InteractiveProcess!$B45=\"SLAB\", InteractiveProcess!B$20=\"LIVE\"),InteractiveProcess!F$244=3), Width_Distribution!C29, Width_Distribution!D29)))))","v":7.8150397971495282}]
[{"$f":"InteractiveProcess!B46","v":0},{"$f":"InteractiveProcess!B140","v":0},{"$f":"InteractiveProcess!B170","v":0},{"$f":"InteractiveProcess!B263","v":0},{"$f":"InteractiveProcess!B403","v":0},{"$f":"InteractiveProcess!B524","v":0},{"$f":"IF(AND(InteractiveProcess!B$20=\"GRADE\",InteractiveProcess!B$17=\"SPLIT\"), Width_Distribution!E30,IF(AND(InteractiveProcess!B$20=\"GRADE\",InteractiveProcess!B$17=\"FULL\"), Width_Distribution!F30, IF(AND(OR(InteractiveProcess!B$20=\"SLAB\", InteractiveProcess!B$20=\"LIVE\"),InteractiveProcess!F$244=1), Width_Distribution!A30,IF(AND(OR(InteractiveProcess!B$20=\"SLAB\", InteractiveProcess!B$20=\"LIVE\"),InteractiveProcess!F$244=2), Width_Distribution!B30,IF(AND(OR(InteractiveProcess!$B46=\"SLAB\", InteractiveProcess!B$20=\"LIVE\"),InteractiveProcess!F$244=3), Width_Distribution!C30, Width_Distribution!D30)))))","v":0}]
[{"$f":"InteractiveProcess!B47","v":0},{"$f":"InteractiveProcess!B141","v":0},{"$f":"InteractiveProcess!B171","v":0},{"$f":"InteractiveProcess!B264","v":0},{"$f":"InteractiveProcess!B404","v":6.5059397971495283},{"$f":"InteractiveProcess!B525","v":7.2968840283389129},{"$f":"IF(AND(InteractiveProcess!B$20=\"GRADE\",InteractiveProcess!B$17=\"SPLIT\"), Width_Distribution!E31,IF(AND(InteractiveProcess!B$20=\"GRADE\",InteractiveProcess!B$17=\"FULL\"), Width_Distribution!F31, IF(AND(OR(InteractiveProcess!B$20=\"SLAB\", InteractiveProcess!B$20=\"LIVE\"),InteractiveProcess!F$244=1), Width_Distribution!A31,IF(AND(OR(InteractiveProcess!B$20=\"SLAB\", InteractiveProcess!B$20=\"LIVE\"),InteractiveProcess!F$244=2), Width_Distribution!B31,IF(AND(OR(InteractiveProcess!$B47=\"SLAB\", InteractiveProcess!B$20=\"LIVE\"),InteractiveProcess!F$244=3), Width_Distribution!C31, Width_Distribution!D31)))))","v":6.5059397971495283}]
[{"$f":"InteractiveProcess!B48","v":0},{"$f":"InteractiveProcess!B142","v":0},{"$f":"InteractiveProcess!B172","v":0},{"$f":"InteractiveProcess!B265","v":0},{"$f":"InteractiveProcess!B408","v":0},{"$f":"InteractiveProcess!B529","v":0},{"$f":"IF(AND(InteractiveProcess!B$20=\"GRADE\",InteractiveProcess!B$17=\"SPLIT\"), Width_Distribution!E32,IF(AND(InteractiveProcess!B$20=\"GRADE\",InteractiveProcess!B$17=\"FULL\"), Width_Distribution!F32, IF(AND(OR(InteractiveProcess!B$20=\"SLAB\", InteractiveProcess!B$20=\"LIVE\"),InteractiveProcess!F$244=1), Width_Distribution!A32,IF(AND(OR(InteractiveProcess!B$20=\"SLAB\", InteractiveProcess!B$20=\"LIVE\"),InteractiveProcess!F$244=2), Width_Distribution!B32,IF(AND(OR(InteractiveProcess!$B48=\"SLAB\", InteractiveProcess!B$20=\"LIVE\"),InteractiveProcess!F$244=3), Width_Distribution!C32, Width_Distribution!D32)))))","v":0}]
[{"$f":"InteractiveProcess!B49","v":0},{"$f":"InteractiveProcess!B143","v":8.0965990115476156},{"$f":"InteractiveProcess!B177","v":0},{"$f":"InteractiveProcess!B270","v":0},{"$f":"InteractiveProcess!B409","v":6.5059397971495283},{"$f":"InteractiveProcess!B530","v":7.2968840283389129},{"$f":"IF(AND(InteractiveProcess!B$20=\"GRADE\",InteractiveProcess!B$17=\"SPLIT\"), Width_Distribution!E33,IF(AND(InteractiveProcess!B$20=\"GRADE\",InteractiveProcess!B$17=\"FULL\"), Width_Distribution!F33, IF(AND(OR(InteractiveProcess!B$20=\"SLAB\", InteractiveProcess!B$20=\"LIVE\"),InteractiveProcess!F$244=1), Width_Distribution!A33,IF(AND(OR(InteractiveProcess!B$20=\"SLAB\", InteractiveProcess!B$20=\"LIVE\"),InteractiveProcess!F$244=2), Width_Distribution!B33,IF(AND(OR(InteractiveProcess!$B49=\"SLAB\", InteractiveProcess!B$20=\"LIVE\"),InteractiveProcess!F$244=3), Width_Distribution!C33, Width_Distribution!D33)))))","v":6.5059397971495283}]
[{"$f":"InteractiveProcess!B50","v":0},null,{"$f":"InteractiveProcess!B178","v":0},{"$f":"InteractiveProcess!B271","v":0},{"$f":"InteractiveProcess!B410","v":0},{"$f":"InteractiveProcess!B531","v":0},{"$f":"IF(AND(InteractiveProcess!B$20=\"GRADE\",InteractiveProcess!B$17=\"SPLIT\"), Width_Distribution!E34,IF(AND(InteractiveProcess!B$20=\"GRADE\",InteractiveProcess!B$17=\"FULL\"), Width_Distribution!F34, IF(AND(OR(InteractiveProcess!B$20=\"SLAB\", InteractiveProcess!B$20=\"LIVE\"),InteractiveProcess!F$244=1), Width_Distribution!A34,IF(AND(OR(InteractiveProcess!B$20=\"SLAB\", InteractiveProcess!B$20=\"LIVE\"),InteractiveProcess!F$244=2), Width_Distribution!B34,IF(AND(OR(InteractiveProcess!$B50=\"SLAB\", InteractiveProcess!B$20=\"LIVE\"),InteractiveProcess!F$244=3), Width_Distribution!C34, Width_Distribution!D34)))))","v":0}]
[{"$f":"InteractiveProcess!B51","v":0},null,{"$f":"InteractiveProcess!B179","v":0},{"$f":"InteractiveProcess!B272","v":0},{"$f":"InteractiveProcess!B411","v":6.5059397971495283},{"$f":"InteractiveProcess!B532","v":7.2968840283389129},{"$f":"IF(AND(InteractiveProcess!B$20=\"GRADE\",InteractiveProcess!B$17=\"SPLIT\"), Width_Distribution!E35,IF(AND(InteractiveProcess!B$20=\"GRADE\",InteractiveProcess!B$17=\"FULL\"), Width_Distribution!F35, IF(AND(OR(InteractiveProcess!B$20=\"SLAB\", InteractiveProcess!B$20=\"LIVE\"),InteractiveProcess!F$244=1), Width_Distribution!A35,IF(AND(OR(InteractiveProcess!B$20=\"SLAB\", InteractiveProcess!B$20=\"LIVE\"),InteractiveProcess!F$244=2), Width_Distribution!B35,IF(AND(OR(InteractiveProcess!$B51=\"SLAB\", InteractiveProcess!B$20=\"LIVE\"),InteractiveProcess!F$244=3), Width_Distribution!C35, Width_Distribution!D35)))))","v":6.5059397971495283}]
[{"$f":"InteractiveProcess!B52","v":0},null,{"$f":"InteractiveProcess!B180","v":0},{"$f":"InteractiveProcess!B273","v":0},{"$f":"InteractiveProcess!B415","v":0},{"$f":"InteractiveProcess!B536","v":0},{"$f":"IF(AND(InteractiveProcess!B$20=\"GRADE\",InteractiveProcess!B$17=\"SPLIT\"), Width_Distribution!E36,IF(AND(InteractiveProcess!B$20=\"GRADE\",InteractiveProcess!B$17=\"FULL\"), Width_Distribution!F36, IF(AND(OR(InteractiveProcess!B$20=\"SLAB\", InteractiveProcess!B$20=\"LIVE\"),InteractiveProcess!F$244=1), Width_Distribution!A36,IF(AND(OR(InteractiveProcess!B$20=\"SLAB\", InteractiveProcess!B$20=\"LIVE\"),InteractiveProcess!F$244=2), Width_Distribution!B36,IF(AND(OR(InteractiveProcess!$B52=\"SLAB\", InteractiveProcess!B$20=\"LIVE\"),InteractiveProcess!F$244=3), Width_Distribution!C36, Width_Distribution!D36)))))","v":0}]
[{"$f":"InteractiveProcess!B53","v":17.063045078038538},null,{"$f":"InteractiveProcess!B181","v":0},{"$f":"InteractiveProcess!B274","v":0},{"$f":"InteractiveProcess!B416","v":6.5059397971495283},{"$f":"InteractiveProcess!B537","v":7.2968840283389129},{"$f":"IF(AND(InteractiveProcess!B$20=\"GRADE\",InteractiveProcess!B$17=\"SPLIT\"), Width_Distribution!E37,IF(AND(InteractiveProcess!B$20=\"GRADE\",InteractiveProcess!B$17=\"FULL\"), Width_Distribution!F37, IF(AND(OR(InteractiveProcess!B$20=\"SLAB\", InteractiveProcess!B$20=\"LIVE\"),InteractiveProcess!F$244=1), Width_Distribution!A37,IF(AND(OR(InteractiveProcess!B$20=\"SLAB\", InteractiveProcess!B$20=\"LIVE\"),InteractiveProcess!F$244=2), Width_Distribution!B37,IF(AND(OR(InteractiveProcess!$B53=\"SLAB\", InteractiveProcess!B$20=\"LIVE\"),InteractiveProcess!F$244=3), Width_Distribution!C37, Width_Distribution!D37)))))","v":6.5059397971495283}]
[{"$f":"InteractiveProcess!B54","v":15.154534609198047},null,{"$f":"InteractiveProcess!B182","v":0},{"$f":"InteractiveProcess!B275","v":0},{"$f":"InteractiveProcess!B417","v":0},{"$f":"InteractiveProcess!B538","v":0},{"$f":"IF(AND(InteractiveProcess!B$20=\"GRADE\",InteractiveProcess!B$17=\"SPLIT\"), Width_Distribution!E38,IF(AND(InteractiveProcess!B$20=\"GRADE\",InteractiveProcess!B$17=\"FULL\"), Width_Distribution!F38, IF(AND(OR(InteractiveProcess!B$20=\"SLAB\", InteractiveProcess!B$20=\"LIVE\"),InteractiveProcess!F$244=1), Width_Distribution!A38,IF(AND(OR(InteractiveProcess!B$20=\"SLAB\", InteractiveProcess!B$20=\"LIVE\"),InteractiveProcess!F$244=2), Width_Distribution!B38,IF(AND(OR(InteractiveProcess!$B54=\"SLAB\", InteractiveProcess!B$20=\"LIVE\"),InteractiveProcess!F$244=3), Width_Distribution!C38, Width_Distribution!D38)))))","v":0}]
[{"$f":"InteractiveProcess!B55","v":12.428289851286362},null,{"$f":"InteractiveProcess!B183","v":0},{"$f":"InteractiveProcess!B276","v":0},{"$f":"InteractiveProcess!B418","v":0},{"$f":"InteractiveProcess!B539","v":7.2968840283389129},{"$f":"IF(AND(InteractiveProcess!B$20=\"GRADE\",InteractiveProcess!B$17=\"SPLIT\"), Width_Distribution!E39,IF(AND(InteractiveProcess!B$20=\"GRADE\",InteractiveProcess!B$17=\"FULL\"), Width_Distribution!F39, IF(AND(OR(InteractiveProcess!B$20=\"SLAB\", InteractiveProcess!B$20=\"LIVE\"),InteractiveProcess!F$244=1), Width_Distribution!A39,IF(AND(OR(InteractiveProcess!B$20=\"SLAB\", InteractiveProcess!B$20=\"LIVE\"),InteractiveProcess!F$244=2), Width_Distribution!B39,IF(AND(OR(InteractiveProcess!$B55=\"SLAB\", InteractiveProcess!B$20=\"LIVE\"),InteractiveProcess!F$244=3), Width_Distribution!C39, Width_Distribution!D39)))))","v":0}]
[{"$f":"InteractiveProcess!B71","v":6},null,{"$f":"InteractiveProcess!B184","v":0},{"$f":"InteractiveProcess!B277","v":0},{"$f":"InteractiveProcess!B422","v":0},{"$f":"InteractiveProcess!B543","v":0},{"$f":"IF(AND(InteractiveProcess!B$20=\"GRADE\",InteractiveProcess!B$17=\"SPLIT\"), Width_Distribution!E40,IF(AND(InteractiveProcess!B$20=\"GRADE\",InteractiveProcess!B$17=\"FULL\"), Width_Distribution!F40, IF(AND(OR(InteractiveProcess!B$20=\"SLAB\", InteractiveProcess!B$20=\"LIVE\"),InteractiveProcess!F$244=1), Width_Distribution!A40,IF(AND(OR(InteractiveProcess!B$20=\"SLAB\", InteractiveProcess!B$20=\"LIVE\"),InteractiveProcess!F$244=2), Width_Distribution!B40,IF(AND(OR(InteractiveProcess!$B56=\"SLAB\", InteractiveProcess!B$20=\"LIVE\"),InteractiveProcess!F$244=3), Width_Distribution!C40, Width_Distribution!D40)))))","v":0}]
[{"$f":"InteractiveProcess!B72","v":6},null,{"$f":"InteractiveProcess!B185","v":0},{"$f":"InteractiveProcess!B278","v":0},{"$f":"InteractiveProcess!B423","v":0},{"$f":"InteractiveProcess!B544","v":0},{"$f":"IF(AND(InteractiveProcess!B$20=\"GRADE\",InteractiveProcess!B$17=\"SPLIT\"), Width_Distribution!E41,IF(AND(InteractiveProcess!B$20=\"GRADE\",InteractiveProcess!B$17=\"FULL\"), Width_Distribution!F41, IF(AND(OR(InteractiveProcess!B$20=\"SLAB\", InteractiveProcess!B$20=\"LIVE\"),InteractiveProcess!F$244=1), Width_Distribution!A41,IF(AND(OR(InteractiveProcess!B$20=\"SLAB\", InteractiveProcess!B$20=\"LIVE\"),InteractiveProcess!F$244=2), Width_Distribution!B41,IF(AND(OR(InteractiveProcess!$B57=\"SLAB\", InteractiveProcess!B$20=\"LIVE\"),InteractiveProcess!F$244=3), Width_Distribution!C41, Width_Distribution!D41)))))","v":0}]
[{"$f":"InteractiveProcess!B73","v":6},null,{"$f":"InteractiveProcess!B208","v":6},{"$f":"InteractiveProcess!B301","v":6},{"$f":"InteractiveProcess!B424","v":0},{"$f":"InteractiveProcess!B545","v":0},{"$f":"IF(AND(InteractiveProcess!B$20=\"GRADE\",InteractiveProcess!B$17=\"SPLIT\"), Width_Distribution!E42,IF(AND(InteractiveProcess!B$20=\"GRADE\",InteractiveProcess!B$17=\"FULL\"), Width_Distribution!F42, IF(AND(OR(InteractiveProcess!B$20=\"SLAB\", InteractiveProcess!B$20=\"LIVE\"),InteractiveProcess!F$244=1), Width_Distribution!A42,IF(AND(OR(InteractiveProcess!B$20=\"SLAB\", InteractiveProcess!B$20=\"LIVE\"),InteractiveProcess!F$244=2), Width_Distribution!B42,IF(AND(OR(InteractiveProcess!$B58=\"SLAB\", InteractiveProcess!B$20=\"LIVE\"),InteractiveProcess!F$244=3), Width_Distribution!C42, Width_Distribution!D42)))))","v":0}]
[{"$f":"InteractiveProcess!B74","v":6},null,{"$f":"InteractiveProcess!B209","v":6},{"$f":"InteractiveProcess!B302","v":0},{"$f":"InteractiveProcess!B425","v":0},{"$f":"InteractiveProcess!B546","v":0},{"$f":"IF(AND(InteractiveProcess!B$20=\"GRADE\",InteractiveProcess!B$17=\"SPLIT\"), Width_Distribution!E43,IF(AND(InteractiveProcess!B$20=\"GRADE\",InteractiveProcess!B$17=\"FULL\"), Width_Distribution!F43, IF(AND(OR(InteractiveProcess!B$20=\"SLAB\", InteractiveProcess!B$20=\"LIVE\"),InteractiveProcess!F$244=1), Width_Distribution!A43,IF(AND(OR(InteractiveProcess!B$20=\"SLAB\", InteractiveProcess!B$20=\"LIVE\"),InteractiveProcess!F$244=2), Width_Distribution!B43,IF(AND(OR(InteractiveProcess!$B59=\"SLAB\", InteractiveProcess!B$20=\"LIVE\"),InteractiveProcess!F$244=3), Width_Distribution!C43, Width_Distribution!D43)))))","v":0}]
[{"$f":"InteractiveProcess!B75","v":6},null,{"$f":"InteractiveProcess!B210","v":0},{"$f":"InteractiveProcess!B303","v":0},{"$f":"InteractiveProcess!B429","v":0},{"$f":"InteractiveProcess!B550","v":0},{"$f":"IF(AND(InteractiveProcess!B$20=\"GRADE\",InteractiveProcess!B$17=\"SPLIT\"), Width_Distribution!E44,IF(AND(InteractiveProcess!B$20=\"GRADE\",InteractiveProcess!B$17=\"FULL\"), Width_Distribution!F44, IF(AND(OR(InteractiveProcess!B$20=\"SLAB\", InteractiveProcess!B$20=\"LIVE\"),InteractiveProcess!F$244=1), Width_Distribution!A44,IF(AND(OR(InteractiveProcess!B$20=\"SLAB\", InteractiveProcess!B$20=\"LIVE\"),InteractiveProcess!F$244=2), Width_Distribution!B44,IF(AND(OR(InteractiveProcess!$B60=\"SLAB\", InteractiveProcess!B$20=\"LIVE\"),InteractiveProcess!F$244=3), Width_Distribution!C44, Width_Distribution!D44)))))","v":0}]
[{"$f":"InteractiveProcess!B76","v":0},null,{"$f":"InteractiveProcess!B211","v":0},{"$f":"InteractiveProcess!B304","v":0},{"$f":"InteractiveProcess!B430","v":0},{"$f":"InteractiveProcess!B551","v":0},{"$f":"IF(AND(InteractiveProcess!B$20=\"GRADE\",InteractiveProcess!B$17=\"SPLIT\"), Width_Distribution!E45,IF(AND(InteractiveProcess!B$20=\"GRADE\",InteractiveProcess!B$17=\"FULL\"), Width_Distribution!F45, IF(AND(OR(InteractiveProcess!B$20=\"SLAB\", InteractiveProcess!B$20=\"LIVE\"),InteractiveProcess!F$244=1), Width_Distribution!A45,IF(AND(OR(InteractiveProcess!B$20=\"SLAB\", InteractiveProcess!B$20=\"LIVE\"),InteractiveProcess!F$244=2), Width_Distribution!B45,IF(AND(OR(InteractiveProcess!$B61=\"SLAB\", InteractiveProcess!B$20=\"LIVE\"),InteractiveProcess!F$244=3), Width_Distribution!C45, Width_Distribution!D45)))))","v":0}]
[{"$f":"InteractiveProcess!B77","v":0},null,{"$f":"InteractiveProcess!B212","v":0},{"$f":"InteractiveProcess!B305","v":0},{"$f":"InteractiveProcess!B431","v":0},{"$f":"InteractiveProcess!B552","v":0},{"$f":"IF(AND(InteractiveProcess!B$20=\"GRADE\",InteractiveProcess!B$17=\"SPLIT\"), Width_Distribution!E46,IF(AND(InteractiveProcess!B$20=\"GRADE\",InteractiveProcess!B$17=\"FULL\"), Width_Distribution!F46, IF(AND(OR(InteractiveProcess!B$20=\"SLAB\", InteractiveProcess!B$20=\"LIVE\"),InteractiveProcess!F$244=1), Width_Distribution!A46,IF(AND(OR(InteractiveProcess!B$20=\"SLAB\", InteractiveProcess!B$20=\"LIVE\"),InteractiveProcess!F$244=2), Width_Distribution!B46,IF(AND(OR(InteractiveProcess!$B62=\"SLAB\", InteractiveProcess!B$20=\"LIVE\"),InteractiveProcess!F$244=3), Width_Distribution!C46, Width_Distribution!D46)))))","v":0}]
[{"$f":"InteractiveProcess!B78","v":0},null,{"$f":"InteractiveProcess!B213","v":0},{"$f":"InteractiveProcess!B306","v":0},{"$f":"InteractiveProcess!B432","v":0},{"$f":"InteractiveProcess!B553","v":0},{"$f":"IF(AND(InteractiveProcess!B$20=\"GRADE\",InteractiveProcess!B$17=\"SPLIT\"), Width_Distribution!E47,IF(AND(InteractiveProcess!B$20=\"GRADE\",InteractiveProcess!B$17=\"FULL\"), Width_Distribution!F47, IF(AND(OR(InteractiveProcess!B$20=\"SLAB\", InteractiveProcess!B$20=\"LIVE\"),InteractiveProcess!F$244=1), Width_Distribution!A47,IF(AND(OR(InteractiveProcess!B$20=\"SLAB\", InteractiveProcess!B$20=\"LIVE\"),InteractiveProcess!F$244=2), Width_Distribution!B47,IF(AND(OR(InteractiveProcess!$B63=\"SLAB\", InteractiveProcess!B$20=\"LIVE\"),InteractiveProcess!F$244=3), Width_Distribution!C47, Width_Distribution!D47)))))","v":0}]
[{"$f":"InteractiveProcess!B79","v":0},null,{"$f":"InteractiveProcess!B214","v":0},{"$f":"InteractiveProcess!B307","v":0},{"$f":"InteractiveProcess!B436","v":0},{"$f":"InteractiveProcess!B557","v":0},{"$f":"IF(AND(InteractiveProcess!B$20=\"GRADE\",InteractiveProcess!B$17=\"SPLIT\"), Width_Distribution!E48,IF(AND(InteractiveProcess!B$20=\"GRADE\",InteractiveProcess!B$17=\"FULL\"), Width_Distribution!F48, IF(AND(OR(InteractiveProcess!B$20=\"SLAB\", InteractiveProcess!B$20=\"LIVE\"),InteractiveProcess!F$244=1), Width_Distribution!A48,IF(AND(OR(InteractiveProcess!B$20=\"SLAB\", InteractiveProcess!B$20=\"LIVE\"),InteractiveProcess!F$244=2), Width_Distribution!B48,IF(AND(OR(InteractiveProcess!$B64=\"SLAB\", InteractiveProcess!B$20=\"LIVE\"),InteractiveProcess!F$244=3), Width_Distribution!C48, Width_Distribution!D48)))))","v":0}]
[{"$f":"InteractiveProcess!B80","v":0},null,{"$f":"InteractiveProcess!B215","v":0},{"$f":"InteractiveProcess!B308","v":0},{"$f":"InteractiveProcess!B437","v":0},{"$f":"InteractiveProcess!B558","v":0},{"$f":"IF(AND(InteractiveProcess!B$20=\"GRADE\",InteractiveProcess!B$17=\"SPLIT\"), Width_Distribution!E49,IF(AND(InteractiveProcess!B$20=\"GRADE\",InteractiveProcess!B$17=\"FULL\"), Width_Distribution!F49, IF(AND(OR(InteractiveProcess!B$20=\"SLAB\", InteractiveProcess!B$20=\"LIVE\"),InteractiveProcess!F$244=1), Width_Distribution!A49,IF(AND(OR(InteractiveProcess!B$20=\"SLAB\", InteractiveProcess!B$20=\"LIVE\"),InteractiveProcess!F$244=2), Width_Distribution!B49,IF(AND(OR(InteractiveProcess!$B65=\"SLAB\", InteractiveProcess!B$20=\"LIVE\"),InteractiveProcess!F$244=3), Width_Distribution!C49, Width_Distribution!D49)))))","v":0}]
[{"$f":"InteractiveProcess!B81","v":0},null,{"$f":"InteractiveProcess!B216","v":0},{"$f":"InteractiveProcess!B309","v":0},{"$f":"InteractiveProcess!B438","v":0},{"$f":"InteractiveProcess!B559","v":0},{"$f":"IF(AND(InteractiveProcess!B$20=\"GRADE\",InteractiveProcess!B$17=\"SPLIT\"), Width_Distribution!E50,IF(AND(InteractiveProcess!B$20=\"GRADE\",InteractiveProcess!B$17=\"FULL\"), Width_Distribution!F50, IF(AND(OR(InteractiveProcess!B$20=\"SLAB\", InteractiveProcess!B$20=\"LIVE\"),InteractiveProcess!F$244=1), Width_Distribution!A50,IF(AND(OR(InteractiveProcess!B$20=\"SLAB\", InteractiveProcess!B$20=\"LIVE\"),InteractiveProcess!F$244=2), Width_Distribution!B50,IF(AND(OR(InteractiveProcess!$B66=\"SLAB\", InteractiveProcess!B$20=\"LIVE\"),InteractiveProcess!F$244=3), Width_Distribution!C50, Width_Distribution!D50)))))","v":0}]
[{"$f":"InteractiveProcess!B82","v":0},null,{"$f":"InteractiveProcess!B219","v":0},{"$f":"InteractiveProcess!B312","v":0},{"$f":"InteractiveProcess!B439","v":0},{"$f":"InteractiveProcess!B560","v":0},{"$f":"IF(AND(InteractiveProcess!B$20=\"GRADE\",InteractiveProcess!B$17=\"SPLIT\"), Width_Distribution!E51,IF(AND(InteractiveProcess!B$20=\"GRADE\",InteractiveProcess!B$17=\"FULL\"), Width_Distribution!F51, IF(AND(OR(InteractiveProcess!B$20=\"SLAB\", InteractiveProcess!B$20=\"LIVE\"),InteractiveProcess!F$244=1), Width_Distribution!A51,IF(AND(OR(InteractiveProcess!B$20=\"SLAB\", InteractiveProcess!B$20=\"LIVE\"),InteractiveProcess!F$244=2), Width_Distribution!B51,IF(AND(OR(InteractiveProcess!$B67=\"SLAB\", InteractiveProcess!B$20=\"LIVE\"),InteractiveProcess!F$244=3), Width_Distribution!C51, Width_Distribution!D51)))))","v":0}]
[{"$f":"InteractiveProcess!B85","v":0},null,{"$f":"InteractiveProcess!B220","v":0},{"$f":"InteractiveProcess!B313","v":0},{"$f":"InteractiveProcess!B443","v":0},{"$f":"InteractiveProcess!B564","v":0},{"$f":"IF(AND(InteractiveProcess!B$20=\"GRADE\",InteractiveProcess!B$17=\"SPLIT\"), Width_Distribution!E52,IF(AND(InteractiveProcess!B$20=\"GRADE\",InteractiveProcess!B$17=\"FULL\"), Width_Distribution!F52, IF(AND(OR(InteractiveProcess!B$20=\"SLAB\", InteractiveProcess!B$20=\"LIVE\"),InteractiveProcess!F$244=1), Width_Distribution!A52,IF(AND(OR(InteractiveProcess!B$20=\"SLAB\", InteractiveProcess!B$20=\"LIVE\"),InteractiveProcess!F$244=2), Width_Distribution!B52,IF(AND(OR(InteractiveProcess!$B68=\"SLAB\", InteractiveProcess!B$20=\"LIVE\"),InteractiveProcess!F$244=3), Width_Distribution!C52, Width_Distribution!D52)))))","v":0}]
[{"$f":"InteractiveProcess!B86","v":0},null,{"$f":"InteractiveProcess!B221","v":0},{"$f":"InteractiveProcess!B314","v":0},{"$f":"InteractiveProcess!B444","v":0},{"$f":"InteractiveProcess!B565","v":0},{"$f":"IF(AND(InteractiveProcess!B$20=\"GRADE\",InteractiveProcess!B$17=\"SPLIT\"), Width_Distribution!E53,IF(AND(InteractiveProcess!B$20=\"GRADE\",InteractiveProcess!B$17=\"FULL\"), Width_Distribution!F53, IF(AND(OR(InteractiveProcess!B$20=\"SLAB\", InteractiveProcess!B$20=\"LIVE\"),InteractiveProcess!F$244=1), Width_Distribution!A53,IF(AND(OR(InteractiveProcess!B$20=\"SLAB\", InteractiveProcess!B$20=\"LIVE\"),InteractiveProcess!F$244=2), Width_Distribution!B53,IF(AND(OR(InteractiveProcess!$B69=\"SLAB\", InteractiveProcess!B$20=\"LIVE\"),InteractiveProcess!F$244=3), Width_Distribution!C53, Width_Distribution!D53)))))","v":0}]
[{"$f":"InteractiveProcess!B87","v":0},null,{"$f":"InteractiveProcess!B222","v":0},{"$f":"InteractiveProcess!B315","v":0},{"$f":"InteractiveProcess!B445","v":0},{"$f":"InteractiveProcess!B566","v":0},{"$f":"IF(AND(InteractiveProcess!B$20=\"GRADE\",InteractiveProcess!B$17=\"SPLIT\"), Width_Distribution!E54,IF(AND(InteractiveProcess!B$20=\"GRADE\",InteractiveProcess!B$17=\"FULL\"), Width_Distribution!F54, IF(AND(OR(InteractiveProcess!B$20=\"SLAB\", InteractiveProcess!B$20=\"LIVE\"),InteractiveProcess!F$244=1), Width_Distribution!A54,IF(AND(OR(InteractiveProcess!B$20=\"SLAB\", InteractiveProcess!B$20=\"LIVE\"),InteractiveProcess!F$244=2), Width_Distribution!B54,IF(AND(OR(InteractiveProcess!$B70=\"SLAB\", InteractiveProcess!B$20=\"LIVE\"),InteractiveProcess!F$244=3), Width_Distribution!C54, Width_Distribution!D54)))))","v":0}]
[{"$f":"InteractiveProcess!B88","v":0},null,{"$f":"InteractiveProcess!B223","v":0},{"$f":"InteractiveProcess!B316","v":0},{"$f":"InteractiveProcess!B446","v":0},{"$f":"InteractiveProcess!B567","v":0},{"$f":"IF(AND(InteractiveProcess!B$20=\"GRADE\",InteractiveProcess!B$17=\"SPLIT\"), Width_Distribution!E55,IF(AND(InteractiveProcess!B$20=\"GRADE\",InteractiveProcess!B$17=\"FULL\"), Width_Distribution!F55, IF(AND(OR(InteractiveProcess!B$20=\"SLAB\", InteractiveProcess!B$20=\"LIVE\"),InteractiveProcess!F$244=1), Width_Distribution!A55,IF(AND(OR(InteractiveProcess!B$20=\"SLAB\", InteractiveProcess!B$20=\"LIVE\"),InteractiveProcess!F$244=2), Width_Distribution!B55,IF(AND(OR(InteractiveProcess!$B71=\"SLAB\", InteractiveProcess!B$20=\"LIVE\"),InteractiveProcess!F$244=3), Width_Distribution!C55, Width_Distribution!D55)))))","v":0}]
[{"$f":"InteractiveProcess!B89","v":0},null,{"$f":"InteractiveProcess!B224","v":0},{"$f":"InteractiveProcess!B317","v":0},null,null,{"$f":"IF(AND(InteractiveProcess!B$20=\"GRADE\",InteractiveProcess!B$17=\"SPLIT\"), Width_Distribution!E56,IF(AND(InteractiveProcess!B$20=\"GRADE\",InteractiveProcess!B$17=\"FULL\"), Width_Distribution!F56, IF(AND(OR(InteractiveProcess!B$20=\"SLAB\", InteractiveProcess!B$20=\"LIVE\"),InteractiveProcess!F$244=1), Width_Distribution!A56,IF(AND(OR(InteractiveProcess!B$20=\"SLAB\", InteractiveProcess!B$20=\"LIVE\"),InteractiveProcess!F$244=2), Width_Distribution!B56,IF(AND(OR(InteractiveProcess!$B72=\"SLAB\", InteractiveProcess!B$20=\"LIVE\"),InteractiveProcess!F$244=3), Width_Distribution!C56, Width_Distribution!D56)))))","v":0}]
[{"$f":"InteractiveProcess!B90","v":0},null,{"$f":"InteractiveProcess!B225","v":0},{"$f":"InteractiveProcess!B318","v":0},null,null,{"$f":"IF(AND(InteractiveProcess!B$20=\"GRADE\",InteractiveProcess!B$17=\"SPLIT\"), Width_Distribution!E57,IF(AND(InteractiveProcess!B$20=\"GRADE\",InteractiveProcess!B$17=\"FULL\"), Width_Distribution!F57, IF(AND(OR(InteractiveProcess!B$20=\"SLAB\", InteractiveProcess!B$20=\"LIVE\"),InteractiveProcess!F$244=1), Width_Distribution!A57,IF(AND(OR(InteractiveProcess!B$20=\"SLAB\", InteractiveProcess!B$20=\"LIVE\"),InteractiveProcess!F$244=2), Width_Distribution!B57,IF(AND(OR(InteractiveProcess!$B73=\"SLAB\", InteractiveProcess!B$20=\"LIVE\"),InteractiveProcess!F$244=3), Width_Distribution!C57, Width_Distribution!D57)))))","v":0}]
[{"$f":"InteractiveProcess!B91","v":0},null,{"$f":"InteractiveProcess!B226","v":0},{"$f":"InteractiveProcess!B319","v":0},null,null,{"$f":"IF(AND(InteractiveProcess!B$20=\"GRADE\",InteractiveProcess!B$17=\"SPLIT\"), Width_Distribution!E58,IF(AND(InteractiveProcess!B$20=\"GRADE\",InteractiveProcess!B$17=\"FULL\"), Width_Distribution!F58, IF(AND(OR(InteractiveProcess!B$20=\"SLAB\", InteractiveProcess!B$20=\"LIVE\"),InteractiveProcess!F$244=1), Width_Distribution!A58,IF(AND(OR(InteractiveProcess!B$20=\"SLAB\", InteractiveProcess!B$20=\"LIVE\"),InteractiveProcess!F$244=2), Width_Distribution!B58,IF(AND(OR(InteractiveProcess!$B74=\"SLAB\", InteractiveProcess!B$20=\"LIVE\"),InteractiveProcess!F$244=3), Width_Distribution!C58, Width_Distribution!D58)))))","v":0}]
[{"$f":"InteractiveProcess!B92","v":0},null,{"$f":"InteractiveProcess!B227","v":6},{"$f":"InteractiveProcess!B320","v":6},null,null,{"$f":"IF(AND(InteractiveProcess!B$20=\"GRADE\",InteractiveProcess!B$17=\"SPLIT\"), Width_Distribution!E59,IF(AND(InteractiveProcess!B$20=\"GRADE\",InteractiveProcess!B$17=\"FULL\"), Width_Distribution!F59, IF(AND(OR(InteractiveProcess!B$20=\"SLAB\", InteractiveProcess!B$20=\"LIVE\"),InteractiveProcess!F$244=1), Width_Distribution!A59,IF(AND(OR(InteractiveProcess!B$20=\"SLAB\", InteractiveProcess!B$20=\"LIVE\"),InteractiveProcess!F$244=2), Width_Distribution!B59,IF(AND(OR(InteractiveProcess!$B75=\"SLAB\", InteractiveProcess!B$20=\"LIVE\"),InteractiveProcess!F$244=3), Width_Distribution!C59, Width_Distribution!D59)))))","v":0}]
[{"$f":"InteractiveProcess!B93","v":6},null,null,null,null,null,{"$f":"IF(AND(InteractiveProcess!B$20=\"GRADE\",InteractiveProcess!B$17=\"SPLIT\"), Width_Distribution!E60,IF(AND(InteractiveProcess!B$20=\"GRADE\",InteractiveProcess!B$17=\"FULL\"), Width_Distribution!F60, IF(AND(OR(InteractiveProcess!B$20=\"SLAB\", InteractiveProcess!B$20=\"LIVE\"),InteractiveProcess!F$244=1), Width_Distribution!A60,IF(AND(OR(InteractiveProcess!B$20=\"SLAB\", InteractiveProcess!B$20=\"LIVE\"),InteractiveProcess!F$244=2), Width_Distribution!B60,IF(AND(OR(InteractiveProcess!$B76=\"SLAB\", InteractiveProcess!B$20=\"LIVE\"),InteractiveProcess!F$244=3), Width_Distribution!C60, Width_Distribution!D60)))))","v":0}]
[{"$f":"InteractiveProcess!B94","v":6},null,null,null,null,null,{"$f":"IF(AND(InteractiveProcess!B$20=\"GRADE\",InteractiveProcess!B$17=\"SPLIT\"), Width_Distribution!E61,IF(AND(InteractiveProcess!B$20=\"GRADE\",InteractiveProcess!B$17=\"FULL\"), Width_Distribution!F61, IF(AND(OR(InteractiveProcess!B$20=\"SLAB\", InteractiveProcess!B$20=\"LIVE\"),InteractiveProcess!F$244=1), Width_Distribution!A61,IF(AND(OR(InteractiveProcess!B$20=\"SLAB\", InteractiveProcess!B$20=\"LIVE\"),InteractiveProcess!F$244=2), Width_Distribution!B61,IF(AND(OR(InteractiveProcess!$B77=\"SLAB\", InteractiveProcess!B$20=\"LIVE\"),InteractiveProcess!F$244=3), Width_Distribution!C61, Width_Distribution!D61)))))","v":0}]
[{"$f":"InteractiveProcess!B95","v":6},null,null,null,null,null,{"$f":"IF(AND(InteractiveProcess!B$20=\"GRADE\",InteractiveProcess!B$17=\"SPLIT\"), Width_Distribution!E62,IF(AND(InteractiveProcess!B$20=\"GRADE\",InteractiveProcess!B$17=\"FULL\"), Width_Distribution!F62, IF(AND(OR(InteractiveProcess!B$20=\"SLAB\", InteractiveProcess!B$20=\"LIVE\"),InteractiveProcess!F$244=1), Width_Distribution!A62,IF(AND(OR(InteractiveProcess!B$20=\"SLAB\", InteractiveProcess!B$20=\"LIVE\"),InteractiveProcess!F$244=2), Width_Distribution!B62,IF(AND(OR(InteractiveProcess!$B78=\"SLAB\", InteractiveProcess!B$20=\"LIVE\"),InteractiveProcess!F$244=3), Width_Distribution!C62, Width_Distribution!D62)))))","v":0}]
[{"$f":"InteractiveProcess!B96","v":6},null,null,null,null,null,{"$f":"IF(AND(InteractiveProcess!B$20=\"GRADE\",InteractiveProcess!B$17=\"SPLIT\"), Width_Distribution!E63,IF(AND(InteractiveProcess!B$20=\"GRADE\",InteractiveProcess!B$17=\"FULL\"), Width_Distribution!F63, IF(AND(OR(InteractiveProcess!B$20=\"SLAB\", InteractiveProcess!B$20=\"LIVE\"),InteractiveProcess!F$244=1), Width_Distribution!A63,IF(AND(OR(InteractiveProcess!B$20=\"SLAB\", InteractiveProcess!B$20=\"LIVE\"),InteractiveProcess!F$244=2), Width_Distribution!B63,IF(AND(OR(InteractiveProcess!$B79=\"SLAB\", InteractiveProcess!B$20=\"LIVE\"),InteractiveProcess!F$244=3), Width_Distribution!C63, Width_Distribution!D63)))))","v":0}]

{"sheet":"Operation Costs","index":13,"n_rows":74,"n_cols":5,"rows_kept":74,"cut":false,"hidden":false,"merged":[[33,3,33,4],[53,1,53,2],[62,1,62,2],[48,1,48,2],[40,1,40,2],[34,1,34,2],[29,1,29,2],[21,1,21,2],[16,1,16,2],[58,1,58,2],[69,1,69,2],[69,3,69,4],[70,3,70,4],[71,3,71,4],[72,3,72,4],[73,3,73,4]]}
[null,"Average machine cost calculations -"]
[null,"per hour with varying utilization rates"]
[]
["#"]
[1,"Description","Source of Calculation or Formula","Unit"]
[2,"space requirement","layout","sqft",0]
[3,"cost of space per year per sqft","company accounting","$/sqft",0]
[4,"machine energy consumption per hour","users' manual, company information","kWh, gal, t",1]
[5,"cost of energy per hour","market prices","$ / kWh, gal, t",4]
[6,"fixed energy cost as % of total energy costs","company accounting","%",10]
[7,"depreciation period (straight line depreciation)","IRS","years",10]
[8,"assumed interest rate","company information","%",5]
[9,"estimation of start-up and training costs","percentage of purchase price incl. installation","%",5]
[10,"estimated labor overhead costs (benefits)","percentage of total labor costs","%",50]
[11,"total working hours per year","company information","hours",1801]
[]
[12,"Labor Requirements"]
[13,"# of skilled operators (employee)","company information","person(s)",1]
[14,"# of unskilled operators (employee)","company information","person(s)",1]
[15,"# of supervising employees","company information","person(s)",0]
[]
[16,"Labor costs"]
[17,"labor cost skilled employee","company accounting","$ / year",50000]
[18,"cost benefits skilled employee","=#17x(#10/100)","$ / year",{"$f":"E23*(E$14/100)","v":25000}]
[19,"labor cost unskilled employee","company accounting","$ / year",35000]
[20,"cost benefits unskilled employee","=#19x(#10/100)","$ / year",{"$f":"E25*(E$14/100)","v":17500}]
[21,"supervisor cost","company accounting","$ / year",65000]
[22,"cost benefits supervisor","=#21x(#10/100)","$ / year",{"$f":"E27*(E$14/100)","v":32500}]
[]
[23,"Investment"]
[24,"purchase price incl. transport and installation","final invoice","$",55000]
[25,"cost of start-up and training","=#9 x#24","$",{"$f":"(E13/100)*E31","v":2750}]
[26,"Total investment","=#24+#25","$",{"$f":"SUM(E31+E32)","v":57750}]
[null,null,"  ","Cost Type"]
[27,"Operating Cost: Labor per year",null,"Fixed","Variable"]
[28,"total skilled employee cost","=#13*(#17+#18)",null,{"$f":"E18*(E23+E24)","v":75000}]
[29,"total unskilled employee cost","=#14*(#19+#20)",null,{"$f":"E19*(E25+E26)","v":52500}]
[30,"total supervisor cost","=#15*(#21+#22)",null,{"$f":"E20*(E27+E28)","v":0}]
[31,"Total labor cost","=#28+#29+#30",{"$f":"D36+D37+D38","v":0},{"$f":"E36+E37+E38","v":127500}]
[]
[32,"Operating Cost per Year"]
[33,"tools, blades, and jigs","estimation",0,2400]
[34,"space cost","=#2x#3",{"$f":"E6*E7","v":0}]
[35,"fixed energy cost","=#4x#5x(#6/100)x#11",{"$f":"E8*E9*(E10/100)*E15","v":720.40000000000009}]
[36,"variable energy cost","=#4x#5x(1-(#6/100)x#11",null,{"$f":"E8*E9*(1-(E10/100))*E15","v":6483.6}]
[37,"maintenance cost","estimation",100,500]
[38,"Total operating cost","=#33+#34+#35+#36+#37",{"$f":"D42+D43+D44+D46","v":820.40000000000009},{"$f":"E42+E43+E45+E46","v":9383.6}]
[]
[39,"Capital Cost per Year"]
[40,"depreciation","=#26x(1/#7)",{"$f":"E33*(1/E11)","v":5775}]
[41,"interest","=#26x(#8/100) ",{"$f":"E33*(E12/100)","v":2887.5}]
[42,"Total capital cost","=#40+#41",{"$f":"SUM(D50+D51)","v":8662.5}]
[]
[43,"Overhead and Miscellaneous Cost per Year"]
[44,"production overhead","estimation",0,0]
[45,"miscellaneous cost","estimation",0,0]
[46,"Total overhead and miscellaneous cost","=#44+#45",{"$f":"D55+D56","v":0},{"$f":"E55+E56","v":0}]
[]
[47,"Cost Allocation"]
[48,"Total fixed cost per year","=#31+#38+#42+#46",{"$f":"D39+D47+D52+D57","v":9482.9}]
[49,"Total variable cost per year","=#31+#38+#42+#46",null,{"$f":"E39+E47+E52+E57","v":136883.6}]
[]
[50,"Equipment Operating Cost per Hour"]
[51,"variable cost (quantity-dependent)","=#49/#11",null,{"$f":"(E61/E15)","v":76.004219877845642}]
[52,"fixed cost (time-dependent) at % utilization"]
[53,"100% utilization level","=#48/#11",{"$f":"(D60/E15)","v":5.2653525818989451}]
[54,"80% utilization level","=#48/(#11x0.8)",{"$f":"(D60/(E15*0.8))","v":6.5816907273736804}]
[55,"60% utilization level","=#48/(#11x0.6)",{"$f":"(D60/(E15*0.6))","v":8.7755876364982424}]
[56,"40% utilization level","=#48/(#11x0.4)",{"$f":"(D60/(E15*0.4))","v":13.163381454747361}]
[57,"Total Equipment Cost per Working Hour"]
[58,"100% utilization level","=#51+#53",{"$f":"(E64+D66)","v":81.26957245974458}]
[59,"80% utilization level","=#51+#54",{"$f":"(E64+D67)","v":82.585910605219325}]
[60,"60% utilization level","=#51+#55",{"$f":"(E64+D68)","v":84.779807514343887}]
[61,"40% utilization level","=#51+#56",{"$f":"(E64+D69)","v":89.167601332593009}]

{"sheet":"About","index":14,"n_rows":30,"n_cols":1,"rows_kept":30,"cut":false,"hidden":false,"merged":[]}
[]
[]
[]
[]
[]
[]
[]
[]
[]
[]
[]
[]
[]
[]
[]
[]
[]
[]
[]
[]
[]
[]
[]
[]
[]
[]
[]
[]
[]
["Go Hoos!"]

{"sheet":"Disclaimer","index":15,"n_rows":1,"n_cols":4,"rows_kept":1,"cut":false,"hidden":false,"merged":[[0,3,2,5]]}
[" ",null,null,"Disclaimers"]